{"text_format":"1","workbook":"xlsx","n_sheets":3,"sheets":["نقطه سفارش","یکسان سازی برند","موجودی خام اولیه با برندمتفاوت"],"not_rendered":{"charts":0,"images":0,"macros":1,"external_links":0,"defined_names":1,"comments":1,"pivot_tables":0},"unopened":[],"bounds":{"document_bytes":16777216,"sheet_cells":100000,"rows_first":2000,"rows_last":500,"rows_between":2000,"halvings":0,"cell_chars":16384,"cell_head_chars":4096},"cells_cut":0,"cells_raw":0,"read":"whole","date_system":"1900"}

{"sheet":"نقطه سفارش","index":0,"n_rows":1001,"n_cols":12,"rows_kept":1001,"cut":false,"hidden":false,"merged":[[0,0,0,11]]}
["نقطه سفارش اقلام تجهیزات پزشکی بیمارستان.......\n........ ماه 1402"]
["موجودی","شرح بدون در نظر گرفتن برند","کد","صادره","میانگین مصرف 1401","مدت زمان خریدکالا","نقطه سفارش","نقطه بحرانی","تعداد درخواستی","تعداد دریافتی","تعداد دریافتی","تعداد دریافتی"]
[{"$f":"IFERROR(INDEX('یکسان سازی برند'!I:I,MATCH(C:C,'یکسان سازی برند'!K:K,0)),0)","v":0},null,null,null,{"$f":"D3/12","v":0},1,{"$f":"(E3*F:F)+E3*20%","v":0},{"$f":"G3/2","v":0},{"$f":"E3*3","v":0}]
[{"$f":"IFERROR(INDEX('یکسان سازی برند'!I:I,MATCH(C:C,'یکسان سازی برند'!K:K,0)),0)","v":0},null,null,null,{"$f":"D4/12","v":0},1,{"$f":"(E4*F:F)+E4*20%","v":0},{"$f":"G4/2","v":0},{"$f":"E4*3","v":0}]
[{"$f":"IFERROR(INDEX('یکسان سازی برند'!I:I,MATCH(C:C,'یکسان سازی برند'!K:K,0)),0)","v":0},null,null,null,{"$f":"D5/12","v":0},1,0,0,{"$f":"E5*3","v":0}]
[{"$f":"IFERROR(INDEX('یکسان سازی برند'!I:I,MATCH(C:C,'یکسان سازی برند'!K:K,0)),0)","v":0},null,null,null,0,1,0,0,0]
[{"$f":"IFERROR(INDEX('یکسان سازی برند'!I:I,MATCH(C:C,'یکسان سازی برند'!K:K,0)),0)","v":0},null,null,null,0,1,0,0,0]
[{"$f":"IFERROR(INDEX('یکسان سازی برند'!I:I,MATCH(C:C,'یکسان سازی برند'!K:K,0)),0)","v":0},null,null,null,0,1,0,0,0]
[{"$f":"IFERROR(INDEX('یکسان سازی برند'!I:I,MATCH(C:C,'یکسان سازی برند'!K:K,0)),0)","v":0},null,null,null,0,1,0,0,0]
[{"$f":"IFERROR(INDEX('یکسان سازی برند'!I:I,MATCH(C:C,'یکسان سازی برند'!K:K,0)),0)","v":0},null,null,null,0,1,0,0,0]
[{"$f":"IFERROR(INDEX('یکسان سازی برند'!I:I,MATCH(C:C,'یکسان سازی برند'!K:K,0)),0)","v":0},null,null,null,0,1,0,0,0]
[{"$f":"IFERROR(INDEX('یکسان سازی برند'!I:I,MATCH(C:C,'یکسان سازی برند'!K:K,0)),0)","v":0},null,null,null,0,1,0,0,0]
[{"$f":"IFERROR(INDEX('یکسان سازی برند'!I:I,MATCH(C:C,'یکسان سازی برند'!K:K,0)),0)","v":0},null,null,null,0,1,0,0,0]
[{"$f":"IFERROR(INDEX('یکسان سازی برند'!I:I,MATCH(C:C,'یکسان سازی برند'!K:K,0)),0)","v":0},null,null,null,0,1,0,0,0]
[{"$f":"IFERROR(INDEX('یکسان سازی برند'!I:I,MATCH(C:C,'یکسان سازی برند'!K:K,0)),0)","v":0},null,null,null,0,1,0,0,0]
[{"$f":"IFERROR(INDEX('یکسان سازی برند'!I:I,MATCH(C:C,'یکسان سازی برند'!K:K,0)),0)","v":0},null,null,null,0,1,0,0,0]
[{"$f":"IFERROR(INDEX('یکسان سازی برند'!I:I,MATCH(C:C,'یکسان سازی برند'!K:K,0)),0)","v":0},null,null,null,0,1,0,0,0]
[{"$f":"IFERROR(INDEX('یکسان سازی برند'!I:I,MATCH(C:C,'یکسان سازی برند'!K:K,0)),0)","v":0},null,null,null,0,1,0,0,0]
[{"$f":"IFERROR(INDEX('یکسان سازی برند'!I:I,MATCH(C:C,'یکسان سازی برند'!K:K,0)),0)","v":0},null,null,null,0,1,0,0,0]
[{"$f":"IFERROR(INDEX('یکسان سازی برند'!I:I,MATCH(C:C,'یکسان سازی برند'!K:K,0)),0)","v":0},null,null,null,0,1,0,0,0]
[{"$f":"IFERROR(INDEX('یکسان سازی برند'!I:I,MATCH(C:C,'یکسان سازی برند'!K:K,0)),0)","v":0},null,null,null,0,1,0,0,0]
[{"$f":"IFERROR(INDEX('یکسان سازی برند'!I:I,MATCH(C:C,'یکسان سازی برند'!K:K,0)),0)","v":0},null,null,null,0,1,0,0,0]
[{"$f":"IFERROR(INDEX('یکسان سازی برند'!I:I,MATCH(C:C,'یکسان سازی برند'!K:K,0)),0)","v":0},null,null,null,0,1,0,0,0]
[{"$f":"IFERROR(INDEX('یکسان سازی برند'!I:I,MATCH(C:C,'یکسان سازی برند'!K:K,0)),0)","v":0},null,null,null,0,1,0,0,0]
[{"$f":"IFERROR(INDEX('یکسان سازی برند'!I:I,MATCH(C:C,'یکسان سازی برند'!K:K,0)),0)","v":0},null,null,null,0,1,0,0,0]
[{"$f":"IFERROR(INDEX('یکسان سازی برند'!I:I,MATCH(C:C,'یکسان سازی برند'!K:K,0)),0)","v":0},null,null,null,0,1,0,0,0]
[{"$f":"IFERROR(INDEX('یکسان سازی برند'!I:I,MATCH(C:C,'یکسان سازی برند'!K:K,0)),0)","v":0},null,null,null,0,1,0,0,0]
[{"$f":"IFERROR(INDEX('یکسان سازی برند'!I:I,MATCH(C:C,'یکسان سازی برند'!K:K,0)),0)","v":0},null,null,null,0,1,0,0,0]
[{"$f":"IFERROR(INDEX('یکسان سازی برند'!I:I,MATCH(C:C,'یکسان سازی برند'!K:K,0)),0)","v":0},null,null,null,0,1,0,0,0]
[{"$f":"IFERROR(INDEX('یکسان سازی برند'!I:I,MATCH(C:C,'یکسان سازی برند'!K:K,0)),0)","v":0},null,null,null,0,1,0,0,0]
[{"$f":"IFERROR(INDEX('یکسان سازی برند'!I:I,MATCH(C:C,'یکسان سازی برند'!K:K,0)),0)","v":0},null,null,null,0,1,0,0,0]
[{"$f":"IFERROR(INDEX('یکسان سازی برند'!I:I,MATCH(C:C,'یکسان سازی برند'!K:K,0)),0)","v":0},null,null,null,0,1,0,0,0]
[{"$f":"IFERROR(INDEX('یکسان سازی برند'!I:I,MATCH(C:C,'یکسان سازی برند'!K:K,0)),0)","v":0},null,null,null,0,1,0,0,0]
[{"$f":"IFERROR(INDEX('یکسان سازی برند'!I:I,MATCH(C:C,'یکسان سازی برند'!K:K,0)),0)","v":0},null,null,null,0,1,0,0,0]
[{"$f":"IFERROR(INDEX('یکسان سازی برند'!I:I,MATCH(C:C,'یکسان سازی برند'!K:K,0)),0)","v":0},null,null,null,0,1,0,0,0]
[{"$f":"IFERROR(INDEX('یکسان سازی برند'!I:I,MATCH(C:C,'یکسان سازی برند'!K:K,0)),0)","v":0},null,null,null,0,1,0,0,0]
[{"$f":"IFERROR(INDEX('یکسان سازی برند'!I:I,MATCH(C:C,'یکسان سازی برند'!K:K,0)),0)","v":0},null,null,null,0,1,0,0,0]
[{"$f":"IFERROR(INDEX('یکسان سازی برند'!I:I,MATCH(C:C,'یکسان سازی برند'!K:K,0)),0)","v":0},null,null,null,0,1,0,0,0]
[{"$f":"IFERROR(INDEX('یکسان سازی برند'!I:I,MATCH(C:C,'یکسان سازی برند'!K:K,0)),0)","v":0},null,null,null,0,1,0,0,0]
[{"$f":"IFERROR(INDEX('یکسان سازی برند'!I:I,MATCH(C:C,'یکسان سازی برند'!K:K,0)),0)","v":0},null,null,null,0,1,0,0,0]
[{"$f":"IFERROR(INDEX('یکسان سازی برند'!I:I,MATCH(C:C,'یکسان سازی برند'!K:K,0)),0)","v":0},null,null,null,0,1,0,0,0]
[{"$f":"IFERROR(INDEX('یکسان سازی برند'!I:I,MATCH(C:C,'یکسان سازی برند'!K:K,0)),0)","v":0},null,null,null,0,1,0,0,0]
[{"$f":"IFERROR(INDEX('یکسان سازی برند'!I:I,MATCH(C:C,'یکسان سازی برند'!K:K,0)),0)","v":0},null,null,null,0,1,0,0,0]
[{"$f":"IFERROR(INDEX('یکسان سازی برند'!I:I,MATCH(C:C,'یکسان سازی برند'!K:K,0)),0)","v":0},null,null,null,0,1,0,0,0]
[{"$f":"IFERROR(INDEX('یکسان سازی برند'!I:I,MATCH(C:C,'یکسان سازی برند'!K:K,0)),0)","v":0},null,null,null,0,1,0,0,0]
[{"$f":"IFERROR(INDEX('یکسان سازی برند'!I:I,MATCH(C:C,'یکسان سازی برند'!K:K,0)),0)","v":0},null,null,null,0,1,0,0,0]
[{"$f":"IFERROR(INDEX('یکسان سازی برند'!I:I,MATCH(C:C,'یکسان سازی برند'!K:K,0)),0)","v":0},null,null,null,0,1,0,0,0]
[{"$f":"IFERROR(INDEX('یکسان سازی برند'!I:I,MATCH(C:C,'یکسان سازی برند'!K:K,0)),0)","v":0},null,null,null,0,1,0,0,0]
[{"$f":"IFERROR(INDEX('یکسان سازی برند'!I:I,MATCH(C:C,'یکسان سازی برند'!K:K,0)),0)","v":0},null,null,null,0,1,0,0,0]
[{"$f":"IFERROR(INDEX('یکسان سازی برند'!I:I,MATCH(C:C,'یکسان سازی برند'!K:K,0)),0)","v":0},null,null,null,0,1,0,0,0]
[{"$f":"IFERROR(INDEX('یکسان سازی برند'!I:I,MATCH(C:C,'یکسان سازی برند'!K:K,0)),0)","v":0},null,null,null,0,1,0,0,0]
[{"$f":"IFERROR(INDEX('یکسان سازی برند'!I:I,MATCH(C:C,'یکسان سازی برند'!K:K,0)),0)","v":0},null,null,null,0,1,0,0,0]
[{"$f":"IFERROR(INDEX('یکسان سازی برند'!I:I,MATCH(C:C,'یکسان سازی برند'!K:K,0)),0)","v":0},null,null,null,0,1,0,0,0]
[{"$f":"IFERROR(INDEX('یکسان سازی برند'!I:I,MATCH(C:C,'یکسان سازی برند'!K:K,0)),0)","v":0},null,null,null,0,1,0,0,0]
[{"$f":"IFERROR(INDEX('یکسان سازی برند'!I:I,MATCH(C:C,'یکسان سازی برند'!K:K,0)),0)","v":0},null,null,null,0,1,0,0,0]
[{"$f":"IFERROR(INDEX('یکسان سازی برند'!I:I,MATCH(C:C,'یکسان سازی برند'!K:K,0)),0)","v":0},null,null,null,0,1,0,0,0]
[{"$f":"IFERROR(INDEX('یکسان سازی برند'!I:I,MATCH(C:C,'یکسان سازی برند'!K:K,0)),0)","v":0},null,null,null,0,1,0,0,0]
[{"$f":"IFERROR(INDEX('یکسان سازی برند'!I:I,MATCH(C:C,'یکسان سازی برند'!K:K,0)),0)","v":0},null,null,null,0,1,0,0,0]
[{"$f":"IFERROR(INDEX('یکسان سازی برند'!I:I,MATCH(C:C,'یکسان سازی برند'!K:K,0)),0)","v":0},null,null,null,0,1,0,0,0]
[{"$f":"IFERROR(INDEX('یکسان سازی برند'!I:I,MATCH(C:C,'یکسان سازی برند'!K:K,0)),0)","v":0},null,null,null,0,1,0,0,0]
[{"$f":"IFERROR(INDEX('یکسان سازی برند'!I:I,MATCH(C:C,'یکسان سازی برند'!K:K,0)),0)","v":0},null,null,null,0,1,0,0,0]
[{"$f":"IFERROR(INDEX('یکسان سازی برند'!I:I,MATCH(C:C,'یکسان سازی برند'!K:K,0)),0)","v":0},null,null,null,0,1,0,0,0]
[{"$f":"IFERROR(INDEX('یکسان سازی برند'!I:I,MATCH(C:C,'یکسان سازی برند'!K:K,0)),0)","v":0},null,null,null,0,1,0,0,0]
[{"$f":"IFERROR(INDEX('یکسان سازی برند'!I:I,MATCH(C:C,'یکسان سازی برند'!K:K,0)),0)","v":0},null,null,null,0,1,0,0,0]
[{"$f":"IFERROR(INDEX('یکسان سازی برند'!I:I,MATCH(C:C,'یکسان سازی برند'!K:K,0)),0)","v":0},null,null,null,0,1,0,0,0]
[{"$f":"IFERROR(INDEX('یکسان سازی برند'!I:I,MATCH(C:C,'یکسان سازی برند'!K:K,0)),0)","v":0},null,null,null,0,1,0,0,0]
[{"$f":"IFERROR(INDEX('یکسان سازی برند'!I:I,MATCH(C:C,'یکسان سازی برند'!K:K,0)),0)","v":0},null,null,null,0,1,0,0,0]
[{"$f":"IFERROR(INDEX('یکسان سازی برند'!I:I,MATCH(C:C,'یکسان سازی برند'!K:K,0)),0)","v":0},null,null,null,0,1,{"$f":"(E68*F:F)+E68*20%","v":0},{"$f":"G68/2","v":0},{"$f":"E68*3","v":0}]
[{"$f":"IFERROR(INDEX('یکسان سازی برند'!I:I,MATCH(C:C,'یکسان سازی برند'!K:K,0)),0)","v":0},null,null,null,{"$f":"D69/12","v":0},1,0,0,0]
[{"$f":"IFERROR(INDEX('یکسان سازی برند'!I:I,MATCH(C:C,'یکسان سازی برند'!K:K,0)),0)","v":0},null,null,null,0,1,0,0,0]
[{"$f":"IFERROR(INDEX('یکسان سازی برند'!I:I,MATCH(C:C,'یکسان سازی برند'!K:K,0)),0)","v":0},null,null,null,0,1,0,0,0]
[{"$f":"IFERROR(INDEX('یکسان سازی برند'!I:I,MATCH(C:C,'یکسان سازی برند'!K:K,0)),0)","v":0},null,null,null,0,1,0,0,0]
[{"$f":"IFERROR(INDEX('یکسان سازی برند'!I:I,MATCH(C:C,'یکسان سازی برند'!K:K,0)),0)","v":0},null,null,null,0,1,0,0,0]
[{"$f":"IFERROR(INDEX('یکسان سازی برند'!I:I,MATCH(C:C,'یکسان سازی برند'!K:K,0)),0)","v":0},null,null,null,0,1,0,0,0]
[{"$f":"IFERROR(INDEX('یکسان سازی برند'!I:I,MATCH(C:C,'یکسان سازی برند'!K:K,0)),0)","v":0},null,null,null,0,1,0,0,0]
[{"$f":"IFERROR(INDEX('یکسان سازی برند'!I:I,MATCH(C:C,'یکسان سازی برند'!K:K,0)),0)","v":0},null,null,null,0,1,0,0,0]
[{"$f":"IFERROR(INDEX('یکسان سازی برند'!I:I,MATCH(C:C,'یکسان سازی برند'!K:K,0)),0)","v":0},null,null,null,0,1,0,0,0]
[{"$f":"IFERROR(INDEX('یکسان سازی برند'!I:I,MATCH(C:C,'یکسان سازی برند'!K:K,0)),0)","v":0},null,null,null,0,1,0,0,0]
[{"$f":"IFERROR(INDEX('یکسان سازی برند'!I:I,MATCH(C:C,'یکسان سازی برند'!K:K,0)),0)","v":0},null,null,null,0,1,0,0,0]
[{"$f":"IFERROR(INDEX('یکسان سازی برند'!I:I,MATCH(C:C,'یکسان سازی برند'!K:K,0)),0)","v":0},null,null,null,0,1,0,0,0]
[{"$f":"IFERROR(INDEX('یکسان سازی برند'!I:I,MATCH(C:C,'یکسان سازی برند'!K:K,0)),0)","v":0},null,null,null,0,1,0,0,0]
[{"$f":"IFERROR(INDEX('یکسان سازی برند'!I:I,MATCH(C:C,'یکسان سازی برند'!K:K,0)),0)","v":0},null,null,null,0,1,0,0,0]
[{"$f":"IFERROR(INDEX('یکسان سازی برند'!I:I,MATCH(C:C,'یکسان سازی برند'!K:K,0)),0)","v":0},null,null,null,0,1,0,0,0]
[{"$f":"IFERROR(INDEX('یکسان سازی برند'!I:I,MATCH(C:C,'یکسان سازی برند'!K:K,0)),0)","v":0},null,null,null,0,1,0,0,0]
[{"$f":"IFERROR(INDEX('یکسان سازی برند'!I:I,MATCH(C:C,'یکسان سازی برند'!K:K,0)),0)","v":0},null,null,null,0,1,0,0,0]
[{"$f":"IFERROR(INDEX('یکسان سازی برند'!I:I,MATCH(C:C,'یکسان سازی برند'!K:K,0)),0)","v":0},null,null,null,0,1,0,0,0]
[{"$f":"IFERROR(INDEX('یکسان سازی برند'!I:I,MATCH(C:C,'یکسان سازی برند'!K:K,0)),0)","v":0},null,null,null,0,1,0,0,0]
[{"$f":"IFERROR(INDEX('یکسان سازی برند'!I:I,MATCH(C:C,'یکسان سازی برند'!K:K,0)),0)","v":0},null,null,null,0,1,0,0,0]
[{"$f":"IFERROR(INDEX('یکسان سازی برند'!I:I,MATCH(C:C,'یکسان سازی برند'!K:K,0)),0)","v":0},null,null,null,0,1,0,0,0]
[{"$f":"IFERROR(INDEX('یکسان سازی برند'!I:I,MATCH(C:C,'یکسان سازی برند'!K:K,0)),0)","v":0},null,null,null,0,1,0,0,0]
[{"$f":"IFERROR(INDEX('یکسان سازی برند'!I:I,MATCH(C:C,'یکسان سازی برند'!K:K,0)),0)","v":0},null,null,null,0,1,0,0,0]
[{"$f":"IFERROR(INDEX('یکسان سازی برند'!I:I,MATCH(C:C,'یکسان سازی برند'!K:K,0)),0)","v":0},null,null,null,0,1,0,0,0]
[{"$f":"IFERROR(INDEX('یکسان سازی برند'!I:I,MATCH(C:C,'یکسان سازی برند'!K:K,0)),0)","v":0},null,null,null,0,1,0,0,0]
[{"$f":"IFERROR(INDEX('یکسان سازی برند'!I:I,MATCH(C:C,'یکسان سازی برند'!K:K,0)),0)","v":0},null,null,null,0,1,0,0,0]
[{"$f":"IFERROR(INDEX('یکسان سازی برند'!I:I,MATCH(C:C,'یکسان سازی برند'!K:K,0)),0)","v":0},null,null,null,0,1,0,0,0]
[{"$f":"IFERROR(INDEX('یکسان سازی برند'!I:I,MATCH(C:C,'یکسان سازی برند'!K:K,0)),0)","v":0},null,null,null,0,1,0,0,0]
[{"$f":"IFERROR(INDEX('یکسان سازی برند'!I:I,MATCH(C:C,'یکسان سازی برند'!K:K,0)),0)","v":0},null,null,null,0,1,0,0,0]
[{"$f":"IFERROR(INDEX('یکسان سازی برند'!I:I,MATCH(C:C,'یکسان سازی برند'!K:K,0)),0)","v":0},null,null,null,0,1,0,0,0]
[{"$f":"IFERROR(INDEX('یکسان سازی برند'!I:I,MATCH(C:C,'یکسان سازی برند'!K:K,0)),0)","v":0},null,null,null,0,1,0,0,0]
[{"$f":"IFERROR(INDEX('یکسان سازی برند'!I:I,MATCH(C:C,'یکسان سازی برند'!K:K,0)),0)","v":0},null,null,null,0,1,0,0,0]
[{"$f":"IFERROR(INDEX('یکسان سازی برند'!I:I,MATCH(C:C,'یکسان سازی برند'!K:K,0)),0)","v":0},null,null,null,0,1,0,0,0]
[{"$f":"IFERROR(INDEX('یکسان سازی برند'!I:I,MATCH(C:C,'یکسان سازی برند'!K:K,0)),0)","v":0},null,null,null,0,1,0,0,0]
[{"$f":"IFERROR(INDEX('یکسان سازی برند'!I:I,MATCH(C:C,'یکسان سازی برند'!K:K,0)),0)","v":0},null,null,null,0,1,0,0,0]
[{"$f":"IFERROR(INDEX('یکسان سازی برند'!I:I,MATCH(C:C,'یکسان سازی برند'!K:K,0)),0)","v":0},null,null,null,0,1,0,0,0]
[{"$f":"IFERROR(INDEX('یکسان سازی برند'!I:I,MATCH(C:C,'یکسان سازی برند'!K:K,0)),0)","v":0},null,null,null,0,1,0,0,0]
[{"$f":"IFERROR(INDEX('یکسان سازی برند'!I:I,MATCH(C:C,'یکسان سازی برند'!K:K,0)),0)","v":0},null,null,null,0,1,0,0,0]
[{"$f":"IFERROR(INDEX('یکسان سازی برند'!I:I,MATCH(C:C,'یکسان سازی برند'!K:K,0)),0)","v":0},null,null,null,0,1,0,0,0]
[{"$f":"IFERROR(INDEX('یکسان سازی برند'!I:I,MATCH(C:C,'یکسان سازی برند'!K:K,0)),0)","v":0},null,null,null,0,1,0,0,0]
[{"$f":"IFERROR(INDEX('یکسان سازی برند'!I:I,MATCH(C:C,'یکسان سازی برند'!K:K,0)),0)","v":0},null,null,null,0,1,0,0,0]
[{"$f":"IFERROR(INDEX('یکسان سازی برند'!I:I,MATCH(C:C,'یکسان سازی برند'!K:K,0)),0)","v":0},null,null,null,0,1,0,0,0]
[{"$f":"IFERROR(INDEX('یکسان سازی برند'!I:I,MATCH(C:C,'یکسان سازی برند'!K:K,0)),0)","v":0},null,null,null,0,1,0,0,0]
[{"$f":"IFERROR(INDEX('یکسان سازی برند'!I:I,MATCH(C:C,'یکسان سازی برند'!K:K,0)),0)","v":0},null,null,null,0,1,0,0,0]
[{"$f":"IFERROR(INDEX('یکسان سازی برند'!I:I,MATCH(C:C,'یکسان سازی برند'!K:K,0)),0)","v":0},null,null,null,0,1,0,0,0]
[{"$f":"IFERROR(INDEX('یکسان سازی برند'!I:I,MATCH(C:C,'یکسان سازی برند'!K:K,0)),0)","v":0},null,null,null,0,1,0,0,0]
[{"$f":"IFERROR(INDEX('یکسان سازی برند'!I:I,MATCH(C:C,'یکسان سازی برند'!K:K,0)),0)","v":0},null,null,null,0,1,0,0,0]
[{"$f":"IFERROR(INDEX('یکسان سازی برند'!I:I,MATCH(C:C,'یکسان سازی برند'!K:K,0)),0)","v":0},null,null,null,0,1,0,0,0]
[{"$f":"IFERROR(INDEX('یکسان سازی برند'!I:I,MATCH(C:C,'یکسان سازی برند'!K:K,0)),0)","v":0},null,null,null,0,1,0,0,0]
[{"$f":"IFERROR(INDEX('یکسان سازی برند'!I:I,MATCH(C:C,'یکسان سازی برند'!K:K,0)),0)","v":0},null,null,null,0,1,0,0,0]
[{"$f":"IFERROR(INDEX('یکسان سازی برند'!I:I,MATCH(C:C,'یکسان سازی برند'!K:K,0)),0)","v":0},null,null,null,0,1,0,0,0]
[{"$f":"IFERROR(INDEX('یکسان سازی برند'!I:I,MATCH(C:C,'یکسان سازی برند'!K:K,0)),0)","v":0},null,null,null,0,1,0,0,0]
[{"$f":"IFERROR(INDEX('یکسان سازی برند'!I:I,MATCH(C:C,'یکسان سازی برند'!K:K,0)),0)","v":0},null,null,null,0,1,0,0,0]
[{"$f":"IFERROR(INDEX('یکسان سازی برند'!I:I,MATCH(C:C,'یکسان سازی برند'!K:K,0)),0)","v":0},null,null,null,0,1,0,0,0]
[{"$f":"IFERROR(INDEX('یکسان سازی برند'!I:I,MATCH(C:C,'یکسان سازی برند'!K:K,0)),0)","v":0},null,null,null,0,1,0,0,0]
[{"$f":"IFERROR(INDEX('یکسان سازی برند'!I:I,MATCH(C:C,'یکسان سازی برند'!K:K,0)),0)","v":0},null,null,null,0,1,0,0,0]
[{"$f":"IFERROR(INDEX('یکسان سازی برند'!I:I,MATCH(C:C,'یکسان سازی برند'!K:K,0)),0)","v":0},null,null,null,0,1,0,0,0]
[{"$f":"IFERROR(INDEX('یکسان سازی برند'!I:I,MATCH(C:C,'یکسان سازی برند'!K:K,0)),0)","v":0},null,null,null,0,1,0,0,0]
[{"$f":"IFERROR(INDEX('یکسان سازی برند'!I:I,MATCH(C:C,'یکسان سازی برند'!K:K,0)),0)","v":0},null,null,null,0,1,0,0,0]
[{"$f":"IFERROR(INDEX('یکسان سازی برند'!I:I,MATCH(C:C,'یکسان سازی برند'!K:K,0)),0)","v":0},null,null,null,0,1,0,0,0]
[{"$f":"IFERROR(INDEX('یکسان سازی برند'!I:I,MATCH(C:C,'یکسان سازی برند'!K:K,0)),0)","v":0},null,null,null,0,1,0,0,0]
[{"$f":"IFERROR(INDEX('یکسان سازی برند'!I:I,MATCH(C:C,'یکسان سازی برند'!K:K,0)),0)","v":0},null,null,null,0,1,0,0,0]
[{"$f":"IFERROR(INDEX('یکسان سازی برند'!I:I,MATCH(C:C,'یکسان سازی برند'!K:K,0)),0)","v":0},null,null,null,0,1,0,0,0]
[{"$f":"IFERROR(INDEX('یکسان سازی برند'!I:I,MATCH(C:C,'یکسان سازی برند'!K:K,0)),0)","v":0},null,null,null,0,1,{"$f":"(E132*F:F)+E132*20%","v":0},{"$f":"G132/2","v":0},{"$f":"E132*3","v":0}]
[{"$f":"IFERROR(INDEX('یکسان سازی برند'!I:I,MATCH(C:C,'یکسان سازی برند'!K:K,0)),0)","v":0},null,null,null,{"$f":"D133/12","v":0},1,0,0,0]
[{"$f":"IFERROR(INDEX('یکسان سازی برند'!I:I,MATCH(C:C,'یکسان سازی برند'!K:K,0)),0)","v":0},null,null,null,0,1,0,0,0]
[{"$f":"IFERROR(INDEX('یکسان سازی برند'!I:I,MATCH(C:C,'یکسان سازی برند'!K:K,0)),0)","v":0},null,null,null,0,1,0,0,0]
[{"$f":"IFERROR(INDEX('یکسان سازی برند'!I:I,MATCH(C:C,'یکسان سازی برند'!K:K,0)),0)","v":0},null,null,null,0,1,0,0,0]
[{"$f":"IFERROR(INDEX('یکسان سازی برند'!I:I,MATCH(C:C,'یکسان سازی برند'!K:K,0)),0)","v":0},null,null,null,0,1,0,0,0]
[{"$f":"IFERROR(INDEX('یکسان سازی برند'!I:I,MATCH(C:C,'یکسان سازی برند'!K:K,0)),0)","v":0},null,null,null,0,1,0,0,0]
[{"$f":"IFERROR(INDEX('یکسان سازی برند'!I:I,MATCH(C:C,'یکسان سازی برند'!K:K,0)),0)","v":0},null,null,null,0,1,0,0,0]
[{"$f":"IFERROR(INDEX('یکسان سازی برند'!I:I,MATCH(C:C,'یکسان سازی برند'!K:K,0)),0)","v":0},null,null,null,0,1,0,0,0]
[{"$f":"IFERROR(INDEX('یکسان سازی برند'!I:I,MATCH(C:C,'یکسان سازی برند'!K:K,0)),0)","v":0},null,null,null,0,1,0,0,0]
[{"$f":"IFERROR(INDEX('یکسان سازی برند'!I:I,MATCH(C:C,'یکسان سازی برند'!K:K,0)),0)","v":0},null,null,null,0,1,0,0,0]
[{"$f":"IFERROR(INDEX('یکسان سازی برند'!I:I,MATCH(C:C,'یکسان سازی برند'!K:K,0)),0)","v":0},null,null,null,0,1,0,0,0]
[{"$f":"IFERROR(INDEX('یکسان سازی برند'!I:I,MATCH(C:C,'یکسان سازی برند'!K:K,0)),0)","v":0},null,null,null,0,1,0,0,0]
[{"$f":"IFERROR(INDEX('یکسان سازی برند'!I:I,MATCH(C:C,'یکسان سازی برند'!K:K,0)),0)","v":0},null,null,null,0,1,0,0,0]
[{"$f":"IFERROR(INDEX('یکسان سازی برند'!I:I,MATCH(C:C,'یکسان سازی برند'!K:K,0)),0)","v":0},null,null,null,0,1,0,0,0]
[{"$f":"IFERROR(INDEX('یکسان سازی برند'!I:I,MATCH(C:C,'یکسان سازی برند'!K:K,0)),0)","v":0},null,null,null,0,1,0,0,0]
[{"$f":"IFERROR(INDEX('یکسان سازی برند'!I:I,MATCH(C:C,'یکسان سازی برند'!K:K,0)),0)","v":0},null,null,null,0,1,0,0,0]
[{"$f":"IFERROR(INDEX('یکسان سازی برند'!I:I,MATCH(C:C,'یکسان سازی برند'!K:K,0)),0)","v":0},null,null,null,0,1,0,0,0]
[{"$f":"IFERROR(INDEX('یکسان سازی برند'!I:I,MATCH(C:C,'یکسان سازی برند'!K:K,0)),0)","v":0},null,null,null,0,1,0,0,0]
[{"$f":"IFERROR(INDEX('یکسان سازی برند'!I:I,MATCH(C:C,'یکسان سازی برند'!K:K,0)),0)","v":0},null,null,null,0,1,0,0,0]
[{"$f":"IFERROR(INDEX('یکسان سازی برند'!I:I,MATCH(C:C,'یکسان سازی برند'!K:K,0)),0)","v":0},null,null,null,0,1,0,0,0]
[{"$f":"IFERROR(INDEX('یکسان سازی برند'!I:I,MATCH(C:C,'یکسان سازی برند'!K:K,0)),0)","v":0},null,null,null,0,1,0,0,0]
[{"$f":"IFERROR(INDEX('یکسان سازی برند'!I:I,MATCH(C:C,'یکسان سازی برند'!K:K,0)),0)","v":0},null,null,null,0,1,0,0,0]
[{"$f":"IFERROR(INDEX('یکسان سازی برند'!I:I,MATCH(C:C,'یکسان سازی برند'!K:K,0)),0)","v":0},null,null,null,0,1,0,0,0]
[{"$f":"IFERROR(INDEX('یکسان سازی برند'!I:I,MATCH(C:C,'یکسان سازی برند'!K:K,0)),0)","v":0},null,null,null,0,1,0,0,0]
[{"$f":"IFERROR(INDEX('یکسان سازی برند'!I:I,MATCH(C:C,'یکسان سازی برند'!K:K,0)),0)","v":0},null,null,null,0,1,0,0,0]
[{"$f":"IFERROR(INDEX('یکسان سازی برند'!I:I,MATCH(C:C,'یکسان سازی برند'!K:K,0)),0)","v":0},null,null,null,0,1,0,0,0]
[{"$f":"IFERROR(INDEX('یکسان سازی برند'!I:I,MATCH(C:C,'یکسان سازی برند'!K:K,0)),0)","v":0},null,null,null,0,1,0,0,0]
[{"$f":"IFERROR(INDEX('یکسان سازی برند'!I:I,MATCH(C:C,'یکسان سازی برند'!K:K,0)),0)","v":0},null,null,null,0,1,0,0,0]
[{"$f":"IFERROR(INDEX('یکسان سازی برند'!I:I,MATCH(C:C,'یکسان سازی برند'!K:K,0)),0)","v":0},null,null,null,0,1,0,0,0]
[{"$f":"IFERROR(INDEX('یکسان سازی برند'!I:I,MATCH(C:C,'یکسان سازی برند'!K:K,0)),0)","v":0},null,null,null,0,1,0,0,0]
[{"$f":"IFERROR(INDEX('یکسان سازی برند'!I:I,MATCH(C:C,'یکسان سازی برند'!K:K,0)),0)","v":0},null,null,null,0,1,0,0,0]
[{"$f":"IFERROR(INDEX('یکسان سازی برند'!I:I,MATCH(C:C,'یکسان سازی برند'!K:K,0)),0)","v":0},null,null,null,0,1,0,0,0]
[{"$f":"IFERROR(INDEX('یکسان سازی برند'!I:I,MATCH(C:C,'یکسان سازی برند'!K:K,0)),0)","v":0},null,null,null,0,1,0,0,0]
[{"$f":"IFERROR(INDEX('یکسان سازی برند'!I:I,MATCH(C:C,'یکسان سازی برند'!K:K,0)),0)","v":0},null,null,null,0,1,0,0,0]
[{"$f":"IFERROR(INDEX('یکسان سازی برند'!I:I,MATCH(C:C,'یکسان سازی برند'!K:K,0)),0)","v":0},null,null,null,0,1,0,0,0]
[{"$f":"IFERROR(INDEX('یکسان سازی برند'!I:I,MATCH(C:C,'یکسان سازی برند'!K:K,0)),0)","v":0},null,null,null,0,1,0,0,0]
[{"$f":"IFERROR(INDEX('یکسان سازی برند'!I:I,MATCH(C:C,'یکسان سازی برند'!K:K,0)),0)","v":0},null,null,null,0,1,0,0,0]
[{"$f":"IFERROR(INDEX('یکسان سازی برند'!I:I,MATCH(C:C,'یکسان سازی برند'!K:K,0)),0)","v":0},null,null,null,0,1,0,0,0]
[{"$f":"IFERROR(INDEX('یکسان سازی برند'!I:I,MATCH(C:C,'یکسان سازی برند'!K:K,0)),0)","v":0},null,null,null,0,1,0,0,0]
[{"$f":"IFERROR(INDEX('یکسان سازی برند'!I:I,MATCH(C:C,'یکسان سازی برند'!K:K,0)),0)","v":0},null,null,null,0,1,0,0,0]
[{"$f":"IFERROR(INDEX('یکسان سازی برند'!I:I,MATCH(C:C,'یکسان سازی برند'!K:K,0)),0)","v":0},null,null,null,0,1,0,0,0]
[{"$f":"IFERROR(INDEX('یکسان سازی برند'!I:I,MATCH(C:C,'یکسان سازی برند'!K:K,0)),0)","v":0},null,null,null,0,1,0,0,0]
[{"$f":"IFERROR(INDEX('یکسان سازی برند'!I:I,MATCH(C:C,'یکسان سازی برند'!K:K,0)),0)","v":0},null,null,null,0,1,0,0,0]
[{"$f":"IFERROR(INDEX('یکسان سازی برند'!I:I,MATCH(C:C,'یکسان سازی برند'!K:K,0)),0)","v":0},null,null,null,0,1,0,0,0]
[{"$f":"IFERROR(INDEX('یکسان سازی برند'!I:I,MATCH(C:C,'یکسان سازی برند'!K:K,0)),0)","v":0},null,null,null,0,1,0,0,0]
[{"$f":"IFERROR(INDEX('یکسان سازی برند'!I:I,MATCH(C:C,'یکسان سازی برند'!K:K,0)),0)","v":0},null,null,null,0,1,0,0,0]
[{"$f":"IFERROR(INDEX('یکسان سازی برند'!I:I,MATCH(C:C,'یکسان سازی برند'!K:K,0)),0)","v":0},null,null,null,0,1,0,0,0]
[{"$f":"IFERROR(INDEX('یکسان سازی برند'!I:I,MATCH(C:C,'یکسان سازی برند'!K:K,0)),0)","v":0},null,null,null,0,1,0,0,0]
[{"$f":"IFERROR(INDEX('یکسان سازی برند'!I:I,MATCH(C:C,'یکسان سازی برند'!K:K,0)),0)","v":0},null,null,null,0,1,0,0,0]
[{"$f":"IFERROR(INDEX('یکسان سازی برند'!I:I,MATCH(C:C,'یکسان سازی برند'!K:K,0)),0)","v":0},null,null,null,0,1,0,0,0]
[{"$f":"IFERROR(INDEX('یکسان سازی برند'!I:I,MATCH(C:C,'یکسان سازی برند'!K:K,0)),0)","v":0},null,null,null,0,1,0,0,0]
[{"$f":"IFERROR(INDEX('یکسان سازی برند'!I:I,MATCH(C:C,'یکسان سازی برند'!K:K,0)),0)","v":0},null,null,null,0,1,0,0,0]
[{"$f":"IFERROR(INDEX('یکسان سازی برند'!I:I,MATCH(C:C,'یکسان سازی برند'!K:K,0)),0)","v":0},null,null,null,0,1,0,0,0]
[{"$f":"IFERROR(INDEX('یکسان سازی برند'!I:I,MATCH(C:C,'یکسان سازی برند'!K:K,0)),0)","v":0},null,null,null,0,1,0,0,0]
[{"$f":"IFERROR(INDEX('یکسان سازی برند'!I:I,MATCH(C:C,'یکسان سازی برند'!K:K,0)),0)","v":0},null,null,null,0,1,0,0,0]
[{"$f":"IFERROR(INDEX('یکسان سازی برند'!I:I,MATCH(C:C,'یکسان سازی برند'!K:K,0)),0)","v":0},null,null,null,0,1,0,0,0]
[{"$f":"IFERROR(INDEX('یکسان سازی برند'!I:I,MATCH(C:C,'یکسان سازی برند'!K:K,0)),0)","v":0},null,null,null,0,1,0,0,0]
[{"$f":"IFERROR(INDEX('یکسان سازی برند'!I:I,MATCH(C:C,'یکسان سازی برند'!K:K,0)),0)","v":0},null,null,null,0,1,0,0,0]
[{"$f":"IFERROR(INDEX('یکسان سازی برند'!I:I,MATCH(C:C,'یکسان سازی برند'!K:K,0)),0)","v":0},null,null,null,0,1,0,0,0]
[{"$f":"IFERROR(INDEX('یکسان سازی برند'!I:I,MATCH(C:C,'یکسان سازی برند'!K:K,0)),0)","v":0},null,null,null,0,1,0,0,0]
[{"$f":"IFERROR(INDEX('یکسان سازی برند'!I:I,MATCH(C:C,'یکسان سازی برند'!K:K,0)),0)","v":0},null,null,null,0,1,0,0,0]
[{"$f":"IFERROR(INDEX('یکسان سازی برند'!I:I,MATCH(C:C,'یکسان سازی برند'!K:K,0)),0)","v":0},null,null,null,0,1,0,0,0]
[{"$f":"IFERROR(INDEX('یکسان سازی برند'!I:I,MATCH(C:C,'یکسان سازی برند'!K:K,0)),0)","v":0},null,null,null,0,1,0,0,0]
[{"$f":"IFERROR(INDEX('یکسان سازی برند'!I:I,MATCH(C:C,'یکسان سازی برند'!K:K,0)),0)","v":0},null,null,null,0,1,{"$f":"(E196*F:F)+E196*20%","v":0},{"$f":"G196/2","v":0},{"$f":"E196*3","v":0}]
[{"$f":"IFERROR(INDEX('یکسان سازی برند'!I:I,MATCH(C:C,'یکسان سازی برند'!K:K,0)),0)","v":0},null,null,null,{"$f":"D197/12","v":0},1,0,0,0]
[{"$f":"IFERROR(INDEX('یکسان سازی برند'!I:I,MATCH(C:C,'یکسان سازی برند'!K:K,0)),0)","v":0},null,null,null,0,1,0,0,0]
[{"$f":"IFERROR(INDEX('یکسان سازی برند'!I:I,MATCH(C:C,'یکسان سازی برند'!K:K,0)),0)","v":0},null,null,null,0,1,0,0,0]
[{"$f":"IFERROR(INDEX('یکسان سازی برند'!I:I,MATCH(C:C,'یکسان سازی برند'!K:K,0)),0)","v":0},null,null,null,0,1,0,0,0]
[{"$f":"IFERROR(INDEX('یکسان سازی برند'!I:I,MATCH(C:C,'یکسان سازی برند'!K:K,0)),0)","v":0},null,null,null,0,1,0,0,0]
[{"$f":"IFERROR(INDEX('یکسان سازی برند'!I:I,MATCH(C:C,'یکسان سازی برند'!K:K,0)),0)","v":0},null,null,null,0,1,0,0,0]
[{"$f":"IFERROR(INDEX('یکسان سازی برند'!I:I,MATCH(C:C,'یکسان سازی برند'!K:K,0)),0)","v":0},null,null,null,0,1,0,0,0]
[{"$f":"IFERROR(INDEX('یکسان سازی برند'!I:I,MATCH(C:C,'یکسان سازی برند'!K:K,0)),0)","v":0},null,null,null,0,1,0,0,0]
[{"$f":"IFERROR(INDEX('یکسان سازی برند'!I:I,MATCH(C:C,'یکسان سازی برند'!K:K,0)),0)","v":0},null,null,null,0,1,0,0,0]
[{"$f":"IFERROR(INDEX('یکسان سازی برند'!I:I,MATCH(C:C,'یکسان سازی برند'!K:K,0)),0)","v":0},null,null,null,0,1,0,0,0]
[{"$f":"IFERROR(INDEX('یکسان سازی برند'!I:I,MATCH(C:C,'یکسان سازی برند'!K:K,0)),0)","v":0},null,null,null,0,1,0,0,0]
[{"$f":"IFERROR(INDEX('یکسان سازی برند'!I:I,MATCH(C:C,'یکسان سازی برند'!K:K,0)),0)","v":0},null,null,null,0,1,0,0,0]
[{"$f":"IFERROR(INDEX('یکسان سازی برند'!I:I,MATCH(C:C,'یکسان سازی برند'!K:K,0)),0)","v":0},null,null,null,0,1,0,0,0]
[{"$f":"IFERROR(INDEX('یکسان سازی برند'!I:I,MATCH(C:C,'یکسان سازی برند'!K:K,0)),0)","v":0},null,null,null,0,1,0,0,0]
[{"$f":"IFERROR(INDEX('یکسان سازی برند'!I:I,MATCH(C:C,'یکسان سازی برند'!K:K,0)),0)","v":0},null,null,null,0,1,0,0,0]
[{"$f":"IFERROR(INDEX('یکسان سازی برند'!I:I,MATCH(C:C,'یکسان سازی برند'!K:K,0)),0)","v":0},null,null,null,0,1,0,0,0]
[{"$f":"IFERROR(INDEX('یکسان سازی برند'!I:I,MATCH(C:C,'یکسان سازی برند'!K:K,0)),0)","v":0},null,null,null,0,1,0,0,0]
[{"$f":"IFERROR(INDEX('یکسان سازی برند'!I:I,MATCH(C:C,'یکسان سازی برند'!K:K,0)),0)","v":0},null,null,null,0,1,0,0,0]
[{"$f":"IFERROR(INDEX('یکسان سازی برند'!I:I,MATCH(C:C,'یکسان سازی برند'!K:K,0)),0)","v":0},null,null,null,0,1,0,0,0]
[{"$f":"IFERROR(INDEX('یکسان سازی برند'!I:I,MATCH(C:C,'یکسان سازی برند'!K:K,0)),0)","v":0},null,null,null,0,1,0,0,0]
[{"$f":"IFERROR(INDEX('یکسان سازی برند'!I:I,MATCH(C:C,'یکسان سازی برند'!K:K,0)),0)","v":0},null,null,null,0,1,0,0,0]
[{"$f":"IFERROR(INDEX('یکسان سازی برند'!I:I,MATCH(C:C,'یکسان سازی برند'!K:K,0)),0)","v":0},null,null,null,0,1,0,0,0]
[{"$f":"IFERROR(INDEX('یکسان سازی برند'!I:I,MATCH(C:C,'یکسان سازی برند'!K:K,0)),0)","v":0},null,null,null,0,1,0,0,0]
[{"$f":"IFERROR(INDEX('یکسان سازی برند'!I:I,MATCH(C:C,'یکسان سازی برند'!K:K,0)),0)","v":0},null,null,null,0,1,0,0,0]
[{"$f":"IFERROR(INDEX('یکسان سازی برند'!I:I,MATCH(C:C,'یکسان سازی برند'!K:K,0)),0)","v":0},null,null,null,0,1,0,0,0]
[{"$f":"IFERROR(INDEX('یکسان سازی برند'!I:I,MATCH(C:C,'یکسان سازی برند'!K:K,0)),0)","v":0},null,null,null,0,1,0,0,0]
[{"$f":"IFERROR(INDEX('یکسان سازی برند'!I:I,MATCH(C:C,'یکسان سازی برند'!K:K,0)),0)","v":0},null,null,null,0,1,0,0,0]
[{"$f":"IFERROR(INDEX('یکسان سازی برند'!I:I,MATCH(C:C,'یکسان سازی برند'!K:K,0)),0)","v":0},null,null,null,0,1,0,0,0]
[{"$f":"IFERROR(INDEX('یکسان سازی برند'!I:I,MATCH(C:C,'یکسان سازی برند'!K:K,0)),0)","v":0},null,null,null,0,1,0,0,0]
[{"$f":"IFERROR(INDEX('یکسان سازی برند'!I:I,MATCH(C:C,'یکسان سازی برند'!K:K,0)),0)","v":0},null,null,null,0,1,0,0,0]
[{"$f":"IFERROR(INDEX('یکسان سازی برند'!I:I,MATCH(C:C,'یکسان سازی برند'!K:K,0)),0)","v":0},null,null,null,0,1,0,0,0]
[{"$f":"IFERROR(INDEX('یکسان سازی برند'!I:I,MATCH(C:C,'یکسان سازی برند'!K:K,0)),0)","v":0},null,null,null,0,1,0,0,0]
[{"$f":"IFERROR(INDEX('یکسان سازی برند'!I:I,MATCH(C:C,'یکسان سازی برند'!K:K,0)),0)","v":0},null,null,null,0,1,0,0,0]
[{"$f":"IFERROR(INDEX('یکسان سازی برند'!I:I,MATCH(C:C,'یکسان سازی برند'!K:K,0)),0)","v":0},null,null,null,0,1,0,0,0]
[{"$f":"IFERROR(INDEX('یکسان سازی برند'!I:I,MATCH(C:C,'یکسان سازی برند'!K:K,0)),0)","v":0},null,null,null,0,1,0,0,0]
[{"$f":"IFERROR(INDEX('یکسان سازی برند'!I:I,MATCH(C:C,'یکسان سازی برند'!K:K,0)),0)","v":0},null,null,null,0,1,0,0,0]
[{"$f":"IFERROR(INDEX('یکسان سازی برند'!I:I,MATCH(C:C,'یکسان سازی برند'!K:K,0)),0)","v":0},null,null,null,0,1,0,0,0]
[{"$f":"IFERROR(INDEX('یکسان سازی برند'!I:I,MATCH(C:C,'یکسان سازی برند'!K:K,0)),0)","v":0},null,null,null,0,1,0,0,0]
[{"$f":"IFERROR(INDEX('یکسان سازی برند'!I:I,MATCH(C:C,'یکسان سازی برند'!K:K,0)),0)","v":0},null,null,null,0,1,0,0,0]
[{"$f":"IFERROR(INDEX('یکسان سازی برند'!I:I,MATCH(C:C,'یکسان سازی برند'!K:K,0)),0)","v":0},null,null,null,0,1,0,0,0]
[{"$f":"IFERROR(INDEX('یکسان سازی برند'!I:I,MATCH(C:C,'یکسان سازی برند'!K:K,0)),0)","v":0},null,null,null,0,1,0,0,0]
[{"$f":"IFERROR(INDEX('یکسان سازی برند'!I:I,MATCH(C:C,'یکسان سازی برند'!K:K,0)),0)","v":0},null,null,null,0,1,0,0,0]
[{"$f":"IFERROR(INDEX('یکسان سازی برند'!I:I,MATCH(C:C,'یکسان سازی برند'!K:K,0)),0)","v":0},null,null,null,0,1,0,0,0]
[{"$f":"IFERROR(INDEX('یکسان سازی برند'!I:I,MATCH(C:C,'یکسان سازی برند'!K:K,0)),0)","v":0},null,null,null,0,1,0,0,0]
[{"$f":"IFERROR(INDEX('یکسان سازی برند'!I:I,MATCH(C:C,'یکسان سازی برند'!K:K,0)),0)","v":0},null,null,null,0,1,0,0,0]
[{"$f":"IFERROR(INDEX('یکسان سازی برند'!I:I,MATCH(C:C,'یکسان سازی برند'!K:K,0)),0)","v":0},null,null,null,0,1,0,0,0]
[{"$f":"IFERROR(INDEX('یکسان سازی برند'!I:I,MATCH(C:C,'یکسان سازی برند'!K:K,0)),0)","v":0},null,null,null,0,1,0,0,0]
[{"$f":"IFERROR(INDEX('یکسان سازی برند'!I:I,MATCH(C:C,'یکسان سازی برند'!K:K,0)),0)","v":0},null,null,null,0,1,0,0,0]
[{"$f":"IFERROR(INDEX('یکسان سازی برند'!I:I,MATCH(C:C,'یکسان سازی برند'!K:K,0)),0)","v":0},null,null,null,0,1,0,0,0]
[{"$f":"IFERROR(INDEX('یکسان سازی برند'!I:I,MATCH(C:C,'یکسان سازی برند'!K:K,0)),0)","v":0},null,null,null,0,1,0,0,0]
[{"$f":"IFERROR(INDEX('یکسان سازی برند'!I:I,MATCH(C:C,'یکسان سازی برند'!K:K,0)),0)","v":0},null,null,null,0,1,0,0,0]
[{"$f":"IFERROR(INDEX('یکسان سازی برند'!I:I,MATCH(C:C,'یکسان سازی برند'!K:K,0)),0)","v":0},null,null,null,0,1,0,0,0]
[{"$f":"IFERROR(INDEX('یکسان سازی برند'!I:I,MATCH(C:C,'یکسان سازی برند'!K:K,0)),0)","v":0},null,null,null,0,1,0,0,0]
[{"$f":"IFERROR(INDEX('یکسان سازی برند'!I:I,MATCH(C:C,'یکسان سازی برند'!K:K,0)),0)","v":0},null,null,null,0,1,0,0,0]
[{"$f":"IFERROR(INDEX('یکسان سازی برند'!I:I,MATCH(C:C,'یکسان سازی برند'!K:K,0)),0)","v":0},null,null,null,0,1,0,0,0]
[{"$f":"IFERROR(INDEX('یکسان سازی برند'!I:I,MATCH(C:C,'یکسان سازی برند'!K:K,0)),0)","v":0},null,null,null,0,1,0,0,0]
[{"$f":"IFERROR(INDEX('یکسان سازی برند'!I:I,MATCH(C:C,'یکسان سازی برند'!K:K,0)),0)","v":0},null,null,null,0,1,0,0,0]
[{"$f":"IFERROR(INDEX('یکسان سازی برند'!I:I,MATCH(C:C,'یکسان سازی برند'!K:K,0)),0)","v":0},null,null,null,0,1,0,0,0]
[{"$f":"IFERROR(INDEX('یکسان سازی برند'!I:I,MATCH(C:C,'یکسان سازی برند'!K:K,0)),0)","v":0},null,null,null,0,1,0,0,0]
[{"$f":"IFERROR(INDEX('یکسان سازی برند'!I:I,MATCH(C:C,'یکسان سازی برند'!K:K,0)),0)","v":0},null,null,null,0,1,0,0,0]
[{"$f":"IFERROR(INDEX('یکسان سازی برند'!I:I,MATCH(C:C,'یکسان سازی برند'!K:K,0)),0)","v":0},null,null,null,0,1,0,0,0]
[{"$f":"IFERROR(INDEX('یکسان سازی برند'!I:I,MATCH(C:C,'یکسان سازی برند'!K:K,0)),0)","v":0},null,null,null,0,1,0,0,0]
[{"$f":"IFERROR(INDEX('یکسان سازی برند'!I:I,MATCH(C:C,'یکسان سازی برند'!K:K,0)),0)","v":0},null,null,null,0,1,0,0,0]
[{"$f":"IFERROR(INDEX('یکسان سازی برند'!I:I,MATCH(C:C,'یکسان سازی برند'!K:K,0)),0)","v":0},null,null,null,0,1,{"$f":"(E260*F:F)+E260*20%","v":0},{"$f":"G260/2","v":0},{"$f":"E260*3","v":0}]
[{"$f":"IFERROR(INDEX('یکسان سازی برند'!I:I,MATCH(C:C,'یکسان سازی برند'!K:K,0)),0)","v":0},null,null,null,{"$f":"D261/12","v":0},1,0,0,0]
[{"$f":"IFERROR(INDEX('یکسان سازی برند'!I:I,MATCH(C:C,'یکسان سازی برند'!K:K,0)),0)","v":0},null,null,null,0,1,0,0,0]
[{"$f":"IFERROR(INDEX('یکسان سازی برند'!I:I,MATCH(C:C,'یکسان سازی برند'!K:K,0)),0)","v":0},null,null,null,0,1,0,0,0]
[{"$f":"IFERROR(INDEX('یکسان سازی برند'!I:I,MATCH(C:C,'یکسان سازی برند'!K:K,0)),0)","v":0},null,null,null,0,1,0,0,0]
[{"$f":"IFERROR(INDEX('یکسان سازی برند'!I:I,MATCH(C:C,'یکسان سازی برند'!K:K,0)),0)","v":0},null,null,null,0,1,0,0,0]
[{"$f":"IFERROR(INDEX('یکسان سازی برند'!I:I,MATCH(C:C,'یکسان سازی برند'!K:K,0)),0)","v":0},null,null,null,0,1,0,0,0]
[{"$f":"IFERROR(INDEX('یکسان سازی برند'!I:I,MATCH(C:C,'یکسان سازی برند'!K:K,0)),0)","v":0},null,null,null,0,1,0,0,0]
[{"$f":"IFERROR(INDEX('یکسان سازی برند'!I:I,MATCH(C:C,'یکسان سازی برند'!K:K,0)),0)","v":0},null,null,null,0,1,0,0,0]
[{"$f":"IFERROR(INDEX('یکسان سازی برند'!I:I,MATCH(C:C,'یکسان سازی برند'!K:K,0)),0)","v":0},null,null,null,0,1,0,0,0]
[{"$f":"IFERROR(INDEX('یکسان سازی برند'!I:I,MATCH(C:C,'یکسان سازی برند'!K:K,0)),0)","v":0},null,null,null,0,1,0,0,0]
[{"$f":"IFERROR(INDEX('یکسان سازی برند'!I:I,MATCH(C:C,'یکسان سازی برند'!K:K,0)),0)","v":0},null,null,null,0,1,0,0,0]
[{"$f":"IFERROR(INDEX('یکسان سازی برند'!I:I,MATCH(C:C,'یکسان سازی برند'!K:K,0)),0)","v":0},null,null,null,0,1,0,0,0]
[{"$f":"IFERROR(INDEX('یکسان سازی برند'!I:I,MATCH(C:C,'یکسان سازی برند'!K:K,0)),0)","v":0},null,null,null,0,1,0,0,0]
[{"$f":"IFERROR(INDEX('یکسان سازی برند'!I:I,MATCH(C:C,'یکسان سازی برند'!K:K,0)),0)","v":0},null,null,null,0,1,0,0,0]
[{"$f":"IFERROR(INDEX('یکسان سازی برند'!I:I,MATCH(C:C,'یکسان سازی برند'!K:K,0)),0)","v":0},null,null,null,0,1,0,0,0]
[{"$f":"IFERROR(INDEX('یکسان سازی برند'!I:I,MATCH(C:C,'یکسان سازی برند'!K:K,0)),0)","v":0},null,null,null,0,1,0,0,0]
[{"$f":"IFERROR(INDEX('یکسان سازی برند'!I:I,MATCH(C:C,'یکسان سازی برند'!K:K,0)),0)","v":0},null,null,null,0,1,0,0,0]
[{"$f":"IFERROR(INDEX('یکسان سازی برند'!I:I,MATCH(C:C,'یکسان سازی برند'!K:K,0)),0)","v":0},null,null,null,0,1,0,0,0]
[{"$f":"IFERROR(INDEX('یکسان سازی برند'!I:I,MATCH(C:C,'یکسان سازی برند'!K:K,0)),0)","v":0},null,null,null,0,1,0,0,0]
[{"$f":"IFERROR(INDEX('یکسان سازی برند'!I:I,MATCH(C:C,'یکسان سازی برند'!K:K,0)),0)","v":0},null,null,null,0,1,0,0,0]
[{"$f":"IFERROR(INDEX('یکسان سازی برند'!I:I,MATCH(C:C,'یکسان سازی برند'!K:K,0)),0)","v":0},null,null,null,0,1,0,0,0]
[{"$f":"IFERROR(INDEX('یکسان سازی برند'!I:I,MATCH(C:C,'یکسان سازی برند'!K:K,0)),0)","v":0},null,null,null,0,1,0,0,0]
[{"$f":"IFERROR(INDEX('یکسان سازی برند'!I:I,MATCH(C:C,'یکسان سازی برند'!K:K,0)),0)","v":0},null,null,null,0,1,0,0,0]
[{"$f":"IFERROR(INDEX('یکسان سازی برند'!I:I,MATCH(C:C,'یکسان سازی برند'!K:K,0)),0)","v":0},null,null,null,0,1,0,0,0]
[{"$f":"IFERROR(INDEX('یکسان سازی برند'!I:I,MATCH(C:C,'یکسان سازی برند'!K:K,0)),0)","v":0},null,null,null,0,1,0,0,0]
[{"$f":"IFERROR(INDEX('یکسان سازی برند'!I:I,MATCH(C:C,'یکسان سازی برند'!K:K,0)),0)","v":0},null,null,null,0,1,0,0,0]
[{"$f":"IFERROR(INDEX('یکسان سازی برند'!I:I,MATCH(C:C,'یکسان سازی برند'!K:K,0)),0)","v":0},null,null,null,0,1,0,0,0]
[{"$f":"IFERROR(INDEX('یکسان سازی برند'!I:I,MATCH(C:C,'یکسان سازی برند'!K:K,0)),0)","v":0},null,null,null,0,1,0,0,0]
[{"$f":"IFERROR(INDEX('یکسان سازی برند'!I:I,MATCH(C:C,'یکسان سازی برند'!K:K,0)),0)","v":0},null,null,null,0,1,0,0,0]
[{"$f":"IFERROR(INDEX('یکسان سازی برند'!I:I,MATCH(C:C,'یکسان سازی برند'!K:K,0)),0)","v":0},null,null,null,0,1,0,0,0]
[{"$f":"IFERROR(INDEX('یکسان سازی برند'!I:I,MATCH(C:C,'یکسان سازی برند'!K:K,0)),0)","v":0},null,null,null,0,1,0,0,0]
[{"$f":"IFERROR(INDEX('یکسان سازی برند'!I:I,MATCH(C:C,'یکسان سازی برند'!K:K,0)),0)","v":0},null,null,null,0,1,0,0,0]
[{"$f":"IFERROR(INDEX('یکسان سازی برند'!I:I,MATCH(C:C,'یکسان سازی برند'!K:K,0)),0)","v":0},null,null,null,0,1,0,0,0]
[{"$f":"IFERROR(INDEX('یکسان سازی برند'!I:I,MATCH(C:C,'یکسان سازی برند'!K:K,0)),0)","v":0},null,null,null,0,1,0,0,0]
[{"$f":"IFERROR(INDEX('یکسان سازی برند'!I:I,MATCH(C:C,'یکسان سازی برند'!K:K,0)),0)","v":0},null,null,null,0,1,0,0,0]
[{"$f":"IFERROR(INDEX('یکسان سازی برند'!I:I,MATCH(C:C,'یکسان سازی برند'!K:K,0)),0)","v":0},null,null,null,0,1,0,0,0]
[{"$f":"IFERROR(INDEX('یکسان سازی برند'!I:I,MATCH(C:C,'یکسان سازی برند'!K:K,0)),0)","v":0},null,null,null,0,1,0,0,0]
[{"$f":"IFERROR(INDEX('یکسان سازی برند'!I:I,MATCH(C:C,'یکسان سازی برند'!K:K,0)),0)","v":0},null,null,null,0,1,0,0,0]
[{"$f":"IFERROR(INDEX('یکسان سازی برند'!I:I,MATCH(C:C,'یکسان سازی برند'!K:K,0)),0)","v":0},null,null,null,0,1,0,0,0]
[{"$f":"IFERROR(INDEX('یکسان سازی برند'!I:I,MATCH(C:C,'یکسان سازی برند'!K:K,0)),0)","v":0},null,null,null,0,1,0,0,0]
[{"$f":"IFERROR(INDEX('یکسان سازی برند'!I:I,MATCH(C:C,'یکسان سازی برند'!K:K,0)),0)","v":0},null,null,null,0,1,0,0,0]
[{"$f":"IFERROR(INDEX('یکسان سازی برند'!I:I,MATCH(C:C,'یکسان سازی برند'!K:K,0)),0)","v":0},null,null,null,0,1,0,0,0]
[{"$f":"IFERROR(INDEX('یکسان سازی برند'!I:I,MATCH(C:C,'یکسان سازی برند'!K:K,0)),0)","v":0},null,null,null,0,1,0,0,0]
[{"$f":"IFERROR(INDEX('یکسان سازی برند'!I:I,MATCH(C:C,'یکسان سازی برند'!K:K,0)),0)","v":0},null,null,null,0,1,0,0,0]
[{"$f":"IFERROR(INDEX('یکسان سازی برند'!I:I,MATCH(C:C,'یکسان سازی برند'!K:K,0)),0)","v":0},null,null,null,0,1,0,0,0]
[{"$f":"IFERROR(INDEX('یکسان سازی برند'!I:I,MATCH(C:C,'یکسان سازی برند'!K:K,0)),0)","v":0},null,null,null,0,1,0,0,0]
[{"$f":"IFERROR(INDEX('یکسان سازی برند'!I:I,MATCH(C:C,'یکسان سازی برند'!K:K,0)),0)","v":0},null,null,null,0,1,0,0,0]
[{"$f":"IFERROR(INDEX('یکسان سازی برند'!I:I,MATCH(C:C,'یکسان سازی برند'!K:K,0)),0)","v":0},null,null,null,0,1,0,0,0]
[{"$f":"IFERROR(INDEX('یکسان سازی برند'!I:I,MATCH(C:C,'یکسان سازی برند'!K:K,0)),0)","v":0},null,null,null,0,1,0,0,0]
[{"$f":"IFERROR(INDEX('یکسان سازی برند'!I:I,MATCH(C:C,'یکسان سازی برند'!K:K,0)),0)","v":0},null,null,null,0,1,0,0,0]
[{"$f":"IFERROR(INDEX('یکسان سازی برند'!I:I,MATCH(C:C,'یکسان سازی برند'!K:K,0)),0)","v":0},null,null,null,0,1,0,0,0]
[{"$f":"IFERROR(INDEX('یکسان سازی برند'!I:I,MATCH(C:C,'یکسان سازی برند'!K:K,0)),0)","v":0},null,null,null,0,1,0,0,0]
[{"$f":"IFERROR(INDEX('یکسان سازی برند'!I:I,MATCH(C:C,'یکسان سازی برند'!K:K,0)),0)","v":0},null,null,null,0,1,0,0,0]
[{"$f":"IFERROR(INDEX('یکسان سازی برند'!I:I,MATCH(C:C,'یکسان سازی برند'!K:K,0)),0)","v":0},null,null,null,0,1,0,0,0]
[{"$f":"IFERROR(INDEX('یکسان سازی برند'!I:I,MATCH(C:C,'یکسان سازی برند'!K:K,0)),0)","v":0},null,null,null,0,1,0,0,0]
[{"$f":"IFERROR(INDEX('یکسان سازی برند'!I:I,MATCH(C:C,'یکسان سازی برند'!K:K,0)),0)","v":0},null,null,null,0,1,0,0,0]
[{"$f":"IFERROR(INDEX('یکسان سازی برند'!I:I,MATCH(C:C,'یکسان سازی برند'!K:K,0)),0)","v":0},null,null,null,0,1,0,0,0]
[{"$f":"IFERROR(INDEX('یکسان سازی برند'!I:I,MATCH(C:C,'یکسان سازی برند'!K:K,0)),0)","v":0},null,null,null,0,1,0,0,0]
[{"$f":"IFERROR(INDEX('یکسان سازی برند'!I:I,MATCH(C:C,'یکسان سازی برند'!K:K,0)),0)","v":0},null,null,null,0,1,0,0,0]
[{"$f":"IFERROR(INDEX('یکسان سازی برند'!I:I,MATCH(C:C,'یکسان سازی برند'!K:K,0)),0)","v":0},null,null,null,0,1,0,0,0]
[{"$f":"IFERROR(INDEX('یکسان سازی برند'!I:I,MATCH(C:C,'یکسان سازی برند'!K:K,0)),0)","v":0},null,null,null,0,1,0,0,0]
[{"$f":"IFERROR(INDEX('یکسان سازی برند'!I:I,MATCH(C:C,'یکسان سازی برند'!K:K,0)),0)","v":0},null,null,null,0,1,0,0,0]
[{"$f":"IFERROR(INDEX('یکسان سازی برند'!I:I,MATCH(C:C,'یکسان سازی برند'!K:K,0)),0)","v":0},null,null,null,0,1,0,0,0]
[{"$f":"IFERROR(INDEX('یکسان سازی برند'!I:I,MATCH(C:C,'یکسان سازی برند'!K:K,0)),0)","v":0},null,null,null,0,1,{"$f":"(E324*F:F)+E324*20%","v":0},{"$f":"G324/2","v":0},{"$f":"E324*3","v":0}]
[{"$f":"IFERROR(INDEX('یکسان سازی برند'!I:I,MATCH(C:C,'یکسان سازی برند'!K:K,0)),0)","v":0},null,null,null,{"$f":"D325/12","v":0},1,0,0,0]
[{"$f":"IFERROR(INDEX('یکسان سازی برند'!I:I,MATCH(C:C,'یکسان سازی برند'!K:K,0)),0)","v":0},null,null,null,0,1,0,0,0]
[{"$f":"IFERROR(INDEX('یکسان سازی برند'!I:I,MATCH(C:C,'یکسان سازی برند'!K:K,0)),0)","v":0},null,null,null,0,1,0,0,0]
[{"$f":"IFERROR(INDEX('یکسان سازی برند'!I:I,MATCH(C:C,'یکسان سازی برند'!K:K,0)),0)","v":0},null,null,null,0,1,0,0,0]
[{"$f":"IFERROR(INDEX('یکسان سازی برند'!I:I,MATCH(C:C,'یکسان سازی برند'!K:K,0)),0)","v":0},null,null,null,0,1,0,0,0]
[{"$f":"IFERROR(INDEX('یکسان سازی برند'!I:I,MATCH(C:C,'یکسان سازی برند'!K:K,0)),0)","v":0},null,null,null,0,1,0,0,0]
[{"$f":"IFERROR(INDEX('یکسان سازی برند'!I:I,MATCH(C:C,'یکسان سازی برند'!K:K,0)),0)","v":0},null,null,null,0,1,0,0,0]
[{"$f":"IFERROR(INDEX('یکسان سازی برند'!I:I,MATCH(C:C,'یکسان سازی برند'!K:K,0)),0)","v":0},null,null,null,0,1,0,0,0]
[{"$f":"IFERROR(INDEX('یکسان سازی برند'!I:I,MATCH(C:C,'یکسان سازی برند'!K:K,0)),0)","v":0},null,null,null,0,1,0,0,0]
[{"$f":"IFERROR(INDEX('یکسان سازی برند'!I:I,MATCH(C:C,'یکسان سازی برند'!K:K,0)),0)","v":0},null,null,null,0,1,0,0,0]
[{"$f":"IFERROR(INDEX('یکسان سازی برند'!I:I,MATCH(C:C,'یکسان سازی برند'!K:K,0)),0)","v":0},null,null,null,0,1,0,0,0]
[{"$f":"IFERROR(INDEX('یکسان سازی برند'!I:I,MATCH(C:C,'یکسان سازی برند'!K:K,0)),0)","v":0},null,null,null,0,1,0,0,0]
[{"$f":"IFERROR(INDEX('یکسان سازی برند'!I:I,MATCH(C:C,'یکسان سازی برند'!K:K,0)),0)","v":0},null,null,null,0,1,0,0,0]
[{"$f":"IFERROR(INDEX('یکسان سازی برند'!I:I,MATCH(C:C,'یکسان سازی برند'!K:K,0)),0)","v":0},null,null,null,0,1,0,0,0]
[{"$f":"IFERROR(INDEX('یکسان سازی برند'!I:I,MATCH(C:C,'یکسان سازی برند'!K:K,0)),0)","v":0},null,null,null,0,1,0,0,0]
[{"$f":"IFERROR(INDEX('یکسان سازی برند'!I:I,MATCH(C:C,'یکسان سازی برند'!K:K,0)),0)","v":0},null,null,null,0,1,0,0,0]
[{"$f":"IFERROR(INDEX('یکسان سازی برند'!I:I,MATCH(C:C,'یکسان سازی برند'!K:K,0)),0)","v":0},null,null,null,0,1,0,0,0]
[{"$f":"IFERROR(INDEX('یکسان سازی برند'!I:I,MATCH(C:C,'یکسان سازی برند'!K:K,0)),0)","v":0},null,null,null,0,1,0,0,0]
[{"$f":"IFERROR(INDEX('یکسان سازی برند'!I:I,MATCH(C:C,'یکسان سازی برند'!K:K,0)),0)","v":0},null,null,null,0,1,0,0,0]
[{"$f":"IFERROR(INDEX('یکسان سازی برند'!I:I,MATCH(C:C,'یکسان سازی برند'!K:K,0)),0)","v":0},null,null,null,0,1,0,0,0]
[{"$f":"IFERROR(INDEX('یکسان سازی برند'!I:I,MATCH(C:C,'یکسان سازی برند'!K:K,0)),0)","v":0},null,null,null,0,1,0,0,0]
[{"$f":"IFERROR(INDEX('یکسان سازی برند'!I:I,MATCH(C:C,'یکسان سازی برند'!K:K,0)),0)","v":0},null,null,null,0,1,0,0,0]
[{"$f":"IFERROR(INDEX('یکسان سازی برند'!I:I,MATCH(C:C,'یکسان سازی برند'!K:K,0)),0)","v":0},null,null,null,0,1,0,0,0]
[{"$f":"IFERROR(INDEX('یکسان سازی برند'!I:I,MATCH(C:C,'یکسان سازی برند'!K:K,0)),0)","v":0},null,null,null,0,1,0,0,0]
[{"$f":"IFERROR(INDEX('یکسان سازی برند'!I:I,MATCH(C:C,'یکسان سازی برند'!K:K,0)),0)","v":0},null,null,null,0,1,0,0,0]
[{"$f":"IFERROR(INDEX('یکسان سازی برند'!I:I,MATCH(C:C,'یکسان سازی برند'!K:K,0)),0)","v":0},null,null,null,0,1,0,0,0]
[{"$f":"IFERROR(INDEX('یکسان سازی برند'!I:I,MATCH(C:C,'یکسان سازی برند'!K:K,0)),0)","v":0},null,null,null,0,1,0,0,0]
[{"$f":"IFERROR(INDEX('یکسان سازی برند'!I:I,MATCH(C:C,'یکسان سازی برند'!K:K,0)),0)","v":0},null,null,null,0,1,0,0,0]
[{"$f":"IFERROR(INDEX('یکسان سازی برند'!I:I,MATCH(C:C,'یکسان سازی برند'!K:K,0)),0)","v":0},null,null,null,0,1,0,0,0]
[{"$f":"IFERROR(INDEX('یکسان سازی برند'!I:I,MATCH(C:C,'یکسان سازی برند'!K:K,0)),0)","v":0},null,null,null,0,1,0,0,0]
[{"$f":"IFERROR(INDEX('یکسان سازی برند'!I:I,MATCH(C:C,'یکسان سازی برند'!K:K,0)),0)","v":0},null,null,null,0,1,0,0,0]
[{"$f":"IFERROR(INDEX('یکسان سازی برند'!I:I,MATCH(C:C,'یکسان سازی برند'!K:K,0)),0)","v":0},null,null,null,0,1,0,0,0]
[{"$f":"IFERROR(INDEX('یکسان سازی برند'!I:I,MATCH(C:C,'یکسان سازی برند'!K:K,0)),0)","v":0},null,null,null,0,1,0,0,0]
[{"$f":"IFERROR(INDEX('یکسان سازی برند'!I:I,MATCH(C:C,'یکسان سازی برند'!K:K,0)),0)","v":0},null,null,null,0,1,0,0,0]
[{"$f":"IFERROR(INDEX('یکسان سازی برند'!I:I,MATCH(C:C,'یکسان سازی برند'!K:K,0)),0)","v":0},null,null,null,0,1,0,0,0]
[{"$f":"IFERROR(INDEX('یکسان سازی برند'!I:I,MATCH(C:C,'یکسان سازی برند'!K:K,0)),0)","v":0},null,null,null,0,1,0,0,0]
[{"$f":"IFERROR(INDEX('یکسان سازی برند'!I:I,MATCH(C:C,'یکسان سازی برند'!K:K,0)),0)","v":0},null,null,null,0,1,0,0,0]
[{"$f":"IFERROR(INDEX('یکسان سازی برند'!I:I,MATCH(C:C,'یکسان سازی برند'!K:K,0)),0)","v":0},null,null,null,0,1,0,0,0]
[{"$f":"IFERROR(INDEX('یکسان سازی برند'!I:I,MATCH(C:C,'یکسان سازی برند'!K:K,0)),0)","v":0},null,null,null,0,1,0,0,0]
[{"$f":"IFERROR(INDEX('یکسان سازی برند'!I:I,MATCH(C:C,'یکسان سازی برند'!K:K,0)),0)","v":0},null,null,null,0,1,0,0,0]
[{"$f":"IFERROR(INDEX('یکسان سازی برند'!I:I,MATCH(C:C,'یکسان سازی برند'!K:K,0)),0)","v":0},null,null,null,0,1,0,0,0]
[{"$f":"IFERROR(INDEX('یکسان سازی برند'!I:I,MATCH(C:C,'یکسان سازی برند'!K:K,0)),0)","v":0},null,null,null,0,1,0,0,0]
[{"$f":"IFERROR(INDEX('یکسان سازی برند'!I:I,MATCH(C:C,'یکسان سازی برند'!K:K,0)),0)","v":0},null,null,null,0,1,0,0,0]
[{"$f":"IFERROR(INDEX('یکسان سازی برند'!I:I,MATCH(C:C,'یکسان سازی برند'!K:K,0)),0)","v":0},null,null,null,0,1,0,0,0]
[{"$f":"IFERROR(INDEX('یکسان سازی برند'!I:I,MATCH(C:C,'یکسان سازی برند'!K:K,0)),0)","v":0},null,null,null,0,1,0,0,0]
[{"$f":"IFERROR(INDEX('یکسان سازی برند'!I:I,MATCH(C:C,'یکسان سازی برند'!K:K,0)),0)","v":0},null,null,null,0,1,0,0,0]
[{"$f":"IFERROR(INDEX('یکسان سازی برند'!I:I,MATCH(C:C,'یکسان سازی برند'!K:K,0)),0)","v":0},null,null,null,0,1,0,0,0]
[{"$f":"IFERROR(INDEX('یکسان سازی برند'!I:I,MATCH(C:C,'یکسان سازی برند'!K:K,0)),0)","v":0},null,null,null,0,1,0,0,0]
[{"$f":"IFERROR(INDEX('یکسان سازی برند'!I:I,MATCH(C:C,'یکسان سازی برند'!K:K,0)),0)","v":0},null,null,null,0,1,0,0,0]
[{"$f":"IFERROR(INDEX('یکسان سازی برند'!I:I,MATCH(C:C,'یکسان سازی برند'!K:K,0)),0)","v":0},null,null,null,0,1,0,0,0]
[{"$f":"IFERROR(INDEX('یکسان سازی برند'!I:I,MATCH(C:C,'یکسان سازی برند'!K:K,0)),0)","v":0},null,null,null,0,1,0,0,0]
[{"$f":"IFERROR(INDEX('یکسان سازی برند'!I:I,MATCH(C:C,'یکسان سازی برند'!K:K,0)),0)","v":0},null,null,null,0,1,0,0,0]
[{"$f":"IFERROR(INDEX('یکسان سازی برند'!I:I,MATCH(C:C,'یکسان سازی برند'!K:K,0)),0)","v":0},null,null,null,0,1,0,0,0]
[{"$f":"IFERROR(INDEX('یکسان سازی برند'!I:I,MATCH(C:C,'یکسان سازی برند'!K:K,0)),0)","v":0},null,null,null,0,1,0,0,0]
[{"$f":"IFERROR(INDEX('یکسان سازی برند'!I:I,MATCH(C:C,'یکسان سازی برند'!K:K,0)),0)","v":0},null,null,null,0,1,0,0,0]
[{"$f":"IFERROR(INDEX('یکسان سازی برند'!I:I,MATCH(C:C,'یکسان سازی برند'!K:K,0)),0)","v":0},null,null,null,0,1,0,0,0]
[{"$f":"IFERROR(INDEX('یکسان سازی برند'!I:I,MATCH(C:C,'یکسان سازی برند'!K:K,0)),0)","v":0},null,null,null,0,1,0,0,0]
[{"$f":"IFERROR(INDEX('یکسان سازی برند'!I:I,MATCH(C:C,'یکسان سازی برند'!K:K,0)),0)","v":0},null,null,null,0,1,0,0,0]
[{"$f":"IFERROR(INDEX('یکسان سازی برند'!I:I,MATCH(C:C,'یکسان سازی برند'!K:K,0)),0)","v":0},null,null,null,0,1,0,0,0]
[{"$f":"IFERROR(INDEX('یکسان سازی برند'!I:I,MATCH(C:C,'یکسان سازی برند'!K:K,0)),0)","v":0},null,null,null,0,1,0,0,0]
[{"$f":"IFERROR(INDEX('یکسان سازی برند'!I:I,MATCH(C:C,'یکسان سازی برند'!K:K,0)),0)","v":0},null,null,null,0,1,0,0,0]
[{"$f":"IFERROR(INDEX('یکسان سازی برند'!I:I,MATCH(C:C,'یکسان سازی برند'!K:K,0)),0)","v":0},null,null,null,0,1,0,0,0]
[{"$f":"IFERROR(INDEX('یکسان سازی برند'!I:I,MATCH(C:C,'یکسان سازی برند'!K:K,0)),0)","v":0},null,null,null,0,1,0,0,0]
[{"$f":"IFERROR(INDEX('یکسان سازی برند'!I:I,MATCH(C:C,'یکسان سازی برند'!K:K,0)),0)","v":0},null,null,null,0,1,{"$f":"(E388*F:F)+E388*20%","v":0},{"$f":"G388/2","v":0},{"$f":"E388*3","v":0}]
[{"$f":"IFERROR(INDEX('یکسان سازی برند'!I:I,MATCH(C:C,'یکسان سازی برند'!K:K,0)),0)","v":0},null,null,null,{"$f":"D389/12","v":0},1,0,0,0]
[{"$f":"IFERROR(INDEX('یکسان سازی برند'!I:I,MATCH(C:C,'یکسان سازی برند'!K:K,0)),0)","v":0},null,null,null,0,1,0,0,0]
[{"$f":"IFERROR(INDEX('یکسان سازی برند'!I:I,MATCH(C:C,'یکسان سازی برند'!K:K,0)),0)","v":0},null,null,null,0,1,0,0,0]
[{"$f":"IFERROR(INDEX('یکسان سازی برند'!I:I,MATCH(C:C,'یکسان سازی برند'!K:K,0)),0)","v":0},null,null,null,0,1,0,0,0]
[{"$f":"IFERROR(INDEX('یکسان سازی برند'!I:I,MATCH(C:C,'یکسان سازی برند'!K:K,0)),0)","v":0},null,null,null,0,1,0,0,0]
[{"$f":"IFERROR(INDEX('یکسان سازی برند'!I:I,MATCH(C:C,'یکسان سازی برند'!K:K,0)),0)","v":0},null,null,null,0,1,0,0,0]
[{"$f":"IFERROR(INDEX('یکسان سازی برند'!I:I,MATCH(C:C,'یکسان سازی برند'!K:K,0)),0)","v":0},null,null,null,0,1,0,0,0]
[{"$f":"IFERROR(INDEX('یکسان سازی برند'!I:I,MATCH(C:C,'یکسان سازی برند'!K:K,0)),0)","v":0},null,null,null,0,1,0,0,0]
[{"$f":"IFERROR(INDEX('یکسان سازی برند'!I:I,MATCH(C:C,'یکسان سازی برند'!K:K,0)),0)","v":0},null,null,null,0,1,0,0,0]
[{"$f":"IFERROR(INDEX('یکسان سازی برند'!I:I,MATCH(C:C,'یکسان سازی برند'!K:K,0)),0)","v":0},null,null,null,0,1,0,0,0]
[{"$f":"IFERROR(INDEX('یکسان سازی برند'!I:I,MATCH(C:C,'یکسان سازی برند'!K:K,0)),0)","v":0},null,null,null,0,1,0,0,0]
[{"$f":"IFERROR(INDEX('یکسان سازی برند'!I:I,MATCH(C:C,'یکسان سازی برند'!K:K,0)),0)","v":0},null,null,null,0,1,0,0,0]
[{"$f":"IFERROR(INDEX('یکسان سازی برند'!I:I,MATCH(C:C,'یکسان سازی برند'!K:K,0)),0)","v":0},null,null,null,0,1,0,0,0]
[{"$f":"IFERROR(INDEX('یکسان سازی برند'!I:I,MATCH(C:C,'یکسان سازی برند'!K:K,0)),0)","v":0},null,null,null,0,1,0,0,0]
[{"$f":"IFERROR(INDEX('یکسان سازی برند'!I:I,MATCH(C:C,'یکسان سازی برند'!K:K,0)),0)","v":0},null,null,null,0,1,0,0,0]
[{"$f":"IFERROR(INDEX('یکسان سازی برند'!I:I,MATCH(C:C,'یکسان سازی برند'!K:K,0)),0)","v":0},null,null,null,0,1,0,0,0]
[{"$f":"IFERROR(INDEX('یکسان سازی برند'!I:I,MATCH(C:C,'یکسان سازی برند'!K:K,0)),0)","v":0},null,null,null,0,1,0,0,0]
[{"$f":"IFERROR(INDEX('یکسان سازی برند'!I:I,MATCH(C:C,'یکسان سازی برند'!K:K,0)),0)","v":0},null,null,null,0,1,0,0,0]
[{"$f":"IFERROR(INDEX('یکسان سازی برند'!I:I,MATCH(C:C,'یکسان سازی برند'!K:K,0)),0)","v":0},null,null,null,0,1,0,0,0]
[{"$f":"IFERROR(INDEX('یکسان سازی برند'!I:I,MATCH(C:C,'یکسان سازی برند'!K:K,0)),0)","v":0},null,null,null,0,1,0,0,0]
[{"$f":"IFERROR(INDEX('یکسان سازی برند'!I:I,MATCH(C:C,'یکسان سازی برند'!K:K,0)),0)","v":0},null,null,null,0,1,0,0,0]
[{"$f":"IFERROR(INDEX('یکسان سازی برند'!I:I,MATCH(C:C,'یکسان سازی برند'!K:K,0)),0)","v":0},null,null,null,0,1,0,0,0]
[{"$f":"IFERROR(INDEX('یکسان سازی برند'!I:I,MATCH(C:C,'یکسان سازی برند'!K:K,0)),0)","v":0},null,null,null,0,1,0,0,0]
[{"$f":"IFERROR(INDEX('یکسان سازی برند'!I:I,MATCH(C:C,'یکسان سازی برند'!K:K,0)),0)","v":0},null,null,null,0,1,0,0,0]
[{"$f":"IFERROR(INDEX('یکسان سازی برند'!I:I,MATCH(C:C,'یکسان سازی برند'!K:K,0)),0)","v":0},null,null,null,0,1,0,0,0]
[{"$f":"IFERROR(INDEX('یکسان سازی برند'!I:I,MATCH(C:C,'یکسان سازی برند'!K:K,0)),0)","v":0},null,null,null,0,1,0,0,0]
[{"$f":"IFERROR(INDEX('یکسان سازی برند'!I:I,MATCH(C:C,'یکسان سازی برند'!K:K,0)),0)","v":0},null,null,null,0,1,0,0,0]
[{"$f":"IFERROR(INDEX('یکسان سازی برند'!I:I,MATCH(C:C,'یکسان سازی برند'!K:K,0)),0)","v":0},null,null,null,0,1,0,0,0]
[{"$f":"IFERROR(INDEX('یکسان سازی برند'!I:I,MATCH(C:C,'یکسان سازی برند'!K:K,0)),0)","v":0},null,null,null,0,1,0,0,0]
[{"$f":"IFERROR(INDEX('یکسان سازی برند'!I:I,MATCH(C:C,'یکسان سازی برند'!K:K,0)),0)","v":0},null,null,null,0,1,0,0,0]
[{"$f":"IFERROR(INDEX('یکسان سازی برند'!I:I,MATCH(C:C,'یکسان سازی برند'!K:K,0)),0)","v":0},null,null,null,0,1,0,0,0]
[{"$f":"IFERROR(INDEX('یکسان سازی برند'!I:I,MATCH(C:C,'یکسان سازی برند'!K:K,0)),0)","v":0},null,null,null,0,1,0,0,0]
[{"$f":"IFERROR(INDEX('یکسان سازی برند'!I:I,MATCH(C:C,'یکسان سازی برند'!K:K,0)),0)","v":0},null,null,null,0,1,0,0,0]
[{"$f":"IFERROR(INDEX('یکسان سازی برند'!I:I,MATCH(C:C,'یکسان سازی برند'!K:K,0)),0)","v":0},null,null,null,0,1,0,0,0]
[{"$f":"IFERROR(INDEX('یکسان سازی برند'!I:I,MATCH(C:C,'یکسان سازی برند'!K:K,0)),0)","v":0},null,null,null,0,1,0,0,0]
[{"$f":"IFERROR(INDEX('یکسان سازی برند'!I:I,MATCH(C:C,'یکسان سازی برند'!K:K,0)),0)","v":0},null,null,null,0,1,0,0,0]
[{"$f":"IFERROR(INDEX('یکسان سازی برند'!I:I,MATCH(C:C,'یکسان سازی برند'!K:K,0)),0)","v":0},null,null,null,0,1,0,0,0]
[{"$f":"IFERROR(INDEX('یکسان سازی برند'!I:I,MATCH(C:C,'یکسان سازی برند'!K:K,0)),0)","v":0},null,null,null,0,1,0,0,0]
[{"$f":"IFERROR(INDEX('یکسان سازی برند'!I:I,MATCH(C:C,'یکسان سازی برند'!K:K,0)),0)","v":0},null,null,null,0,1,0,0,0]
[{"$f":"IFERROR(INDEX('یکسان سازی برند'!I:I,MATCH(C:C,'یکسان سازی برند'!K:K,0)),0)","v":0},null,null,null,0,1,0,0,0]
[{"$f":"IFERROR(INDEX('یکسان سازی برند'!I:I,MATCH(C:C,'یکسان سازی برند'!K:K,0)),0)","v":0},null,null,null,0,1,0,0,0]
[{"$f":"IFERROR(INDEX('یکسان سازی برند'!I:I,MATCH(C:C,'یکسان سازی برند'!K:K,0)),0)","v":0},null,null,null,0,1,0,0,0]
[{"$f":"IFERROR(INDEX('یکسان سازی برند'!I:I,MATCH(C:C,'یکسان سازی برند'!K:K,0)),0)","v":0},null,null,null,0,1,0,0,0]
[{"$f":"IFERROR(INDEX('یکسان سازی برند'!I:I,MATCH(C:C,'یکسان سازی برند'!K:K,0)),0)","v":0},null,null,null,0,1,0,0,0]
[{"$f":"IFERROR(INDEX('یکسان سازی برند'!I:I,MATCH(C:C,'یکسان سازی برند'!K:K,0)),0)","v":0},null,null,null,0,1,0,0,0]
[{"$f":"IFERROR(INDEX('یکسان سازی برند'!I:I,MATCH(C:C,'یکسان سازی برند'!K:K,0)),0)","v":0},null,null,null,0,1,0,0,0]
[{"$f":"IFERROR(INDEX('یکسان سازی برند'!I:I,MATCH(C:C,'یکسان سازی برند'!K:K,0)),0)","v":0},null,null,null,0,1,0,0,0]
[{"$f":"IFERROR(INDEX('یکسان سازی برند'!I:I,MATCH(C:C,'یکسان سازی برند'!K:K,0)),0)","v":0},null,null,null,0,1,0,0,0]
[{"$f":"IFERROR(INDEX('یکسان سازی برند'!I:I,MATCH(C:C,'یکسان سازی برند'!K:K,0)),0)","v":0},null,null,null,0,1,0,0,0]
[{"$f":"IFERROR(INDEX('یکسان سازی برند'!I:I,MATCH(C:C,'یکسان سازی برند'!K:K,0)),0)","v":0},null,null,null,0,1,0,0,0]
[{"$f":"IFERROR(INDEX('یکسان سازی برند'!I:I,MATCH(C:C,'یکسان سازی برند'!K:K,0)),0)","v":0},null,null,null,0,1,0,0,0]
[{"$f":"IFERROR(INDEX('یکسان سازی برند'!I:I,MATCH(C:C,'یکسان سازی برند'!K:K,0)),0)","v":0},null,null,null,0,1,0,0,0]
[{"$f":"IFERROR(INDEX('یکسان سازی برند'!I:I,MATCH(C:C,'یکسان سازی برند'!K:K,0)),0)","v":0},null,null,null,0,1,0,0,0]
[{"$f":"IFERROR(INDEX('یکسان سازی برند'!I:I,MATCH(C:C,'یکسان سازی برند'!K:K,0)),0)","v":0},null,null,null,0,1,0,0,0]
[{"$f":"IFERROR(INDEX('یکسان سازی برند'!I:I,MATCH(C:C,'یکسان سازی برند'!K:K,0)),0)","v":0},null,null,null,0,1,0,0,0]
[{"$f":"IFERROR(INDEX('یکسان سازی برند'!I:I,MATCH(C:C,'یکسان سازی برند'!K:K,0)),0)","v":0},null,null,null,0,1,0,0,0]
[{"$f":"IFERROR(INDEX('یکسان سازی برند'!I:I,MATCH(C:C,'یکسان سازی برند'!K:K,0)),0)","v":0},null,null,null,0,1,0,0,0]
[{"$f":"IFERROR(INDEX('یکسان سازی برند'!I:I,MATCH(C:C,'یکسان سازی برند'!K:K,0)),0)","v":0},null,null,null,0,1,0,0,0]
[{"$f":"IFERROR(INDEX('یکسان سازی برند'!I:I,MATCH(C:C,'یکسان سازی برند'!K:K,0)),0)","v":0},null,null,null,0,1,0,0,0]
[{"$f":"IFERROR(INDEX('یکسان سازی برند'!I:I,MATCH(C:C,'یکسان سازی برند'!K:K,0)),0)","v":0},null,null,null,0,1,0,0,0]
[{"$f":"IFERROR(INDEX('یکسان سازی برند'!I:I,MATCH(C:C,'یکسان سازی برند'!K:K,0)),0)","v":0},null,null,null,0,1,0,0,0]
[{"$f":"IFERROR(INDEX('یکسان سازی برند'!I:I,MATCH(C:C,'یکسان سازی برند'!K:K,0)),0)","v":0},null,null,null,0,1,0,0,0]
[{"$f":"IFERROR(INDEX('یکسان سازی برند'!I:I,MATCH(C:C,'یکسان سازی برند'!K:K,0)),0)","v":0},null,null,null,0,1,0,0,0]
[{"$f":"IFERROR(INDEX('یکسان سازی برند'!I:I,MATCH(C:C,'یکسان سازی برند'!K:K,0)),0)","v":0},null,null,null,0,1,{"$f":"(E452*F:F)+E452*20%","v":0},{"$f":"G452/2","v":0},{"$f":"E452*3","v":0}]
[{"$f":"IFERROR(INDEX('یکسان سازی برند'!I:I,MATCH(C:C,'یکسان سازی برند'!K:K,0)),0)","v":0},null,null,null,{"$f":"D453/12","v":0},1,0,0,0]
[{"$f":"IFERROR(INDEX('یکسان سازی برند'!I:I,MATCH(C:C,'یکسان سازی برند'!K:K,0)),0)","v":0},null,null,null,0,1,0,0,0]
[{"$f":"IFERROR(INDEX('یکسان سازی برند'!I:I,MATCH(C:C,'یکسان سازی برند'!K:K,0)),0)","v":0},null,null,null,0,1,0,0,0]
[{"$f":"IFERROR(INDEX('یکسان سازی برند'!I:I,MATCH(C:C,'یکسان سازی برند'!K:K,0)),0)","v":0},null,null,null,0,1,0,0,0]
[{"$f":"IFERROR(INDEX('یکسان سازی برند'!I:I,MATCH(C:C,'یکسان سازی برند'!K:K,0)),0)","v":0},null,null,null,0,1,0,0,0]
[{"$f":"IFERROR(INDEX('یکسان سازی برند'!I:I,MATCH(C:C,'یکسان سازی برند'!K:K,0)),0)","v":0},null,null,null,0,1,0,0,0]
[{"$f":"IFERROR(INDEX('یکسان سازی برند'!I:I,MATCH(C:C,'یکسان سازی برند'!K:K,0)),0)","v":0},null,null,null,0,1,0,0,0]
[{"$f":"IFERROR(INDEX('یکسان سازی برند'!I:I,MATCH(C:C,'یکسان سازی برند'!K:K,0)),0)","v":0},null,null,null,0,1,0,0,0]
[{"$f":"IFERROR(INDEX('یکسان سازی برند'!I:I,MATCH(C:C,'یکسان سازی برند'!K:K,0)),0)","v":0},null,null,null,0,1,0,0,0]
[{"$f":"IFERROR(INDEX('یکسان سازی برند'!I:I,MATCH(C:C,'یکسان سازی برند'!K:K,0)),0)","v":0},null,null,null,0,1,0,0,0]
[{"$f":"IFERROR(INDEX('یکسان سازی برند'!I:I,MATCH(C:C,'یکسان سازی برند'!K:K,0)),0)","v":0},null,null,null,0,1,0,0,0]
[{"$f":"IFERROR(INDEX('یکسان سازی برند'!I:I,MATCH(C:C,'یکسان سازی برند'!K:K,0)),0)","v":0},null,null,null,0,1,0,0,0]
[{"$f":"IFERROR(INDEX('یکسان سازی برند'!I:I,MATCH(C:C,'یکسان سازی برند'!K:K,0)),0)","v":0},null,null,null,0,1,0,0,0]
[{"$f":"IFERROR(INDEX('یکسان سازی برند'!I:I,MATCH(C:C,'یکسان سازی برند'!K:K,0)),0)","v":0},null,null,null,0,1,0,0,0]
[{"$f":"IFERROR(INDEX('یکسان سازی برند'!I:I,MATCH(C:C,'یکسان سازی برند'!K:K,0)),0)","v":0},null,null,null,0,1,0,0,0]
[{"$f":"IFERROR(INDEX('یکسان سازی برند'!I:I,MATCH(C:C,'یکسان سازی برند'!K:K,0)),0)","v":0},null,null,null,0,1,0,0,0]
[{"$f":"IFERROR(INDEX('یکسان سازی برند'!I:I,MATCH(C:C,'یکسان سازی برند'!K:K,0)),0)","v":0},null,null,null,0,1,0,0,0]
[{"$f":"IFERROR(INDEX('یکسان سازی برند'!I:I,MATCH(C:C,'یکسان سازی برند'!K:K,0)),0)","v":0},null,null,null,0,1,0,0,0]
[{"$f":"IFERROR(INDEX('یکسان سازی برند'!I:I,MATCH(C:C,'یکسان سازی برند'!K:K,0)),0)","v":0},null,null,null,0,1,0,0,0]
[{"$f":"IFERROR(INDEX('یکسان سازی برند'!I:I,MATCH(C:C,'یکسان سازی برند'!K:K,0)),0)","v":0},null,null,null,0,1,0,0,0]
[{"$f":"IFERROR(INDEX('یکسان سازی برند'!I:I,MATCH(C:C,'یکسان سازی برند'!K:K,0)),0)","v":0},null,null,null,0,1,0,0,0]
[{"$f":"IFERROR(INDEX('یکسان سازی برند'!I:I,MATCH(C:C,'یکسان سازی برند'!K:K,0)),0)","v":0},null,null,null,0,1,0,0,0]
[{"$f":"IFERROR(INDEX('یکسان سازی برند'!I:I,MATCH(C:C,'یکسان سازی برند'!K:K,0)),0)","v":0},null,null,null,0,1,0,0,0]
[{"$f":"IFERROR(INDEX('یکسان سازی برند'!I:I,MATCH(C:C,'یکسان سازی برند'!K:K,0)),0)","v":0},null,null,null,0,1,0,0,0]
[{"$f":"IFERROR(INDEX('یکسان سازی برند'!I:I,MATCH(C:C,'یکسان سازی برند'!K:K,0)),0)","v":0},null,null,null,0,1,0,0,0]
[{"$f":"IFERROR(INDEX('یکسان سازی برند'!I:I,MATCH(C:C,'یکسان سازی برند'!K:K,0)),0)","v":0},null,null,null,0,1,0,0,0]
[{"$f":"IFERROR(INDEX('یکسان سازی برند'!I:I,MATCH(C:C,'یکسان سازی برند'!K:K,0)),0)","v":0},null,null,null,0,1,0,0,0]
[{"$f":"IFERROR(INDEX('یکسان سازی برند'!I:I,MATCH(C:C,'یکسان سازی برند'!K:K,0)),0)","v":0},null,null,null,0,1,0,0,0]
[{"$f":"IFERROR(INDEX('یکسان سازی برند'!I:I,MATCH(C:C,'یکسان سازی برند'!K:K,0)),0)","v":0},null,null,null,0,1,0,0,0]
[{"$f":"IFERROR(INDEX('یکسان سازی برند'!I:I,MATCH(C:C,'یکسان سازی برند'!K:K,0)),0)","v":0},null,null,null,0,1,0,0,0]
[{"$f":"IFERROR(INDEX('یکسان سازی برند'!I:I,MATCH(C:C,'یکسان سازی برند'!K:K,0)),0)","v":0},null,null,null,0,1,0,0,0]
[{"$f":"IFERROR(INDEX('یکسان سازی برند'!I:I,MATCH(C:C,'یکسان سازی برند'!K:K,0)),0)","v":0},null,null,null,0,1,0,0,0]
[{"$f":"IFERROR(INDEX('یکسان سازی برند'!I:I,MATCH(C:C,'یکسان سازی برند'!K:K,0)),0)","v":0},null,null,null,0,1,0,0,0]
[{"$f":"IFERROR(INDEX('یکسان سازی برند'!I:I,MATCH(C:C,'یکسان سازی برند'!K:K,0)),0)","v":0},null,null,null,0,1,0,0,0]
[{"$f":"IFERROR(INDEX('یکسان سازی برند'!I:I,MATCH(C:C,'یکسان سازی برند'!K:K,0)),0)","v":0},null,null,null,0,1,0,0,0]
[{"$f":"IFERROR(INDEX('یکسان سازی برند'!I:I,MATCH(C:C,'یکسان سازی برند'!K:K,0)),0)","v":0},null,null,null,0,1,0,0,0]
[{"$f":"IFERROR(INDEX('یکسان سازی برند'!I:I,MATCH(C:C,'یکسان سازی برند'!K:K,0)),0)","v":0},null,null,null,0,1,0,0,0]
[{"$f":"IFERROR(INDEX('یکسان سازی برند'!I:I,MATCH(C:C,'یکسان سازی برند'!K:K,0)),0)","v":0},null,null,null,0,1,0,0,0]
[{"$f":"IFERROR(INDEX('یکسان سازی برند'!I:I,MATCH(C:C,'یکسان سازی برند'!K:K,0)),0)","v":0},null,null,null,0,1,0,0,0]
[{"$f":"IFERROR(INDEX('یکسان سازی برند'!I:I,MATCH(C:C,'یکسان سازی برند'!K:K,0)),0)","v":0},null,null,null,0,1,0,0,0]
[{"$f":"IFERROR(INDEX('یکسان سازی برند'!I:I,MATCH(C:C,'یکسان سازی برند'!K:K,0)),0)","v":0},null,null,null,0,1,0,0,0]
[{"$f":"IFERROR(INDEX('یکسان سازی برند'!I:I,MATCH(C:C,'یکسان سازی برند'!K:K,0)),0)","v":0},null,null,null,0,1,0,0,0]
[{"$f":"IFERROR(INDEX('یکسان سازی برند'!I:I,MATCH(C:C,'یکسان سازی برند'!K:K,0)),0)","v":0},null,null,null,0,1,0,0,0]
[{"$f":"IFERROR(INDEX('یکسان سازی برند'!I:I,MATCH(C:C,'یکسان سازی برند'!K:K,0)),0)","v":0},null,null,null,0,1,0,0,0]
[{"$f":"IFERROR(INDEX('یکسان سازی برند'!I:I,MATCH(C:C,'یکسان سازی برند'!K:K,0)),0)","v":0},null,null,null,0,1,0,0,0]
[{"$f":"IFERROR(INDEX('یکسان سازی برند'!I:I,MATCH(C:C,'یکسان سازی برند'!K:K,0)),0)","v":0},null,null,null,0,1,0,0,0]
[{"$f":"IFERROR(INDEX('یکسان سازی برند'!I:I,MATCH(C:C,'یکسان سازی برند'!K:K,0)),0)","v":0},null,null,null,0,1,0,0,0]
[{"$f":"IFERROR(INDEX('یکسان سازی برند'!I:I,MATCH(C:C,'یکسان سازی برند'!K:K,0)),0)","v":0},null,null,null,0,1,0,0,0]
[{"$f":"IFERROR(INDEX('یکسان سازی برند'!I:I,MATCH(C:C,'یکسان سازی برند'!K:K,0)),0)","v":0},null,null,null,0,1,0,0,0]
[{"$f":"IFERROR(INDEX('یکسان سازی برند'!I:I,MATCH(C:C,'یکسان سازی برند'!K:K,0)),0)","v":0},null,null,null,0,1,0,0,0]
[{"$f":"IFERROR(INDEX('یکسان سازی برند'!I:I,MATCH(C:C,'یکسان سازی برند'!K:K,0)),0)","v":0},null,null,null,0,1,0,0,0]
[{"$f":"IFERROR(INDEX('یکسان سازی برند'!I:I,MATCH(C:C,'یکسان سازی برند'!K:K,0)),0)","v":0},null,null,null,0,1,0,0,0]
[{"$f":"IFERROR(INDEX('یکسان سازی برند'!I:I,MATCH(C:C,'یکسان سازی برند'!K:K,0)),0)","v":0},null,null,null,0,1,0,0,0]
[{"$f":"IFERROR(INDEX('یکسان سازی برند'!I:I,MATCH(C:C,'یکسان سازی برند'!K:K,0)),0)","v":0},null,null,null,0,1,0,0,0]
[{"$f":"IFERROR(INDEX('یکسان سازی برند'!I:I,MATCH(C:C,'یکسان سازی برند'!K:K,0)),0)","v":0},null,null,null,0,1,0,0,0]
[{"$f":"IFERROR(INDEX('یکسان سازی برند'!I:I,MATCH(C:C,'یکسان سازی برند'!K:K,0)),0)","v":0},null,null,null,0,1,0,0,0]
[{"$f":"IFERROR(INDEX('یکسان سازی برند'!I:I,MATCH(C:C,'یکسان سازی برند'!K:K,0)),0)","v":0},null,null,null,0,1,0,0,0]
[{"$f":"IFERROR(INDEX('یکسان سازی برند'!I:I,MATCH(C:C,'یکسان سازی برند'!K:K,0)),0)","v":0},null,null,null,0,1,0,0,0]
[{"$f":"IFERROR(INDEX('یکسان سازی برند'!I:I,MATCH(C:C,'یکسان سازی برند'!K:K,0)),0)","v":0},null,null,null,0,1,0,0,0]
[{"$f":"IFERROR(INDEX('یکسان سازی برند'!I:I,MATCH(C:C,'یکسان سازی برند'!K:K,0)),0)","v":0},null,null,null,0,1,0,0,0]
[{"$f":"IFERROR(INDEX('یکسان سازی برند'!I:I,MATCH(C:C,'یکسان سازی برند'!K:K,0)),0)","v":0},null,null,null,0,1,0,0,0]
[{"$f":"IFERROR(INDEX('یکسان سازی برند'!I:I,MATCH(C:C,'یکسان سازی برند'!K:K,0)),0)","v":0},null,null,null,0,1,0,0,0]
[{"$f":"IFERROR(INDEX('یکسان سازی برند'!I:I,MATCH(C:C,'یکسان سازی برند'!K:K,0)),0)","v":0},null,null,null,0,1,0,0,0]
[{"$f":"IFERROR(INDEX('یکسان سازی برند'!I:I,MATCH(C:C,'یکسان سازی برند'!K:K,0)),0)","v":0},null,null,null,0,1,{"$f":"(E516*F:F)+E516*20%","v":0},{"$f":"G516/2","v":0},{"$f":"E516*3","v":0}]
[{"$f":"IFERROR(INDEX('یکسان سازی برند'!I:I,MATCH(C:C,'یکسان سازی برند'!K:K,0)),0)","v":0},null,null,null,{"$f":"D517/12","v":0},1,0,0,0]
[{"$f":"IFERROR(INDEX('یکسان سازی برند'!I:I,MATCH(C:C,'یکسان سازی برند'!K:K,0)),0)","v":0},null,null,null,0,1,0,0,0]
[{"$f":"IFERROR(INDEX('یکسان سازی برند'!I:I,MATCH(C:C,'یکسان سازی برند'!K:K,0)),0)","v":0},null,null,null,0,1,0,0,0]
[{"$f":"IFERROR(INDEX('یکسان سازی برند'!I:I,MATCH(C:C,'یکسان سازی برند'!K:K,0)),0)","v":0},null,null,null,0,1,0,0,0]
[{"$f":"IFERROR(INDEX('یکسان سازی برند'!I:I,MATCH(C:C,'یکسان سازی برند'!K:K,0)),0)","v":0},null,null,null,0,1,0,0,0]
[{"$f":"IFERROR(INDEX('یکسان سازی برند'!I:I,MATCH(C:C,'یکسان سازی برند'!K:K,0)),0)","v":0},null,null,null,0,1,0,0,0]
[{"$f":"IFERROR(INDEX('یکسان سازی برند'!I:I,MATCH(C:C,'یکسان سازی برند'!K:K,0)),0)","v":0},null,null,null,0,1,0,0,0]
[{"$f":"IFERROR(INDEX('یکسان سازی برند'!I:I,MATCH(C:C,'یکسان سازی برند'!K:K,0)),0)","v":0},null,null,null,0,1,0,0,0]
[{"$f":"IFERROR(INDEX('یکسان سازی برند'!I:I,MATCH(C:C,'یکسان سازی برند'!K:K,0)),0)","v":0},null,null,null,0,1,0,0,0]
[{"$f":"IFERROR(INDEX('یکسان سازی برند'!I:I,MATCH(C:C,'یکسان سازی برند'!K:K,0)),0)","v":0},null,null,null,0,1,0,0,0]
[{"$f":"IFERROR(INDEX('یکسان سازی برند'!I:I,MATCH(C:C,'یکسان سازی برند'!K:K,0)),0)","v":0},null,null,null,0,1,0,0,0]
[{"$f":"IFERROR(INDEX('یکسان سازی برند'!I:I,MATCH(C:C,'یکسان سازی برند'!K:K,0)),0)","v":0},null,null,null,0,1,0,0,0]
[{"$f":"IFERROR(INDEX('یکسان سازی برند'!I:I,MATCH(C:C,'یکسان سازی برند'!K:K,0)),0)","v":0},null,null,null,0,1,0,0,0]
[{"$f":"IFERROR(INDEX('یکسان سازی برند'!I:I,MATCH(C:C,'یکسان سازی برند'!K:K,0)),0)","v":0},null,null,null,0,1,0,0,0]
[{"$f":"IFERROR(INDEX('یکسان سازی برند'!I:I,MATCH(C:C,'یکسان سازی برند'!K:K,0)),0)","v":0},null,null,null,0,1,0,0,0]
[{"$f":"IFERROR(INDEX('یکسان سازی برند'!I:I,MATCH(C:C,'یکسان سازی برند'!K:K,0)),0)","v":0},null,null,null,0,1,0,0,0]
[{"$f":"IFERROR(INDEX('یکسان سازی برند'!I:I,MATCH(C:C,'یکسان سازی برند'!K:K,0)),0)","v":0},null,null,null,0,1,0,0,0]
[{"$f":"IFERROR(INDEX('یکسان سازی برند'!I:I,MATCH(C:C,'یکسان سازی برند'!K:K,0)),0)","v":0},null,null,null,0,1,0,0,0]
[{"$f":"IFERROR(INDEX('یکسان سازی برند'!I:I,MATCH(C:C,'یکسان سازی برند'!K:K,0)),0)","v":0},null,null,null,0,1,0,0,0]
[{"$f":"IFERROR(INDEX('یکسان سازی برند'!I:I,MATCH(C:C,'یکسان سازی برند'!K:K,0)),0)","v":0},null,null,null,0,1,0,0,0]
[{"$f":"IFERROR(INDEX('یکسان سازی برند'!I:I,MATCH(C:C,'یکسان سازی برند'!K:K,0)),0)","v":0},null,null,null,0,1,0,0,0]
[{"$f":"IFERROR(INDEX('یکسان سازی برند'!I:I,MATCH(C:C,'یکسان سازی برند'!K:K,0)),0)","v":0},null,null,null,0,1,0,0,0]
[{"$f":"IFERROR(INDEX('یکسان سازی برند'!I:I,MATCH(C:C,'یکسان سازی برند'!K:K,0)),0)","v":0},null,null,null,0,1,0,0,0]
[{"$f":"IFERROR(INDEX('یکسان سازی برند'!I:I,MATCH(C:C,'یکسان سازی برند'!K:K,0)),0)","v":0},null,null,null,0,1,0,0,0]
[{"$f":"IFERROR(INDEX('یکسان سازی برند'!I:I,MATCH(C:C,'یکسان سازی برند'!K:K,0)),0)","v":0},null,null,null,0,1,0,0,0]
[{"$f":"IFERROR(INDEX('یکسان سازی برند'!I:I,MATCH(C:C,'یکسان سازی برند'!K:K,0)),0)","v":0},null,null,null,0,1,0,0,0]
[{"$f":"IFERROR(INDEX('یکسان سازی برند'!I:I,MATCH(C:C,'یکسان سازی برند'!K:K,0)),0)","v":0},null,null,null,0,1,0,0,0]
[{"$f":"IFERROR(INDEX('یکسان سازی برند'!I:I,MATCH(C:C,'یکسان سازی برند'!K:K,0)),0)","v":0},null,null,null,0,1,0,0,0]
[{"$f":"IFERROR(INDEX('یکسان سازی برند'!I:I,MATCH(C:C,'یکسان سازی برند'!K:K,0)),0)","v":0},null,null,null,0,1,0,0,0]
[{"$f":"IFERROR(INDEX('یکسان سازی برند'!I:I,MATCH(C:C,'یکسان سازی برند'!K:K,0)),0)","v":0},null,null,null,0,1,0,0,0]
[{"$f":"IFERROR(INDEX('یکسان سازی برند'!I:I,MATCH(C:C,'یکسان سازی برند'!K:K,0)),0)","v":0},null,null,null,0,1,0,0,0]
[{"$f":"IFERROR(INDEX('یکسان سازی برند'!I:I,MATCH(C:C,'یکسان سازی برند'!K:K,0)),0)","v":0},null,null,null,0,1,0,0,0]
[{"$f":"IFERROR(INDEX('یکسان سازی برند'!I:I,MATCH(C:C,'یکسان سازی برند'!K:K,0)),0)","v":0},null,null,null,0,1,0,0,0]
[{"$f":"IFERROR(INDEX('یکسان سازی برند'!I:I,MATCH(C:C,'یکسان سازی برند'!K:K,0)),0)","v":0},null,null,null,0,1,0,0,0]
[{"$f":"IFERROR(INDEX('یکسان سازی برند'!I:I,MATCH(C:C,'یکسان سازی برند'!K:K,0)),0)","v":0},null,null,null,0,1,0,0,0]
[{"$f":"IFERROR(INDEX('یکسان سازی برند'!I:I,MATCH(C:C,'یکسان سازی برند'!K:K,0)),0)","v":0},null,null,null,0,1,0,0,0]
[{"$f":"IFERROR(INDEX('یکسان سازی برند'!I:I,MATCH(C:C,'یکسان سازی برند'!K:K,0)),0)","v":0},null,null,null,0,1,0,0,0]
[{"$f":"IFERROR(INDEX('یکسان سازی برند'!I:I,MATCH(C:C,'یکسان سازی برند'!K:K,0)),0)","v":0},null,null,null,0,1,0,0,0]
[{"$f":"IFERROR(INDEX('یکسان سازی برند'!I:I,MATCH(C:C,'یکسان سازی برند'!K:K,0)),0)","v":0},null,null,null,0,1,0,0,0]
[{"$f":"IFERROR(INDEX('یکسان سازی برند'!I:I,MATCH(C:C,'یکسان سازی برند'!K:K,0)),0)","v":0},null,null,null,0,1,0,0,0]
[{"$f":"IFERROR(INDEX('یکسان سازی برند'!I:I,MATCH(C:C,'یکسان سازی برند'!K:K,0)),0)","v":0},null,null,null,0,1,0,0,0]
[{"$f":"IFERROR(INDEX('یکسان سازی برند'!I:I,MATCH(C:C,'یکسان سازی برند'!K:K,0)),0)","v":0},null,null,null,0,1,0,0,0]
[{"$f":"IFERROR(INDEX('یکسان سازی برند'!I:I,MATCH(C:C,'یکسان سازی برند'!K:K,0)),0)","v":0},null,null,null,0,1,0,0,0]
[{"$f":"IFERROR(INDEX('یکسان سازی برند'!I:I,MATCH(C:C,'یکسان سازی برند'!K:K,0)),0)","v":0},null,null,null,0,1,0,0,0]
[{"$f":"IFERROR(INDEX('یکسان سازی برند'!I:I,MATCH(C:C,'یکسان سازی برند'!K:K,0)),0)","v":0},null,null,null,0,1,0,0,0]
[{"$f":"IFERROR(INDEX('یکسان سازی برند'!I:I,MATCH(C:C,'یکسان سازی برند'!K:K,0)),0)","v":0},null,null,null,0,1,0,0,0]
[{"$f":"IFERROR(INDEX('یکسان سازی برند'!I:I,MATCH(C:C,'یکسان سازی برند'!K:K,0)),0)","v":0},null,null,null,0,1,0,0,0]
[{"$f":"IFERROR(INDEX('یکسان سازی برند'!I:I,MATCH(C:C,'یکسان سازی برند'!K:K,0)),0)","v":0},null,null,null,0,1,0,0,0]
[{"$f":"IFERROR(INDEX('یکسان سازی برند'!I:I,MATCH(C:C,'یکسان سازی برند'!K:K,0)),0)","v":0},null,null,null,0,1,0,0,0]
[{"$f":"IFERROR(INDEX('یکسان سازی برند'!I:I,MATCH(C:C,'یکسان سازی برند'!K:K,0)),0)","v":0},null,null,null,0,1,0,0,0]
[{"$f":"IFERROR(INDEX('یکسان سازی برند'!I:I,MATCH(C:C,'یکسان سازی برند'!K:K,0)),0)","v":0},null,null,null,0,1,0,0,0]
[{"$f":"IFERROR(INDEX('یکسان سازی برند'!I:I,MATCH(C:C,'یکسان سازی برند'!K:K,0)),0)","v":0},null,null,null,0,1,0,0,0]
[{"$f":"IFERROR(INDEX('یکسان سازی برند'!I:I,MATCH(C:C,'یکسان سازی برند'!K:K,0)),0)","v":0},null,null,null,0,1,0,0,0]
[{"$f":"IFERROR(INDEX('یکسان سازی برند'!I:I,MATCH(C:C,'یکسان سازی برند'!K:K,0)),0)","v":0},null,null,null,0,1,0,0,0]
[{"$f":"IFERROR(INDEX('یکسان سازی برند'!I:I,MATCH(C:C,'یکسان سازی برند'!K:K,0)),0)","v":0},null,null,null,0,1,0,0,0]
[{"$f":"IFERROR(INDEX('یکسان سازی برند'!I:I,MATCH(C:C,'یکسان سازی برند'!K:K,0)),0)","v":0},null,null,null,0,1,0,0,0]
[{"$f":"IFERROR(INDEX('یکسان سازی برند'!I:I,MATCH(C:C,'یکسان سازی برند'!K:K,0)),0)","v":0},null,null,null,0,1,0,0,0]
[{"$f":"IFERROR(INDEX('یکسان سازی برند'!I:I,MATCH(C:C,'یکسان سازی برند'!K:K,0)),0)","v":0},null,null,null,0,1,0,0,0]
[{"$f":"IFERROR(INDEX('یکسان سازی برند'!I:I,MATCH(C:C,'یکسان سازی برند'!K:K,0)),0)","v":0},null,null,null,0,1,0,0,0]
[{"$f":"IFERROR(INDEX('یکسان سازی برند'!I:I,MATCH(C:C,'یکسان سازی برند'!K:K,0)),0)","v":0},null,null,null,0,1,0,0,0]
[{"$f":"IFERROR(INDEX('یکسان سازی برند'!I:I,MATCH(C:C,'یکسان سازی برند'!K:K,0)),0)","v":0},null,null,null,0,1,0,0,0]
[{"$f":"IFERROR(INDEX('یکسان سازی برند'!I:I,MATCH(C:C,'یکسان سازی برند'!K:K,0)),0)","v":0},null,null,null,0,1,0,0,0]
[{"$f":"IFERROR(INDEX('یکسان سازی برند'!I:I,MATCH(C:C,'یکسان سازی برند'!K:K,0)),0)","v":0},null,null,null,0,1,0,0,0]
[{"$f":"IFERROR(INDEX('یکسان سازی برند'!I:I,MATCH(C:C,'یکسان سازی برند'!K:K,0)),0)","v":0},null,null,null,0,1,{"$f":"(E580*F:F)+E580*20%","v":0},{"$f":"G580/2","v":0},{"$f":"E580*3","v":0}]
[{"$f":"IFERROR(INDEX('یکسان سازی برند'!I:I,MATCH(C:C,'یکسان سازی برند'!K:K,0)),0)","v":0},null,null,null,{"$f":"D581/12","v":0},1,0,0,0]
[{"$f":"IFERROR(INDEX('یکسان سازی برند'!I:I,MATCH(C:C,'یکسان سازی برند'!K:K,0)),0)","v":0},null,null,null,0,1,0,0,0]
[{"$f":"IFERROR(INDEX('یکسان سازی برند'!I:I,MATCH(C:C,'یکسان سازی برند'!K:K,0)),0)","v":0},null,null,null,0,1,0,0,0]
[{"$f":"IFERROR(INDEX('یکسان سازی برند'!I:I,MATCH(C:C,'یکسان سازی برند'!K:K,0)),0)","v":0},null,null,null,0,1,0,0,0]
[{"$f":"IFERROR(INDEX('یکسان سازی برند'!I:I,MATCH(C:C,'یکسان سازی برند'!K:K,0)),0)","v":0},null,null,null,0,1,0,0,0]
[{"$f":"IFERROR(INDEX('یکسان سازی برند'!I:I,MATCH(C:C,'یکسان سازی برند'!K:K,0)),0)","v":0},null,null,null,0,1,0,0,0]
[{"$f":"IFERROR(INDEX('یکسان سازی برند'!I:I,MATCH(C:C,'یکسان سازی برند'!K:K,0)),0)","v":0},null,null,null,0,1,0,0,0]
[{"$f":"IFERROR(INDEX('یکسان سازی برند'!I:I,MATCH(C:C,'یکسان سازی برند'!K:K,0)),0)","v":0},null,null,null,0,1,0,0,0]
[{"$f":"IFERROR(INDEX('یکسان سازی برند'!I:I,MATCH(C:C,'یکسان سازی برند'!K:K,0)),0)","v":0},null,null,null,0,1,0,0,0]
[{"$f":"IFERROR(INDEX('یکسان سازی برند'!I:I,MATCH(C:C,'یکسان سازی برند'!K:K,0)),0)","v":0},null,null,null,0,1,0,0,0]
[{"$f":"IFERROR(INDEX('یکسان سازی برند'!I:I,MATCH(C:C,'یکسان سازی برند'!K:K,0)),0)","v":0},null,null,null,0,1,0,0,0]
[{"$f":"IFERROR(INDEX('یکسان سازی برند'!I:I,MATCH(C:C,'یکسان سازی برند'!K:K,0)),0)","v":0},null,null,null,0,1,0,0,0]
[{"$f":"IFERROR(INDEX('یکسان سازی برند'!I:I,MATCH(C:C,'یکسان سازی برند'!K:K,0)),0)","v":0},null,null,null,0,1,0,0,0]
[{"$f":"IFERROR(INDEX('یکسان سازی برند'!I:I,MATCH(C:C,'یکسان سازی برند'!K:K,0)),0)","v":0},null,null,null,0,1,0,0,0]
[{"$f":"IFERROR(INDEX('یکسان سازی برند'!I:I,MATCH(C:C,'یکسان سازی برند'!K:K,0)),0)","v":0},null,null,null,0,1,0,0,0]
[{"$f":"IFERROR(INDEX('یکسان سازی برند'!I:I,MATCH(C:C,'یکسان سازی برند'!K:K,0)),0)","v":0},null,null,null,0,1,0,0,0]
[{"$f":"IFERROR(INDEX('یکسان سازی برند'!I:I,MATCH(C:C,'یکسان سازی برند'!K:K,0)),0)","v":0},null,null,null,0,1,0,0,0]
[{"$f":"IFERROR(INDEX('یکسان سازی برند'!I:I,MATCH(C:C,'یکسان سازی برند'!K:K,0)),0)","v":0},null,null,null,0,1,0,0,0]
[{"$f":"IFERROR(INDEX('یکسان سازی برند'!I:I,MATCH(C:C,'یکسان سازی برند'!K:K,0)),0)","v":0},null,null,null,0,1,0,0,0]
[{"$f":"IFERROR(INDEX('یکسان سازی برند'!I:I,MATCH(C:C,'یکسان سازی برند'!K:K,0)),0)","v":0},null,null,null,0,1,0,0,0]
[{"$f":"IFERROR(INDEX('یکسان سازی برند'!I:I,MATCH(C:C,'یکسان سازی برند'!K:K,0)),0)","v":0},null,null,null,0,1,0,0,0]
[{"$f":"IFERROR(INDEX('یکسان سازی برند'!I:I,MATCH(C:C,'یکسان سازی برند'!K:K,0)),0)","v":0},null,null,null,0,1,0,0,0]
[{"$f":"IFERROR(INDEX('یکسان سازی برند'!I:I,MATCH(C:C,'یکسان سازی برند'!K:K,0)),0)","v":0},null,null,null,0,1,0,0,0]
[{"$f":"IFERROR(INDEX('یکسان سازی برند'!I:I,MATCH(C:C,'یکسان سازی برند'!K:K,0)),0)","v":0},null,null,null,0,1,0,0,0]
[{"$f":"IFERROR(INDEX('یکسان سازی برند'!I:I,MATCH(C:C,'یکسان سازی برند'!K:K,0)),0)","v":0},null,null,null,0,1,0,0,0]
[{"$f":"IFERROR(INDEX('یکسان سازی برند'!I:I,MATCH(C:C,'یکسان سازی برند'!K:K,0)),0)","v":0},null,null,null,0,1,0,0,0]
[{"$f":"IFERROR(INDEX('یکسان سازی برند'!I:I,MATCH(C:C,'یکسان سازی برند'!K:K,0)),0)","v":0},null,null,null,0,1,0,0,0]
[{"$f":"IFERROR(INDEX('یکسان سازی برند'!I:I,MATCH(C:C,'یکسان سازی برند'!K:K,0)),0)","v":0},null,null,null,0,1,0,0,0]
[{"$f":"IFERROR(INDEX('یکسان سازی برند'!I:I,MATCH(C:C,'یکسان سازی برند'!K:K,0)),0)","v":0},null,null,null,0,1,0,0,0]
[{"$f":"IFERROR(INDEX('یکسان سازی برند'!I:I,MATCH(C:C,'یکسان سازی برند'!K:K,0)),0)","v":0},null,null,null,0,1,0,0,0]
[{"$f":"IFERROR(INDEX('یکسان سازی برند'!I:I,MATCH(C:C,'یکسان سازی برند'!K:K,0)),0)","v":0},null,null,null,0,1,0,0,0]
[{"$f":"IFERROR(INDEX('یکسان سازی برند'!I:I,MATCH(C:C,'یکسان سازی برند'!K:K,0)),0)","v":0},null,null,null,0,1,0,0,0]
[{"$f":"IFERROR(INDEX('یکسان سازی برند'!I:I,MATCH(C:C,'یکسان سازی برند'!K:K,0)),0)","v":0},null,null,null,0,1,0,0,0]
[{"$f":"IFERROR(INDEX('یکسان سازی برند'!I:I,MATCH(C:C,'یکسان سازی برند'!K:K,0)),0)","v":0},null,null,null,0,1,0,0,0]
[{"$f":"IFERROR(INDEX('یکسان سازی برند'!I:I,MATCH(C:C,'یکسان سازی برند'!K:K,0)),0)","v":0},null,null,null,0,1,0,0,0]
[{"$f":"IFERROR(INDEX('یکسان سازی برند'!I:I,MATCH(C:C,'یکسان سازی برند'!K:K,0)),0)","v":0},null,null,null,0,1,0,0,0]
[{"$f":"IFERROR(INDEX('یکسان سازی برند'!I:I,MATCH(C:C,'یکسان سازی برند'!K:K,0)),0)","v":0},null,null,null,0,1,0,0,0]
[{"$f":"IFERROR(INDEX('یکسان سازی برند'!I:I,MATCH(C:C,'یکسان سازی برند'!K:K,0)),0)","v":0},null,null,null,0,1,0,0,0]
[{"$f":"IFERROR(INDEX('یکسان سازی برند'!I:I,MATCH(C:C,'یکسان سازی برند'!K:K,0)),0)","v":0},null,null,null,0,1,0,0,0]
[{"$f":"IFERROR(INDEX('یکسان سازی برند'!I:I,MATCH(C:C,'یکسان سازی برند'!K:K,0)),0)","v":0},null,null,null,0,1,0,0,0]
[{"$f":"IFERROR(INDEX('یکسان سازی برند'!I:I,MATCH(C:C,'یکسان سازی برند'!K:K,0)),0)","v":0},null,null,null,0,1,0,0,0]
[{"$f":"IFERROR(INDEX('یکسان سازی برند'!I:I,MATCH(C:C,'یکسان سازی برند'!K:K,0)),0)","v":0},null,null,null,0,1,0,0,0]
[{"$f":"IFERROR(INDEX('یکسان سازی برند'!I:I,MATCH(C:C,'یکسان سازی برند'!K:K,0)),0)","v":0},null,null,null,0,1,0,0,0]
[{"$f":"IFERROR(INDEX('یکسان سازی برند'!I:I,MATCH(C:C,'یکسان سازی برند'!K:K,0)),0)","v":0},null,null,null,0,1,0,0,0]
[{"$f":"IFERROR(INDEX('یکسان سازی برند'!I:I,MATCH(C:C,'یکسان سازی برند'!K:K,0)),0)","v":0},null,null,null,0,1,0,0,0]
[{"$f":"IFERROR(INDEX('یکسان سازی برند'!I:I,MATCH(C:C,'یکسان سازی برند'!K:K,0)),0)","v":0},null,null,null,0,1,0,0,0]
[{"$f":"IFERROR(INDEX('یکسان سازی برند'!I:I,MATCH(C:C,'یکسان سازی برند'!K:K,0)),0)","v":0},null,null,null,0,1,0,0,0]
[{"$f":"IFERROR(INDEX('یکسان سازی برند'!I:I,MATCH(C:C,'یکسان سازی برند'!K:K,0)),0)","v":0},null,null,null,0,1,0,0,0]
[{"$f":"IFERROR(INDEX('یکسان سازی برند'!I:I,MATCH(C:C,'یکسان سازی برند'!K:K,0)),0)","v":0},null,null,null,0,1,0,0,0]
[{"$f":"IFERROR(INDEX('یکسان سازی برند'!I:I,MATCH(C:C,'یکسان سازی برند'!K:K,0)),0)","v":0},null,null,null,0,1,0,0,0]
[{"$f":"IFERROR(INDEX('یکسان سازی برند'!I:I,MATCH(C:C,'یکسان سازی برند'!K:K,0)),0)","v":0},null,null,null,0,1,0,0,0]
[{"$f":"IFERROR(INDEX('یکسان سازی برند'!I:I,MATCH(C:C,'یکسان سازی برند'!K:K,0)),0)","v":0},null,null,null,0,1,0,0,0]
[{"$f":"IFERROR(INDEX('یکسان سازی برند'!I:I,MATCH(C:C,'یکسان سازی برند'!K:K,0)),0)","v":0},null,null,null,0,1,0,0,0]
[{"$f":"IFERROR(INDEX('یکسان سازی برند'!I:I,MATCH(C:C,'یکسان سازی برند'!K:K,0)),0)","v":0},null,null,null,0,1,0,0,0]
[{"$f":"IFERROR(INDEX('یکسان سازی برند'!I:I,MATCH(C:C,'یکسان سازی برند'!K:K,0)),0)","v":0},null,null,null,0,1,0,0,0]
[{"$f":"IFERROR(INDEX('یکسان سازی برند'!I:I,MATCH(C:C,'یکسان سازی برند'!K:K,0)),0)","v":0},null,null,null,0,1,0,0,0]
[{"$f":"IFERROR(INDEX('یکسان سازی برند'!I:I,MATCH(C:C,'یکسان سازی برند'!K:K,0)),0)","v":0},null,null,null,0,1,0,0,0]
[{"$f":"IFERROR(INDEX('یکسان سازی برند'!I:I,MATCH(C:C,'یکسان سازی برند'!K:K,0)),0)","v":0},null,null,null,0,1,0,0,0]
[{"$f":"IFERROR(INDEX('یکسان سازی برند'!I:I,MATCH(C:C,'یکسان سازی برند'!K:K,0)),0)","v":0},null,null,null,0,1,0,0,0]
[{"$f":"IFERROR(INDEX('یکسان سازی برند'!I:I,MATCH(C:C,'یکسان سازی برند'!K:K,0)),0)","v":0},null,null,null,0,1,0,0,0]
[{"$f":"IFERROR(INDEX('یکسان سازی برند'!I:I,MATCH(C:C,'یکسان سازی برند'!K:K,0)),0)","v":0},null,null,null,0,1,0,0,0]
[{"$f":"IFERROR(INDEX('یکسان سازی برند'!I:I,MATCH(C:C,'یکسان سازی برند'!K:K,0)),0)","v":0},null,null,null,0,1,0,0,0]
[{"$f":"IFERROR(INDEX('یکسان سازی برند'!I:I,MATCH(C:C,'یکسان سازی برند'!K:K,0)),0)","v":0},null,null,null,0,1,0,0,0]
[{"$f":"IFERROR(INDEX('یکسان سازی برند'!I:I,MATCH(C:C,'یکسان سازی برند'!K:K,0)),0)","v":0},null,null,null,0,1,{"$f":"(E644*F:F)+E644*20%","v":0},{"$f":"G644/2","v":0},{"$f":"E644*3","v":0}]
[{"$f":"IFERROR(INDEX('یکسان سازی برند'!I:I,MATCH(C:C,'یکسان سازی برند'!K:K,0)),0)","v":0},null,null,null,{"$f":"D645/12","v":0},1,0,0,0]
[{"$f":"IFERROR(INDEX('یکسان سازی برند'!I:I,MATCH(C:C,'یکسان سازی برند'!K:K,0)),0)","v":0},null,null,null,0,1,0,0,0]
[{"$f":"IFERROR(INDEX('یکسان سازی برند'!I:I,MATCH(C:C,'یکسان سازی برند'!K:K,0)),0)","v":0},null,null,null,0,1,0,0,0]
[{"$f":"IFERROR(INDEX('یکسان سازی برند'!I:I,MATCH(C:C,'یکسان سازی برند'!K:K,0)),0)","v":0},null,null,null,0,1,0,0,0]
[{"$f":"IFERROR(INDEX('یکسان سازی برند'!I:I,MATCH(C:C,'یکسان سازی برند'!K:K,0)),0)","v":0},null,null,null,0,1,0,0,0]
[{"$f":"IFERROR(INDEX('یکسان سازی برند'!I:I,MATCH(C:C,'یکسان سازی برند'!K:K,0)),0)","v":0},null,null,null,0,1,0,0,0]
[{"$f":"IFERROR(INDEX('یکسان سازی برند'!I:I,MATCH(C:C,'یکسان سازی برند'!K:K,0)),0)","v":0},null,null,null,0,1,0,0,0]
[{"$f":"IFERROR(INDEX('یکسان سازی برند'!I:I,MATCH(C:C,'یکسان سازی برند'!K:K,0)),0)","v":0},null,null,null,0,1,0,0,0]
[{"$f":"IFERROR(INDEX('یکسان سازی برند'!I:I,MATCH(C:C,'یکسان سازی برند'!K:K,0)),0)","v":0},null,null,null,0,1,0,0,0]
[{"$f":"IFERROR(INDEX('یکسان سازی برند'!I:I,MATCH(C:C,'یکسان سازی برند'!K:K,0)),0)","v":0},null,null,null,0,1,0,0,0]
[{"$f":"IFERROR(INDEX('یکسان سازی برند'!I:I,MATCH(C:C,'یکسان سازی برند'!K:K,0)),0)","v":0},null,null,null,0,1,0,0,0]
[{"$f":"IFERROR(INDEX('یکسان سازی برند'!I:I,MATCH(C:C,'یکسان سازی برند'!K:K,0)),0)","v":0},null,null,null,0,1,0,0,0]
[{"$f":"IFERROR(INDEX('یکسان سازی برند'!I:I,MATCH(C:C,'یکسان سازی برند'!K:K,0)),0)","v":0},null,null,null,0,1,0,0,0]
[{"$f":"IFERROR(INDEX('یکسان سازی برند'!I:I,MATCH(C:C,'یکسان سازی برند'!K:K,0)),0)","v":0},null,null,null,0,1,0,0,0]
[{"$f":"IFERROR(INDEX('یکسان سازی برند'!I:I,MATCH(C:C,'یکسان سازی برند'!K:K,0)),0)","v":0},null,null,null,0,1,0,0,0]
[{"$f":"IFERROR(INDEX('یکسان سازی برند'!I:I,MATCH(C:C,'یکسان سازی برند'!K:K,0)),0)","v":0},null,null,null,0,1,0,0,0]
[{"$f":"IFERROR(INDEX('یکسان سازی برند'!I:I,MATCH(C:C,'یکسان سازی برند'!K:K,0)),0)","v":0},null,null,null,0,1,0,0,0]
[{"$f":"IFERROR(INDEX('یکسان سازی برند'!I:I,MATCH(C:C,'یکسان سازی برند'!K:K,0)),0)","v":0},null,null,null,0,1,0,0,0]
[{"$f":"IFERROR(INDEX('یکسان سازی برند'!I:I,MATCH(C:C,'یکسان سازی برند'!K:K,0)),0)","v":0},null,null,null,0,1,0,0,0]
[{"$f":"IFERROR(INDEX('یکسان سازی برند'!I:I,MATCH(C:C,'یکسان سازی برند'!K:K,0)),0)","v":0},null,null,null,0,1,0,0,0]
[{"$f":"IFERROR(INDEX('یکسان سازی برند'!I:I,MATCH(C:C,'یکسان سازی برند'!K:K,0)),0)","v":0},null,null,null,0,1,0,0,0]
[{"$f":"IFERROR(INDEX('یکسان سازی برند'!I:I,MATCH(C:C,'یکسان سازی برند'!K:K,0)),0)","v":0},null,null,null,0,1,0,0,0]
[{"$f":"IFERROR(INDEX('یکسان سازی برند'!I:I,MATCH(C:C,'یکسان سازی برند'!K:K,0)),0)","v":0},null,null,null,0,1,0,0,0]
[{"$f":"IFERROR(INDEX('یکسان سازی برند'!I:I,MATCH(C:C,'یکسان سازی برند'!K:K,0)),0)","v":0},null,null,null,0,1,0,0,0]
[{"$f":"IFERROR(INDEX('یکسان سازی برند'!I:I,MATCH(C:C,'یکسان سازی برند'!K:K,0)),0)","v":0},null,null,null,0,1,0,0,0]
[{"$f":"IFERROR(INDEX('یکسان سازی برند'!I:I,MATCH(C:C,'یکسان سازی برند'!K:K,0)),0)","v":0},null,null,null,0,1,0,0,0]
[{"$f":"IFERROR(INDEX('یکسان سازی برند'!I:I,MATCH(C:C,'یکسان سازی برند'!K:K,0)),0)","v":0},null,null,null,0,1,0,0,0]
[{"$f":"IFERROR(INDEX('یکسان سازی برند'!I:I,MATCH(C:C,'یکسان سازی برند'!K:K,0)),0)","v":0},null,null,null,0,1,0,0,0]
[{"$f":"IFERROR(INDEX('یکسان سازی برند'!I:I,MATCH(C:C,'یکسان سازی برند'!K:K,0)),0)","v":0},null,null,null,0,1,0,0,0]
[{"$f":"IFERROR(INDEX('یکسان سازی برند'!I:I,MATCH(C:C,'یکسان سازی برند'!K:K,0)),0)","v":0},null,null,null,0,1,0,0,0]
[{"$f":"IFERROR(INDEX('یکسان سازی برند'!I:I,MATCH(C:C,'یکسان سازی برند'!K:K,0)),0)","v":0},null,null,null,0,1,0,0,0]
[{"$f":"IFERROR(INDEX('یکسان سازی برند'!I:I,MATCH(C:C,'یکسان سازی برند'!K:K,0)),0)","v":0},null,null,null,0,1,0,0,0]
[{"$f":"IFERROR(INDEX('یکسان سازی برند'!I:I,MATCH(C:C,'یکسان سازی برند'!K:K,0)),0)","v":0},null,null,null,0,1,0,0,0]
[{"$f":"IFERROR(INDEX('یکسان سازی برند'!I:I,MATCH(C:C,'یکسان سازی برند'!K:K,0)),0)","v":0},null,null,null,0,1,0,0,0]
[{"$f":"IFERROR(INDEX('یکسان سازی برند'!I:I,MATCH(C:C,'یکسان سازی برند'!K:K,0)),0)","v":0},null,null,null,0,1,0,0,0]
[{"$f":"IFERROR(INDEX('یکسان سازی برند'!I:I,MATCH(C:C,'یکسان سازی برند'!K:K,0)),0)","v":0},null,null,null,0,1,0,0,0]
[{"$f":"IFERROR(INDEX('یکسان سازی برند'!I:I,MATCH(C:C,'یکسان سازی برند'!K:K,0)),0)","v":0},null,null,null,0,1,0,0,0]
[{"$f":"IFERROR(INDEX('یکسان سازی برند'!I:I,MATCH(C:C,'یکسان سازی برند'!K:K,0)),0)","v":0},null,null,null,0,1,0,0,0]
[{"$f":"IFERROR(INDEX('یکسان سازی برند'!I:I,MATCH(C:C,'یکسان سازی برند'!K:K,0)),0)","v":0},null,null,null,0,1,0,0,0]
[{"$f":"IFERROR(INDEX('یکسان سازی برند'!I:I,MATCH(C:C,'یکسان سازی برند'!K:K,0)),0)","v":0},null,null,null,0,1,0,0,0]
[{"$f":"IFERROR(INDEX('یکسان سازی برند'!I:I,MATCH(C:C,'یکسان سازی برند'!K:K,0)),0)","v":0},null,null,null,0,1,0,0,0]
[{"$f":"IFERROR(INDEX('یکسان سازی برند'!I:I,MATCH(C:C,'یکسان سازی برند'!K:K,0)),0)","v":0},null,null,null,0,1,0,0,0]
[{"$f":"IFERROR(INDEX('یکسان سازی برند'!I:I,MATCH(C:C,'یکسان سازی برند'!K:K,0)),0)","v":0},null,null,null,0,1,0,0,0]
[{"$f":"IFERROR(INDEX('یکسان سازی برند'!I:I,MATCH(C:C,'یکسان سازی برند'!K:K,0)),0)","v":0},null,null,null,0,1,0,0,0]
[{"$f":"IFERROR(INDEX('یکسان سازی برند'!I:I,MATCH(C:C,'یکسان سازی برند'!K:K,0)),0)","v":0},null,null,null,0,1,0,0,0]
[{"$f":"IFERROR(INDEX('یکسان سازی برند'!I:I,MATCH(C:C,'یکسان سازی برند'!K:K,0)),0)","v":0},null,null,null,0,1,0,0,0]
[{"$f":"IFERROR(INDEX('یکسان سازی برند'!I:I,MATCH(C:C,'یکسان سازی برند'!K:K,0)),0)","v":0},null,null,null,0,1,0,0,0]
[{"$f":"IFERROR(INDEX('یکسان سازی برند'!I:I,MATCH(C:C,'یکسان سازی برند'!K:K,0)),0)","v":0},null,null,null,0,1,0,0,0]
[{"$f":"IFERROR(INDEX('یکسان سازی برند'!I:I,MATCH(C:C,'یکسان سازی برند'!K:K,0)),0)","v":0},null,null,null,0,1,0,0,0]
[{"$f":"IFERROR(INDEX('یکسان سازی برند'!I:I,MATCH(C:C,'یکسان سازی برند'!K:K,0)),0)","v":0},null,null,null,0,1,0,0,0]
[{"$f":"IFERROR(INDEX('یکسان سازی برند'!I:I,MATCH(C:C,'یکسان سازی برند'!K:K,0)),0)","v":0},null,null,null,0,1,0,0,0]
[{"$f":"IFERROR(INDEX('یکسان سازی برند'!I:I,MATCH(C:C,'یکسان سازی برند'!K:K,0)),0)","v":0},null,null,null,0,1,0,0,0]
[{"$f":"IFERROR(INDEX('یکسان سازی برند'!I:I,MATCH(C:C,'یکسان سازی برند'!K:K,0)),0)","v":0},null,null,null,0,1,0,0,0]
[{"$f":"IFERROR(INDEX('یکسان سازی برند'!I:I,MATCH(C:C,'یکسان سازی برند'!K:K,0)),0)","v":0},null,null,null,0,1,0,0,0]
[{"$f":"IFERROR(INDEX('یکسان سازی برند'!I:I,MATCH(C:C,'یکسان سازی برند'!K:K,0)),0)","v":0},null,null,null,0,1,0,0,0]
[{"$f":"IFERROR(INDEX('یکسان سازی برند'!I:I,MATCH(C:C,'یکسان سازی برند'!K:K,0)),0)","v":0},null,null,null,0,1,0,0,0]
[{"$f":"IFERROR(INDEX('یکسان سازی برند'!I:I,MATCH(C:C,'یکسان سازی برند'!K:K,0)),0)","v":0},null,null,null,0,1,0,0,0]
[{"$f":"IFERROR(INDEX('یکسان سازی برند'!I:I,MATCH(C:C,'یکسان سازی برند'!K:K,0)),0)","v":0},null,null,null,0,1,0,0,0]
[{"$f":"IFERROR(INDEX('یکسان سازی برند'!I:I,MATCH(C:C,'یکسان سازی برند'!K:K,0)),0)","v":0},null,null,null,0,1,0,0,0]
[{"$f":"IFERROR(INDEX('یکسان سازی برند'!I:I,MATCH(C:C,'یکسان سازی برند'!K:K,0)),0)","v":0},null,null,null,0,1,0,0,0]
[{"$f":"IFERROR(INDEX('یکسان سازی برند'!I:I,MATCH(C:C,'یکسان سازی برند'!K:K,0)),0)","v":0},null,null,null,0,1,0,0,0]
[{"$f":"IFERROR(INDEX('یکسان سازی برند'!I:I,MATCH(C:C,'یکسان سازی برند'!K:K,0)),0)","v":0},null,null,null,0,1,0,0,0]
[{"$f":"IFERROR(INDEX('یکسان سازی برند'!I:I,MATCH(C:C,'یکسان سازی برند'!K:K,0)),0)","v":0},null,null,null,0,1,0,0,0]
[{"$f":"IFERROR(INDEX('یکسان سازی برند'!I:I,MATCH(C:C,'یکسان سازی برند'!K:K,0)),0)","v":0},null,null,null,0,1,{"$f":"(E708*F:F)+E708*20%","v":0},{"$f":"G708/2","v":0},{"$f":"E708*3","v":0}]
[{"$f":"IFERROR(INDEX('یکسان سازی برند'!I:I,MATCH(C:C,'یکسان سازی برند'!K:K,0)),0)","v":0},null,null,null,{"$f":"D709/12","v":0},1,0,0,0]
[{"$f":"IFERROR(INDEX('یکسان سازی برند'!I:I,MATCH(C:C,'یکسان سازی برند'!K:K,0)),0)","v":0},null,null,null,0,1,0,0,0]
[{"$f":"IFERROR(INDEX('یکسان سازی برند'!I:I,MATCH(C:C,'یکسان سازی برند'!K:K,0)),0)","v":0},null,null,null,0,1,0,0,0]
[{"$f":"IFERROR(INDEX('یکسان سازی برند'!I:I,MATCH(C:C,'یکسان سازی برند'!K:K,0)),0)","v":0},null,null,null,0,1,0,0,0]
[{"$f":"IFERROR(INDEX('یکسان سازی برند'!I:I,MATCH(C:C,'یکسان سازی برند'!K:K,0)),0)","v":0},null,null,null,0,1,0,0,0]
[{"$f":"IFERROR(INDEX('یکسان سازی برند'!I:I,MATCH(C:C,'یکسان سازی برند'!K:K,0)),0)","v":0},null,null,null,0,1,0,0,0]
[{"$f":"IFERROR(INDEX('یکسان سازی برند'!I:I,MATCH(C:C,'یکسان سازی برند'!K:K,0)),0)","v":0},null,null,null,0,1,0,0,0]
[{"$f":"IFERROR(INDEX('یکسان سازی برند'!I:I,MATCH(C:C,'یکسان سازی برند'!K:K,0)),0)","v":0},null,null,null,0,1,0,0,0]
[{"$f":"IFERROR(INDEX('یکسان سازی برند'!I:I,MATCH(C:C,'یکسان سازی برند'!K:K,0)),0)","v":0},null,null,null,0,1,0,0,0]
[{"$f":"IFERROR(INDEX('یکسان سازی برند'!I:I,MATCH(C:C,'یکسان سازی برند'!K:K,0)),0)","v":0},null,null,null,0,1,0,0,0]
[{"$f":"IFERROR(INDEX('یکسان سازی برند'!I:I,MATCH(C:C,'یکسان سازی برند'!K:K,0)),0)","v":0},null,null,null,0,1,0,0,0]
[{"$f":"IFERROR(INDEX('یکسان سازی برند'!I:I,MATCH(C:C,'یکسان سازی برند'!K:K,0)),0)","v":0},null,null,null,0,1,0,0,0]
[{"$f":"IFERROR(INDEX('یکسان سازی برند'!I:I,MATCH(C:C,'یکسان سازی برند'!K:K,0)),0)","v":0},null,null,null,0,1,0,0,0]
[{"$f":"IFERROR(INDEX('یکسان سازی برند'!I:I,MATCH(C:C,'یکسان سازی برند'!K:K,0)),0)","v":0},null,null,null,0,1,0,0,0]
[{"$f":"IFERROR(INDEX('یکسان سازی برند'!I:I,MATCH(C:C,'یکسان سازی برند'!K:K,0)),0)","v":0},null,null,null,0,1,0,0,0]
[{"$f":"IFERROR(INDEX('یکسان سازی برند'!I:I,MATCH(C:C,'یکسان سازی برند'!K:K,0)),0)","v":0},null,null,null,0,1,0,0,0]
[{"$f":"IFERROR(INDEX('یکسان سازی برند'!I:I,MATCH(C:C,'یکسان سازی برند'!K:K,0)),0)","v":0},null,null,null,0,1,0,0,0]
[{"$f":"IFERROR(INDEX('یکسان سازی برند'!I:I,MATCH(C:C,'یکسان سازی برند'!K:K,0)),0)","v":0},null,null,null,0,1,0,0,0]
[{"$f":"IFERROR(INDEX('یکسان سازی برند'!I:I,MATCH(C:C,'یکسان سازی برند'!K:K,0)),0)","v":0},null,null,null,0,1,0,0,0]
[{"$f":"IFERROR(INDEX('یکسان سازی برند'!I:I,MATCH(C:C,'یکسان سازی برند'!K:K,0)),0)","v":0},null,null,null,0,1,0,0,0]
[{"$f":"IFERROR(INDEX('یکسان سازی برند'!I:I,MATCH(C:C,'یکسان سازی برند'!K:K,0)),0)","v":0},null,null,null,0,1,0,0,0]
[{"$f":"IFERROR(INDEX('یکسان سازی برند'!I:I,MATCH(C:C,'یکسان سازی برند'!K:K,0)),0)","v":0},null,null,null,0,1,0,0,0]
[{"$f":"IFERROR(INDEX('یکسان سازی برند'!I:I,MATCH(C:C,'یکسان سازی برند'!K:K,0)),0)","v":0},null,null,null,0,1,0,0,0]
[{"$f":"IFERROR(INDEX('یکسان سازی برند'!I:I,MATCH(C:C,'یکسان سازی برند'!K:K,0)),0)","v":0},null,null,null,0,1,0,0,0]
[{"$f":"IFERROR(INDEX('یکسان سازی برند'!I:I,MATCH(C:C,'یکسان سازی برند'!K:K,0)),0)","v":0},null,null,null,0,1,0,0,0]
[{"$f":"IFERROR(INDEX('یکسان سازی برند'!I:I,MATCH(C:C,'یکسان سازی برند'!K:K,0)),0)","v":0},null,null,null,0,1,0,0,0]
[{"$f":"IFERROR(INDEX('یکسان سازی برند'!I:I,MATCH(C:C,'یکسان سازی برند'!K:K,0)),0)","v":0},null,null,null,0,1,0,0,0]
[{"$f":"IFERROR(INDEX('یکسان سازی برند'!I:I,MATCH(C:C,'یکسان سازی برند'!K:K,0)),0)","v":0},null,null,null,0,1,0,0,0]
[{"$f":"IFERROR(INDEX('یکسان سازی برند'!I:I,MATCH(C:C,'یکسان سازی برند'!K:K,0)),0)","v":0},null,null,null,0,1,0,0,0]
[{"$f":"IFERROR(INDEX('یکسان سازی برند'!I:I,MATCH(C:C,'یکسان سازی برند'!K:K,0)),0)","v":0},null,null,null,0,1,0,0,0]
[{"$f":"IFERROR(INDEX('یکسان سازی برند'!I:I,MATCH(C:C,'یکسان سازی برند'!K:K,0)),0)","v":0},null,null,null,0,1,0,0,0]
[{"$f":"IFERROR(INDEX('یکسان سازی برند'!I:I,MATCH(C:C,'یکسان سازی برند'!K:K,0)),0)","v":0},null,null,null,0,1,0,0,0]
[{"$f":"IFERROR(INDEX('یکسان سازی برند'!I:I,MATCH(C:C,'یکسان سازی برند'!K:K,0)),0)","v":0},null,null,null,0,1,0,0,0]
[{"$f":"IFERROR(INDEX('یکسان سازی برند'!I:I,MATCH(C:C,'یکسان سازی برند'!K:K,0)),0)","v":0},null,null,null,0,1,0,0,0]
[{"$f":"IFERROR(INDEX('یکسان سازی برند'!I:I,MATCH(C:C,'یکسان سازی برند'!K:K,0)),0)","v":0},null,null,null,0,1,0,0,0]
[{"$f":"IFERROR(INDEX('یکسان سازی برند'!I:I,MATCH(C:C,'یکسان سازی برند'!K:K,0)),0)","v":0},null,null,null,0,1,0,0,0]
[{"$f":"IFERROR(INDEX('یکسان سازی برند'!I:I,MATCH(C:C,'یکسان سازی برند'!K:K,0)),0)","v":0},null,null,null,0,1,0,0,0]
[{"$f":"IFERROR(INDEX('یکسان سازی برند'!I:I,MATCH(C:C,'یکسان سازی برند'!K:K,0)),0)","v":0},null,null,null,0,1,0,0,0]
[{"$f":"IFERROR(INDEX('یکسان سازی برند'!I:I,MATCH(C:C,'یکسان سازی برند'!K:K,0)),0)","v":0},null,null,null,0,1,0,0,0]
[{"$f":"IFERROR(INDEX('یکسان سازی برند'!I:I,MATCH(C:C,'یکسان سازی برند'!K:K,0)),0)","v":0},null,null,null,0,1,0,0,0]
[{"$f":"IFERROR(INDEX('یکسان سازی برند'!I:I,MATCH(C:C,'یکسان سازی برند'!K:K,0)),0)","v":0},null,null,null,0,1,0,0,0]
[{"$f":"IFERROR(INDEX('یکسان سازی برند'!I:I,MATCH(C:C,'یکسان سازی برند'!K:K,0)),0)","v":0},null,null,null,0,1,0,0,0]
[{"$f":"IFERROR(INDEX('یکسان سازی برند'!I:I,MATCH(C:C,'یکسان سازی برند'!K:K,0)),0)","v":0},null,null,null,0,1,0,0,0]
[{"$f":"IFERROR(INDEX('یکسان سازی برند'!I:I,MATCH(C:C,'یکسان سازی برند'!K:K,0)),0)","v":0},null,null,null,0,1,0,0,0]
[{"$f":"IFERROR(INDEX('یکسان سازی برند'!I:I,MATCH(C:C,'یکسان سازی برند'!K:K,0)),0)","v":0},null,null,null,0,1,0,0,0]
[{"$f":"IFERROR(INDEX('یکسان سازی برند'!I:I,MATCH(C:C,'یکسان سازی برند'!K:K,0)),0)","v":0},null,null,null,0,1,0,0,0]
[{"$f":"IFERROR(INDEX('یکسان سازی برند'!I:I,MATCH(C:C,'یکسان سازی برند'!K:K,0)),0)","v":0},null,null,null,0,1,0,0,0]
[{"$f":"IFERROR(INDEX('یکسان سازی برند'!I:I,MATCH(C:C,'یکسان سازی برند'!K:K,0)),0)","v":0},null,null,null,0,1,0,0,0]
[{"$f":"IFERROR(INDEX('یکسان سازی برند'!I:I,MATCH(C:C,'یکسان سازی برند'!K:K,0)),0)","v":0},null,null,null,0,1,0,0,0]
[{"$f":"IFERROR(INDEX('یکسان سازی برند'!I:I,MATCH(C:C,'یکسان سازی برند'!K:K,0)),0)","v":0},null,null,null,0,1,0,0,0]
[{"$f":"IFERROR(INDEX('یکسان سازی برند'!I:I,MATCH(C:C,'یکسان سازی برند'!K:K,0)),0)","v":0},null,null,null,0,1,0,0,0]
[{"$f":"IFERROR(INDEX('یکسان سازی برند'!I:I,MATCH(C:C,'یکسان سازی برند'!K:K,0)),0)","v":0},null,null,null,0,1,0,0,0]
[{"$f":"IFERROR(INDEX('یکسان سازی برند'!I:I,MATCH(C:C,'یکسان سازی برند'!K:K,0)),0)","v":0},null,null,null,0,1,0,0,0]
[{"$f":"IFERROR(INDEX('یکسان سازی برند'!I:I,MATCH(C:C,'یکسان سازی برند'!K:K,0)),0)","v":0},null,null,null,0,1,0,0,0]
[{"$f":"IFERROR(INDEX('یکسان سازی برند'!I:I,MATCH(C:C,'یکسان سازی برند'!K:K,0)),0)","v":0},null,null,null,0,1,0,0,0]
[{"$f":"IFERROR(INDEX('یکسان سازی برند'!I:I,MATCH(C:C,'یکسان سازی برند'!K:K,0)),0)","v":0},null,null,null,0,1,0,0,0]
[{"$f":"IFERROR(INDEX('یکسان سازی برند'!I:I,MATCH(C:C,'یکسان سازی برند'!K:K,0)),0)","v":0},null,null,null,0,1,0,0,0]
[{"$f":"IFERROR(INDEX('یکسان سازی برند'!I:I,MATCH(C:C,'یکسان سازی برند'!K:K,0)),0)","v":0},null,null,null,0,1,0,0,0]
[{"$f":"IFERROR(INDEX('یکسان سازی برند'!I:I,MATCH(C:C,'یکسان سازی برند'!K:K,0)),0)","v":0},null,null,null,0,1,0,0,0]
[{"$f":"IFERROR(INDEX('یکسان سازی برند'!I:I,MATCH(C:C,'یکسان سازی برند'!K:K,0)),0)","v":0},null,null,null,0,1,0,0,0]
[{"$f":"IFERROR(INDEX('یکسان سازی برند'!I:I,MATCH(C:C,'یکسان سازی برند'!K:K,0)),0)","v":0},null,null,null,0,1,0,0,0]
[{"$f":"IFERROR(INDEX('یکسان سازی برند'!I:I,MATCH(C:C,'یکسان سازی برند'!K:K,0)),0)","v":0},null,null,null,0,1,0,0,0]
[{"$f":"IFERROR(INDEX('یکسان سازی برند'!I:I,MATCH(C:C,'یکسان سازی برند'!K:K,0)),0)","v":0},null,null,null,0,1,0,0,0]
[{"$f":"IFERROR(INDEX('یکسان سازی برند'!I:I,MATCH(C:C,'یکسان سازی برند'!K:K,0)),0)","v":0},null,null,null,0,1,{"$f":"(E772*F:F)+E772*20%","v":0},{"$f":"G772/2","v":0},{"$f":"E772*3","v":0}]
[{"$f":"IFERROR(INDEX('یکسان سازی برند'!I:I,MATCH(C:C,'یکسان سازی برند'!K:K,0)),0)","v":0},null,null,null,{"$f":"D773/12","v":0},1,0,0,0]
[{"$f":"IFERROR(INDEX('یکسان سازی برند'!I:I,MATCH(C:C,'یکسان سازی برند'!K:K,0)),0)","v":0},null,null,null,0,1,0,0,0]
[{"$f":"IFERROR(INDEX('یکسان سازی برند'!I:I,MATCH(C:C,'یکسان سازی برند'!K:K,0)),0)","v":0},null,null,null,0,1,0,0,0]
[{"$f":"IFERROR(INDEX('یکسان سازی برند'!I:I,MATCH(C:C,'یکسان سازی برند'!K:K,0)),0)","v":0},null,null,null,0,1,0,0,0]
[{"$f":"IFERROR(INDEX('یکسان سازی برند'!I:I,MATCH(C:C,'یکسان سازی برند'!K:K,0)),0)","v":0},null,null,null,0,1,0,0,0]
[{"$f":"IFERROR(INDEX('یکسان سازی برند'!I:I,MATCH(C:C,'یکسان سازی برند'!K:K,0)),0)","v":0},null,null,null,0,1,0,0,0]
[{"$f":"IFERROR(INDEX('یکسان سازی برند'!I:I,MATCH(C:C,'یکسان سازی برند'!K:K,0)),0)","v":0},null,null,null,0,1,0,0,0]
[{"$f":"IFERROR(INDEX('یکسان سازی برند'!I:I,MATCH(C:C,'یکسان سازی برند'!K:K,0)),0)","v":0},null,null,null,0,1,0,0,0]
[{"$f":"IFERROR(INDEX('یکسان سازی برند'!I:I,MATCH(C:C,'یکسان سازی برند'!K:K,0)),0)","v":0},null,null,null,0,1,0,0,0]
[{"$f":"IFERROR(INDEX('یکسان سازی برند'!I:I,MATCH(C:C,'یکسان سازی برند'!K:K,0)),0)","v":0},null,null,null,0,1,0,0,0]
[{"$f":"IFERROR(INDEX('یکسان سازی برند'!I:I,MATCH(C:C,'یکسان سازی برند'!K:K,0)),0)","v":0},null,null,null,0,1,0,0,0]
[{"$f":"IFERROR(INDEX('یکسان سازی برند'!I:I,MATCH(C:C,'یکسان سازی برند'!K:K,0)),0)","v":0},null,null,null,0,1,0,0,0]
[{"$f":"IFERROR(INDEX('یکسان سازی برند'!I:I,MATCH(C:C,'یکسان سازی برند'!K:K,0)),0)","v":0},null,null,null,0,1,0,0,0]
[{"$f":"IFERROR(INDEX('یکسان سازی برند'!I:I,MATCH(C:C,'یکسان سازی برند'!K:K,0)),0)","v":0},null,null,null,0,1,0,0,0]
[{"$f":"IFERROR(INDEX('یکسان سازی برند'!I:I,MATCH(C:C,'یکسان سازی برند'!K:K,0)),0)","v":0},null,null,null,0,1,0,0,0]
[{"$f":"IFERROR(INDEX('یکسان سازی برند'!I:I,MATCH(C:C,'یکسان سازی برند'!K:K,0)),0)","v":0},null,null,null,0,1,0,0,0]
[{"$f":"IFERROR(INDEX('یکسان سازی برند'!I:I,MATCH(C:C,'یکسان سازی برند'!K:K,0)),0)","v":0},null,null,null,0,1,0,0,0]
[{"$f":"IFERROR(INDEX('یکسان سازی برند'!I:I,MATCH(C:C,'یکسان سازی برند'!K:K,0)),0)","v":0},null,null,null,0,1,0,0,0]
[{"$f":"IFERROR(INDEX('یکسان سازی برند'!I:I,MATCH(C:C,'یکسان سازی برند'!K:K,0)),0)","v":0},null,null,null,0,1,0,0,0]
[{"$f":"IFERROR(INDEX('یکسان سازی برند'!I:I,MATCH(C:C,'یکسان سازی برند'!K:K,0)),0)","v":0},null,null,null,0,1,0,0,0]
[{"$f":"IFERROR(INDEX('یکسان سازی برند'!I:I,MATCH(C:C,'یکسان سازی برند'!K:K,0)),0)","v":0},null,null,null,0,1,0,0,0]
[{"$f":"IFERROR(INDEX('یکسان سازی برند'!I:I,MATCH(C:C,'یکسان سازی برند'!K:K,0)),0)","v":0},null,null,null,0,1,0,0,0]
[{"$f":"IFERROR(INDEX('یکسان سازی برند'!I:I,MATCH(C:C,'یکسان سازی برند'!K:K,0)),0)","v":0},null,null,null,0,1,0,0,0]
[{"$f":"IFERROR(INDEX('یکسان سازی برند'!I:I,MATCH(C:C,'یکسان سازی برند'!K:K,0)),0)","v":0},null,null,null,0,1,0,0,0]
[{"$f":"IFERROR(INDEX('یکسان سازی برند'!I:I,MATCH(C:C,'یکسان سازی برند'!K:K,0)),0)","v":0},null,null,null,0,1,0,0,0]
[{"$f":"IFERROR(INDEX('یکسان سازی برند'!I:I,MATCH(C:C,'یکسان سازی برند'!K:K,0)),0)","v":0},null,null,null,0,1,0,0,0]
[{"$f":"IFERROR(INDEX('یکسان سازی برند'!I:I,MATCH(C:C,'یکسان سازی برند'!K:K,0)),0)","v":0},null,null,null,0,1,0,0,0]
[{"$f":"IFERROR(INDEX('یکسان سازی برند'!I:I,MATCH(C:C,'یکسان سازی برند'!K:K,0)),0)","v":0},null,null,null,0,1,0,0,0]
[{"$f":"IFERROR(INDEX('یکسان سازی برند'!I:I,MATCH(C:C,'یکسان سازی برند'!K:K,0)),0)","v":0},null,null,null,0,1,0,0,0]
[{"$f":"IFERROR(INDEX('یکسان سازی برند'!I:I,MATCH(C:C,'یکسان سازی برند'!K:K,0)),0)","v":0},null,null,null,0,1,0,0,0]
[{"$f":"IFERROR(INDEX('یکسان سازی برند'!I:I,MATCH(C:C,'یکسان سازی برند'!K:K,0)),0)","v":0},null,null,null,0,1,0,0,0]
[{"$f":"IFERROR(INDEX('یکسان سازی برند'!I:I,MATCH(C:C,'یکسان سازی برند'!K:K,0)),0)","v":0},null,null,null,0,1,0,0,0]
[{"$f":"IFERROR(INDEX('یکسان سازی برند'!I:I,MATCH(C:C,'یکسان سازی برند'!K:K,0)),0)","v":0},null,null,null,0,1,0,0,0]
[{"$f":"IFERROR(INDEX('یکسان سازی برند'!I:I,MATCH(C:C,'یکسان سازی برند'!K:K,0)),0)","v":0},null,null,null,0,1,0,0,0]
[{"$f":"IFERROR(INDEX('یکسان سازی برند'!I:I,MATCH(C:C,'یکسان سازی برند'!K:K,0)),0)","v":0},null,null,null,0,1,0,0,0]
[{"$f":"IFERROR(INDEX('یکسان سازی برند'!I:I,MATCH(C:C,'یکسان سازی برند'!K:K,0)),0)","v":0},null,null,null,0,1,0,0,0]
[{"$f":"IFERROR(INDEX('یکسان سازی برند'!I:I,MATCH(C:C,'یکسان سازی برند'!K:K,0)),0)","v":0},null,null,null,0,1,0,0,0]
[{"$f":"IFERROR(INDEX('یکسان سازی برند'!I:I,MATCH(C:C,'یکسان سازی برند'!K:K,0)),0)","v":0},null,null,null,0,1,0,0,0]
[{"$f":"IFERROR(INDEX('یکسان سازی برند'!I:I,MATCH(C:C,'یکسان سازی برند'!K:K,0)),0)","v":0},null,null,null,0,1,0,0,0]
[{"$f":"IFERROR(INDEX('یکسان سازی برند'!I:I,MATCH(C:C,'یکسان سازی برند'!K:K,0)),0)","v":0},null,null,null,0,1,0,0,0]
[{"$f":"IFERROR(INDEX('یکسان سازی برند'!I:I,MATCH(C:C,'یکسان سازی برند'!K:K,0)),0)","v":0},null,null,null,0,1,0,0,0]
[{"$f":"IFERROR(INDEX('یکسان سازی برند'!I:I,MATCH(C:C,'یکسان سازی برند'!K:K,0)),0)","v":0},null,null,null,0,1,0,0,0]
[{"$f":"IFERROR(INDEX('یکسان سازی برند'!I:I,MATCH(C:C,'یکسان سازی برند'!K:K,0)),0)","v":0},null,null,null,0,1,0,0,0]
[{"$f":"IFERROR(INDEX('یکسان سازی برند'!I:I,MATCH(C:C,'یکسان سازی برند'!K:K,0)),0)","v":0},null,null,null,0,1,0,0,0]
[{"$f":"IFERROR(INDEX('یکسان سازی برند'!I:I,MATCH(C:C,'یکسان سازی برند'!K:K,0)),0)","v":0},null,null,null,0,1,0,0,0]
[{"$f":"IFERROR(INDEX('یکسان سازی برند'!I:I,MATCH(C:C,'یکسان سازی برند'!K:K,0)),0)","v":0},null,null,null,0,1,0,0,0]
[{"$f":"IFERROR(INDEX('یکسان سازی برند'!I:I,MATCH(C:C,'یکسان سازی برند'!K:K,0)),0)","v":0},null,null,null,0,1,0,0,0]
[{"$f":"IFERROR(INDEX('یکسان سازی برند'!I:I,MATCH(C:C,'یکسان سازی برند'!K:K,0)),0)","v":0},null,null,null,0,1,0,0,0]
[{"$f":"IFERROR(INDEX('یکسان سازی برند'!I:I,MATCH(C:C,'یکسان سازی برند'!K:K,0)),0)","v":0},null,null,null,0,1,0,0,0]
[{"$f":"IFERROR(INDEX('یکسان سازی برند'!I:I,MATCH(C:C,'یکسان سازی برند'!K:K,0)),0)","v":0},null,null,null,0,1,0,0,0]
[{"$f":"IFERROR(INDEX('یکسان سازی برند'!I:I,MATCH(C:C,'یکسان سازی برند'!K:K,0)),0)","v":0},null,null,null,0,1,0,0,0]
[{"$f":"IFERROR(INDEX('یکسان سازی برند'!I:I,MATCH(C:C,'یکسان سازی برند'!K:K,0)),0)","v":0},null,null,null,0,1,0,0,0]
[{"$f":"IFERROR(INDEX('یکسان سازی برند'!I:I,MATCH(C:C,'یکسان سازی برند'!K:K,0)),0)","v":0},null,null,null,0,1,0,0,0]
[{"$f":"IFERROR(INDEX('یکسان سازی برند'!I:I,MATCH(C:C,'یکسان سازی برند'!K:K,0)),0)","v":0},null,null,null,0,1,0,0,0]
[{"$f":"IFERROR(INDEX('یکسان سازی برند'!I:I,MATCH(C:C,'یکسان سازی برند'!K:K,0)),0)","v":0},null,null,null,0,1,0,0,0]
[{"$f":"IFERROR(INDEX('یکسان سازی برند'!I:I,MATCH(C:C,'یکسان سازی برند'!K:K,0)),0)","v":0},null,null,null,0,1,0,0,0]
[{"$f":"IFERROR(INDEX('یکسان سازی برند'!I:I,MATCH(C:C,'یکسان سازی برند'!K:K,0)),0)","v":0},null,null,null,0,1,0,0,0]
[{"$f":"IFERROR(INDEX('یکسان سازی برند'!I:I,MATCH(C:C,'یکسان سازی برند'!K:K,0)),0)","v":0},null,null,null,0,1,0,0,0]
[{"$f":"IFERROR(INDEX('یکسان سازی برند'!I:I,MATCH(C:C,'یکسان سازی برند'!K:K,0)),0)","v":0},null,null,null,0,1,0,0,0]
[{"$f":"IFERROR(INDEX('یکسان سازی برند'!I:I,MATCH(C:C,'یکسان سازی برند'!K:K,0)),0)","v":0},null,null,null,0,1,0,0,0]
[{"$f":"IFERROR(INDEX('یکسان سازی برند'!I:I,MATCH(C:C,'یکسان سازی برند'!K:K,0)),0)","v":0},null,null,null,0,1,0,0,0]
[{"$f":"IFERROR(INDEX('یکسان سازی برند'!I:I,MATCH(C:C,'یکسان سازی برند'!K:K,0)),0)","v":0},null,null,null,0,1,0,0,0]
[{"$f":"IFERROR(INDEX('یکسان سازی برند'!I:I,MATCH(C:C,'یکسان سازی برند'!K:K,0)),0)","v":0},null,null,null,0,1,0,0,0]
[{"$f":"IFERROR(INDEX('یکسان سازی برند'!I:I,MATCH(C:C,'یکسان سازی برند'!K:K,0)),0)","v":0},null,null,null,0,1,{"$f":"(E836*F:F)+E836*20%","v":0},{"$f":"G836/2","v":0},{"$f":"E836*3","v":0}]
[{"$f":"IFERROR(INDEX('یکسان سازی برند'!I:I,MATCH(C:C,'یکسان سازی برند'!K:K,0)),0)","v":0},null,null,null,{"$f":"D837/12","v":0},1,0,0,0]
[{"$f":"IFERROR(INDEX('یکسان سازی برند'!I:I,MATCH(C:C,'یکسان سازی برند'!K:K,0)),0)","v":0},null,null,null,0,1,0,0,0]
[{"$f":"IFERROR(INDEX('یکسان سازی برند'!I:I,MATCH(C:C,'یکسان سازی برند'!K:K,0)),0)","v":0},null,null,null,0,1,0,0,0]
[{"$f":"IFERROR(INDEX('یکسان سازی برند'!I:I,MATCH(C:C,'یکسان سازی برند'!K:K,0)),0)","v":0},null,null,null,0,1,0,0,0]
[{"$f":"IFERROR(INDEX('یکسان سازی برند'!I:I,MATCH(C:C,'یکسان سازی برند'!K:K,0)),0)","v":0},null,null,null,0,1,0,0,0]
[{"$f":"IFERROR(INDEX('یکسان سازی برند'!I:I,MATCH(C:C,'یکسان سازی برند'!K:K,0)),0)","v":0},null,null,null,0,1,0,0,0]
[{"$f":"IFERROR(INDEX('یکسان سازی برند'!I:I,MATCH(C:C,'یکسان سازی برند'!K:K,0)),0)","v":0},null,null,null,0,1,0,0,0]
[{"$f":"IFERROR(INDEX('یکسان سازی برند'!I:I,MATCH(C:C,'یکسان سازی برند'!K:K,0)),0)","v":0},null,null,null,0,1,0,0,0]
[{"$f":"IFERROR(INDEX('یکسان سازی برند'!I:I,MATCH(C:C,'یکسان سازی برند'!K:K,0)),0)","v":0},null,null,null,0,1,0,0,0]
[{"$f":"IFERROR(INDEX('یکسان سازی برند'!I:I,MATCH(C:C,'یکسان سازی برند'!K:K,0)),0)","v":0},null,null,null,0,1,0,0,0]
[{"$f":"IFERROR(INDEX('یکسان سازی برند'!I:I,MATCH(C:C,'یکسان سازی برند'!K:K,0)),0)","v":0},null,null,null,0,1,0,0,0]
[{"$f":"IFERROR(INDEX('یکسان سازی برند'!I:I,MATCH(C:C,'یکسان سازی برند'!K:K,0)),0)","v":0},null,null,null,0,1,0,0,0]
[{"$f":"IFERROR(INDEX('یکسان سازی برند'!I:I,MATCH(C:C,'یکسان سازی برند'!K:K,0)),0)","v":0},null,null,null,0,1,0,0,0]
[{"$f":"IFERROR(INDEX('یکسان سازی برند'!I:I,MATCH(C:C,'یکسان سازی برند'!K:K,0)),0)","v":0},null,null,null,0,1,0,0,0]
[{"$f":"IFERROR(INDEX('یکسان سازی برند'!I:I,MATCH(C:C,'یکسان سازی برند'!K:K,0)),0)","v":0},null,null,null,0,1,0,0,0]
[{"$f":"IFERROR(INDEX('یکسان سازی برند'!I:I,MATCH(C:C,'یکسان سازی برند'!K:K,0)),0)","v":0},null,null,null,0,1,0,0,0]
[{"$f":"IFERROR(INDEX('یکسان سازی برند'!I:I,MATCH(C:C,'یکسان سازی برند'!K:K,0)),0)","v":0},null,null,null,0,1,0,0,0]
[{"$f":"IFERROR(INDEX('یکسان سازی برند'!I:I,MATCH(C:C,'یکسان سازی برند'!K:K,0)),0)","v":0},null,null,null,0,1,0,0,0]
[{"$f":"IFERROR(INDEX('یکسان سازی برند'!I:I,MATCH(C:C,'یکسان سازی برند'!K:K,0)),0)","v":0},null,null,null,0,1,0,0,0]
[{"$f":"IFERROR(INDEX('یکسان سازی برند'!I:I,MATCH(C:C,'یکسان سازی برند'!K:K,0)),0)","v":0},null,null,null,0,1,0,0,0]
[{"$f":"IFERROR(INDEX('یکسان سازی برند'!I:I,MATCH(C:C,'یکسان سازی برند'!K:K,0)),0)","v":0},null,null,null,0,1,0,0,0]
[{"$f":"IFERROR(INDEX('یکسان سازی برند'!I:I,MATCH(C:C,'یکسان سازی برند'!K:K,0)),0)","v":0},null,null,null,0,1,0,0,0]
[{"$f":"IFERROR(INDEX('یکسان سازی برند'!I:I,MATCH(C:C,'یکسان سازی برند'!K:K,0)),0)","v":0},null,null,null,0,1,0,0,0]
[{"$f":"IFERROR(INDEX('یکسان سازی برند'!I:I,MATCH(C:C,'یکسان سازی برند'!K:K,0)),0)","v":0},null,null,null,0,1,0,0,0]
[{"$f":"IFERROR(INDEX('یکسان سازی برند'!I:I,MATCH(C:C,'یکسان سازی برند'!K:K,0)),0)","v":0},null,null,null,0,1,0,0,0]
[{"$f":"IFERROR(INDEX('یکسان سازی برند'!I:I,MATCH(C:C,'یکسان سازی برند'!K:K,0)),0)","v":0},null,null,null,0,1,0,0,0]
[{"$f":"IFERROR(INDEX('یکسان سازی برند'!I:I,MATCH(C:C,'یکسان سازی برند'!K:K,0)),0)","v":0},null,null,null,0,1,0,0,0]
[{"$f":"IFERROR(INDEX('یکسان سازی برند'!I:I,MATCH(C:C,'یکسان سازی برند'!K:K,0)),0)","v":0},null,null,null,0,1,0,0,0]
[{"$f":"IFERROR(INDEX('یکسان سازی برند'!I:I,MATCH(C:C,'یکسان سازی برند'!K:K,0)),0)","v":0},null,null,null,0,1,0,0,0]
[{"$f":"IFERROR(INDEX('یکسان سازی برند'!I:I,MATCH(C:C,'یکسان سازی برند'!K:K,0)),0)","v":0},null,null,null,0,1,0,0,0]
[{"$f":"IFERROR(INDEX('یکسان سازی برند'!I:I,MATCH(C:C,'یکسان سازی برند'!K:K,0)),0)","v":0},null,null,null,0,1,0,0,0]
[{"$f":"IFERROR(INDEX('یکسان سازی برند'!I:I,MATCH(C:C,'یکسان سازی برند'!K:K,0)),0)","v":0},null,null,null,0,1,0,0,0]
[{"$f":"IFERROR(INDEX('یکسان سازی برند'!I:I,MATCH(C:C,'یکسان سازی برند'!K:K,0)),0)","v":0},null,null,null,0,1,0,0,0]
[{"$f":"IFERROR(INDEX('یکسان سازی برند'!I:I,MATCH(C:C,'یکسان سازی برند'!K:K,0)),0)","v":0},null,null,null,0,1,0,0,0]
[{"$f":"IFERROR(INDEX('یکسان سازی برند'!I:I,MATCH(C:C,'یکسان سازی برند'!K:K,0)),0)","v":0},null,null,null,0,1,0,0,0]
[{"$f":"IFERROR(INDEX('یکسان سازی برند'!I:I,MATCH(C:C,'یکسان سازی برند'!K:K,0)),0)","v":0},null,null,null,0,1,0,0,0]
[{"$f":"IFERROR(INDEX('یکسان سازی برند'!I:I,MATCH(C:C,'یکسان سازی برند'!K:K,0)),0)","v":0},null,null,null,0,1,0,0,0]
[{"$f":"IFERROR(INDEX('یکسان سازی برند'!I:I,MATCH(C:C,'یکسان سازی برند'!K:K,0)),0)","v":0},null,null,null,0,1,0,0,0]
[{"$f":"IFERROR(INDEX('یکسان سازی برند'!I:I,MATCH(C:C,'یکسان سازی برند'!K:K,0)),0)","v":0},null,null,null,0,1,0,0,0]
[{"$f":"IFERROR(INDEX('یکسان سازی برند'!I:I,MATCH(C:C,'یکسان سازی برند'!K:K,0)),0)","v":0},null,null,null,0,1,0,0,0]
[{"$f":"IFERROR(INDEX('یکسان سازی برند'!I:I,MATCH(C:C,'یکسان سازی برند'!K:K,0)),0)","v":0},null,null,null,0,1,0,0,0]
[{"$f":"IFERROR(INDEX('یکسان سازی برند'!I:I,MATCH(C:C,'یکسان سازی برند'!K:K,0)),0)","v":0},null,null,null,0,1,0,0,0]
[{"$f":"IFERROR(INDEX('یکسان سازی برند'!I:I,MATCH(C:C,'یکسان سازی برند'!K:K,0)),0)","v":0},null,null,null,0,1,0,0,0]
[{"$f":"IFERROR(INDEX('یکسان سازی برند'!I:I,MATCH(C:C,'یکسان سازی برند'!K:K,0)),0)","v":0},null,null,null,0,1,0,0,0]
[{"$f":"IFERROR(INDEX('یکسان سازی برند'!I:I,MATCH(C:C,'یکسان سازی برند'!K:K,0)),0)","v":0},null,null,null,0,1,0,0,0]
[{"$f":"IFERROR(INDEX('یکسان سازی برند'!I:I,MATCH(C:C,'یکسان سازی برند'!K:K,0)),0)","v":0},null,null,null,0,1,0,0,0]
[{"$f":"IFERROR(INDEX('یکسان سازی برند'!I:I,MATCH(C:C,'یکسان سازی برند'!K:K,0)),0)","v":0},null,null,null,0,1,0,0,0]
[{"$f":"IFERROR(INDEX('یکسان سازی برند'!I:I,MATCH(C:C,'یکسان سازی برند'!K:K,0)),0)","v":0},null,null,null,0,1,0,0,0]
[{"$f":"IFERROR(INDEX('یکسان سازی برند'!I:I,MATCH(C:C,'یکسان سازی برند'!K:K,0)),0)","v":0},null,null,null,0,1,0,0,0]
[{"$f":"IFERROR(INDEX('یکسان سازی برند'!I:I,MATCH(C:C,'یکسان سازی برند'!K:K,0)),0)","v":0},null,null,null,0,1,0,0,0]
[{"$f":"IFERROR(INDEX('یکسان سازی برند'!I:I,MATCH(C:C,'یکسان سازی برند'!K:K,0)),0)","v":0},null,null,null,0,1,0,0,0]
[{"$f":"IFERROR(INDEX('یکسان سازی برند'!I:I,MATCH(C:C,'یکسان سازی برند'!K:K,0)),0)","v":0},null,null,null,0,1,0,0,0]
[{"$f":"IFERROR(INDEX('یکسان سازی برند'!I:I,MATCH(C:C,'یکسان سازی برند'!K:K,0)),0)","v":0},null,null,null,0,1,0,0,0]
[{"$f":"IFERROR(INDEX('یکسان سازی برند'!I:I,MATCH(C:C,'یکسان سازی برند'!K:K,0)),0)","v":0},null,null,null,0,1,0,0,0]
[{"$f":"IFERROR(INDEX('یکسان سازی برند'!I:I,MATCH(C:C,'یکسان سازی برند'!K:K,0)),0)","v":0},null,null,null,0,1,0,0,0]
[{"$f":"IFERROR(INDEX('یکسان سازی برند'!I:I,MATCH(C:C,'یکسان سازی برند'!K:K,0)),0)","v":0},null,null,null,0,1,0,0,0]
[{"$f":"IFERROR(INDEX('یکسان سازی برند'!I:I,MATCH(C:C,'یکسان سازی برند'!K:K,0)),0)","v":0},null,null,null,0,1,0,0,0]
[{"$f":"IFERROR(INDEX('یکسان سازی برند'!I:I,MATCH(C:C,'یکسان سازی برند'!K:K,0)),0)","v":0},null,null,null,0,1,0,0,0]
[{"$f":"IFERROR(INDEX('یکسان سازی برند'!I:I,MATCH(C:C,'یکسان سازی برند'!K:K,0)),0)","v":0},null,null,null,0,1,0,0,0]
[{"$f":"IFERROR(INDEX('یکسان سازی برند'!I:I,MATCH(C:C,'یکسان سازی برند'!K:K,0)),0)","v":0},null,null,null,0,1,0,0,0]
[{"$f":"IFERROR(INDEX('یکسان سازی برند'!I:I,MATCH(C:C,'یکسان سازی برند'!K:K,0)),0)","v":0},null,null,null,0,1,0,0,0]
[{"$f":"IFERROR(INDEX('یکسان سازی برند'!I:I,MATCH(C:C,'یکسان سازی برند'!K:K,0)),0)","v":0},null,null,null,0,1,0,0,0]
[{"$f":"IFERROR(INDEX('یکسان سازی برند'!I:I,MATCH(C:C,'یکسان سازی برند'!K:K,0)),0)","v":0},null,null,null,0,1,0,0,0]
[{"$f":"IFERROR(INDEX('یکسان سازی برند'!I:I,MATCH(C:C,'یکسان سازی برند'!K:K,0)),0)","v":0},null,null,null,0,1,{"$f":"(E900*F:F)+E900*20%","v":0},{"$f":"G900/2","v":0},{"$f":"E900*3","v":0}]
[{"$f":"IFERROR(INDEX('یکسان سازی برند'!I:I,MATCH(C:C,'یکسان سازی برند'!K:K,0)),0)","v":0},null,null,null,{"$f":"D901/12","v":0},1,0,0,0]
[{"$f":"IFERROR(INDEX('یکسان سازی برند'!I:I,MATCH(C:C,'یکسان سازی برند'!K:K,0)),0)","v":0},null,null,null,0,1,0,0,0]
[{"$f":"IFERROR(INDEX('یکسان سازی برند'!I:I,MATCH(C:C,'یکسان سازی برند'!K:K,0)),0)","v":0},null,null,null,0,1,0,0,0]
[{"$f":"IFERROR(INDEX('یکسان سازی برند'!I:I,MATCH(C:C,'یکسان سازی برند'!K:K,0)),0)","v":0},null,null,null,0,1,0,0,0]
[{"$f":"IFERROR(INDEX('یکسان سازی برند'!I:I,MATCH(C:C,'یکسان سازی برند'!K:K,0)),0)","v":0},null,null,null,0,1,0,0,0]
[{"$f":"IFERROR(INDEX('یکسان سازی برند'!I:I,MATCH(C:C,'یکسان سازی برند'!K:K,0)),0)","v":0},null,null,null,0,1,0,0,0]
[{"$f":"IFERROR(INDEX('یکسان سازی برند'!I:I,MATCH(C:C,'یکسان سازی برند'!K:K,0)),0)","v":0},null,null,null,0,1,0,0,0]
[{"$f":"IFERROR(INDEX('یکسان سازی برند'!I:I,MATCH(C:C,'یکسان سازی برند'!K:K,0)),0)","v":0},null,null,null,0,1,0,0,0]
[{"$f":"IFERROR(INDEX('یکسان سازی برند'!I:I,MATCH(C:C,'یکسان سازی برند'!K:K,0)),0)","v":0},null,null,null,0,1,0,0,0]
[{"$f":"IFERROR(INDEX('یکسان سازی برند'!I:I,MATCH(C:C,'یکسان سازی برند'!K:K,0)),0)","v":0},null,null,null,0,1,0,0,0]
[{"$f":"IFERROR(INDEX('یکسان سازی برند'!I:I,MATCH(C:C,'یکسان سازی برند'!K:K,0)),0)","v":0},null,null,null,0,1,0,0,0]
[{"$f":"IFERROR(INDEX('یکسان سازی برند'!I:I,MATCH(C:C,'یکسان سازی برند'!K:K,0)),0)","v":0},null,null,null,0,1,0,0,0]
[{"$f":"IFERROR(INDEX('یکسان سازی برند'!I:I,MATCH(C:C,'یکسان سازی برند'!K:K,0)),0)","v":0},null,null,null,0,1,0,0,0]
[{"$f":"IFERROR(INDEX('یکسان سازی برند'!I:I,MATCH(C:C,'یکسان سازی برند'!K:K,0)),0)","v":0},null,null,null,0,1,0,0,0]
[{"$f":"IFERROR(INDEX('یکسان سازی برند'!I:I,MATCH(C:C,'یکسان سازی برند'!K:K,0)),0)","v":0},null,null,null,0,1,0,0,0]
[{"$f":"IFERROR(INDEX('یکسان سازی برند'!I:I,MATCH(C:C,'یکسان سازی برند'!K:K,0)),0)","v":0},null,null,null,0,1,0,0,0]
[{"$f":"IFERROR(INDEX('یکسان سازی برند'!I:I,MATCH(C:C,'یکسان سازی برند'!K:K,0)),0)","v":0},null,null,null,0,1,0,0,0]
[{"$f":"IFERROR(INDEX('یکسان سازی برند'!I:I,MATCH(C:C,'یکسان سازی برند'!K:K,0)),0)","v":0},null,null,null,0,1,0,0,0]
[{"$f":"IFERROR(INDEX('یکسان سازی برند'!I:I,MATCH(C:C,'یکسان سازی برند'!K:K,0)),0)","v":0},null,null,null,0,1,0,0,0]
[{"$f":"IFERROR(INDEX('یکسان سازی برند'!I:I,MATCH(C:C,'یکسان سازی برند'!K:K,0)),0)","v":0},null,null,null,0,1,0,0,0]
[{"$f":"IFERROR(INDEX('یکسان سازی برند'!I:I,MATCH(C:C,'یکسان سازی برند'!K:K,0)),0)","v":0},null,null,null,0,1,0,0,0]
[{"$f":"IFERROR(INDEX('یکسان سازی برند'!I:I,MATCH(C:C,'یکسان سازی برند'!K:K,0)),0)","v":0},null,null,null,0,1,0,0,0]
[{"$f":"IFERROR(INDEX('یکسان سازی برند'!I:I,MATCH(C:C,'یکسان سازی برند'!K:K,0)),0)","v":0},null,null,null,0,1,0,0,0]
[{"$f":"IFERROR(INDEX('یکسان سازی برند'!I:I,MATCH(C:C,'یکسان سازی برند'!K:K,0)),0)","v":0},null,null,null,0,1,0,0,0]
[{"$f":"IFERROR(INDEX('یکسان سازی برند'!I:I,MATCH(C:C,'یکسان سازی برند'!K:K,0)),0)","v":0},null,null,null,0,1,0,0,0]
[{"$f":"IFERROR(INDEX('یکسان سازی برند'!I:I,MATCH(C:C,'یکسان سازی برند'!K:K,0)),0)","v":0},null,null,null,0,1,0,0,0]
[{"$f":"IFERROR(INDEX('یکسان سازی برند'!I:I,MATCH(C:C,'یکسان سازی برند'!K:K,0)),0)","v":0},null,null,null,0,1,0,0,0]
[{"$f":"IFERROR(INDEX('یکسان سازی برند'!I:I,MATCH(C:C,'یکسان سازی برند'!K:K,0)),0)","v":0},null,null,null,0,1,0,0,0]
[{"$f":"IFERROR(INDEX('یکسان سازی برند'!I:I,MATCH(C:C,'یکسان سازی برند'!K:K,0)),0)","v":0},null,null,null,0,1,0,0,0]
[{"$f":"IFERROR(INDEX('یکسان سازی برند'!I:I,MATCH(C:C,'یکسان سازی برند'!K:K,0)),0)","v":0},null,null,null,0,1,0,0,0]
[{"$f":"IFERROR(INDEX('یکسان سازی برند'!I:I,MATCH(C:C,'یکسان سازی برند'!K:K,0)),0)","v":0},null,null,null,0,1,0,0,0]
[{"$f":"IFERROR(INDEX('یکسان سازی برند'!I:I,MATCH(C:C,'یکسان سازی برند'!K:K,0)),0)","v":0},null,null,null,0,1,0,0,0]
[{"$f":"IFERROR(INDEX('یکسان سازی برند'!I:I,MATCH(C:C,'یکسان سازی برند'!K:K,0)),0)","v":0},null,null,null,0,1,0,0,0]
[{"$f":"IFERROR(INDEX('یکسان سازی برند'!I:I,MATCH(C:C,'یکسان سازی برند'!K:K,0)),0)","v":0},null,null,null,0,1,0,0,0]
[{"$f":"IFERROR(INDEX('یکسان سازی برند'!I:I,MATCH(C:C,'یکسان سازی برند'!K:K,0)),0)","v":0},null,null,null,0,1,0,0,0]
[{"$f":"IFERROR(INDEX('یکسان سازی برند'!I:I,MATCH(C:C,'یکسان سازی برند'!K:K,0)),0)","v":0},null,null,null,0,1,0,0,0]
[{"$f":"IFERROR(INDEX('یکسان سازی برند'!I:I,MATCH(C:C,'یکسان سازی برند'!K:K,0)),0)","v":0},null,null,null,0,1,0,0,0]
[{"$f":"IFERROR(INDEX('یکسان سازی برند'!I:I,MATCH(C:C,'یکسان سازی برند'!K:K,0)),0)","v":0},null,null,null,0,1,0,0,0]
[{"$f":"IFERROR(INDEX('یکسان سازی برند'!I:I,MATCH(C:C,'یکسان سازی برند'!K:K,0)),0)","v":0},null,null,null,0,1,0,0,0]
[{"$f":"IFERROR(INDEX('یکسان سازی برند'!I:I,MATCH(C:C,'یکسان سازی برند'!K:K,0)),0)","v":0},null,null,null,0,1,0,0,0]
[{"$f":"IFERROR(INDEX('یکسان سازی برند'!I:I,MATCH(C:C,'یکسان سازی برند'!K:K,0)),0)","v":0},null,null,null,0,1,0,0,0]
[{"$f":"IFERROR(INDEX('یکسان سازی برند'!I:I,MATCH(C:C,'یکسان سازی برند'!K:K,0)),0)","v":0},null,null,null,0,1,0,0,0]
[{"$f":"IFERROR(INDEX('یکسان سازی برند'!I:I,MATCH(C:C,'یکسان سازی برند'!K:K,0)),0)","v":0},null,null,null,0,1,0,0,0]
[{"$f":"IFERROR(INDEX('یکسان سازی برند'!I:I,MATCH(C:C,'یکسان سازی برند'!K:K,0)),0)","v":0},null,null,null,0,1,0,0,0]
[{"$f":"IFERROR(INDEX('یکسان سازی برند'!I:I,MATCH(C:C,'یکسان سازی برند'!K:K,0)),0)","v":0},null,null,null,0,1,0,0,0]
[{"$f":"IFERROR(INDEX('یکسان سازی برند'!I:I,MATCH(C:C,'یکسان سازی برند'!K:K,0)),0)","v":0},null,null,null,0,1,0,0,0]
[{"$f":"IFERROR(INDEX('یکسان سازی برند'!I:I,MATCH(C:C,'یکسان سازی برند'!K:K,0)),0)","v":0},null,null,null,0,1,0,0,0]
[{"$f":"IFERROR(INDEX('یکسان سازی برند'!I:I,MATCH(C:C,'یکسان سازی برند'!K:K,0)),0)","v":0},null,null,null,0,1,0,0,0]
[{"$f":"IFERROR(INDEX('یکسان سازی برند'!I:I,MATCH(C:C,'یکسان سازی برند'!K:K,0)),0)","v":0},null,null,null,0,1,0,0,0]
[{"$f":"IFERROR(INDEX('یکسان سازی برند'!I:I,MATCH(C:C,'یکسان سازی برند'!K:K,0)),0)","v":0},null,null,null,0,1,0,0,0]
[{"$f":"IFERROR(INDEX('یکسان سازی برند'!I:I,MATCH(C:C,'یکسان سازی برند'!K:K,0)),0)","v":0},null,null,null,0,1,0,0,0]
[{"$f":"IFERROR(INDEX('یکسان سازی برند'!I:I,MATCH(C:C,'یکسان سازی برند'!K:K,0)),0)","v":0},null,null,null,0,1,0,0,0]
[{"$f":"IFERROR(INDEX('یکسان سازی برند'!I:I,MATCH(C:C,'یکسان سازی برند'!K:K,0)),0)","v":0},null,null,null,0,1,0,0,0]
[{"$f":"IFERROR(INDEX('یکسان سازی برند'!I:I,MATCH(C:C,'یکسان سازی برند'!K:K,0)),0)","v":0},null,null,null,0,1,0,0,0]
[{"$f":"IFERROR(INDEX('یکسان سازی برند'!I:I,MATCH(C:C,'یکسان سازی برند'!K:K,0)),0)","v":0},null,null,null,0,1,0,0,0]
[{"$f":"IFERROR(INDEX('یکسان سازی برند'!I:I,MATCH(C:C,'یکسان سازی برند'!K:K,0)),0)","v":0},null,null,null,0,1,0,0,0]
[{"$f":"IFERROR(INDEX('یکسان سازی برند'!I:I,MATCH(C:C,'یکسان سازی برند'!K:K,0)),0)","v":0},null,null,null,0,1,0,0,0]
[{"$f":"IFERROR(INDEX('یکسان سازی برند'!I:I,MATCH(C:C,'یکسان سازی برند'!K:K,0)),0)","v":0},null,null,null,0,1,0,0,0]
[{"$f":"IFERROR(INDEX('یکسان سازی برند'!I:I,MATCH(C:C,'یکسان سازی برند'!K:K,0)),0)","v":0},null,null,null,0,1,0,0,0]
[{"$f":"IFERROR(INDEX('یکسان سازی برند'!I:I,MATCH(C:C,'یکسان سازی برند'!K:K,0)),0)","v":0},null,null,null,0,1,0,0,0]
[{"$f":"IFERROR(INDEX('یکسان سازی برند'!I:I,MATCH(C:C,'یکسان سازی برند'!K:K,0)),0)","v":0},null,null,null,0,1,0,0,0]
[{"$f":"IFERROR(INDEX('یکسان سازی برند'!I:I,MATCH(C:C,'یکسان سازی برند'!K:K,0)),0)","v":0},null,null,null,0,1,0,0,0]
[{"$f":"IFERROR(INDEX('یکسان سازی برند'!I:I,MATCH(C:C,'یکسان سازی برند'!K:K,0)),0)","v":0},null,null,null,0,1,0,0,0]
[{"$f":"IFERROR(INDEX('یکسان سازی برند'!I:I,MATCH(C:C,'یکسان سازی برند'!K:K,0)),0)","v":0},null,null,null,0,1,{"$f":"(E964*F:F)+E964*20%","v":0},{"$f":"G964/2","v":0},{"$f":"E964*3","v":0}]
[{"$f":"IFERROR(INDEX('یکسان سازی برند'!I:I,MATCH(C:C,'یکسان سازی برند'!K:K,0)),0)","v":0},null,null,null,{"$f":"D965/12","v":0},1,0,0,0]
[{"$f":"IFERROR(INDEX('یکسان سازی برند'!I:I,MATCH(C:C,'یکسان سازی برند'!K:K,0)),0)","v":0},null,null,null,0,1,0,0,0]
[{"$f":"IFERROR(INDEX('یکسان سازی برند'!I:I,MATCH(C:C,'یکسان سازی برند'!K:K,0)),0)","v":0},null,null,null,0,1,0,0,0]
[{"$f":"IFERROR(INDEX('یکسان سازی برند'!I:I,MATCH(C:C,'یکسان سازی برند'!K:K,0)),0)","v":0},null,null,null,0,1,0,0,0]
[{"$f":"IFERROR(INDEX('یکسان سازی برند'!I:I,MATCH(C:C,'یکسان سازی برند'!K:K,0)),0)","v":0},null,null,null,0,1,0,0,0]
[{"$f":"IFERROR(INDEX('یکسان سازی برند'!I:I,MATCH(C:C,'یکسان سازی برند'!K:K,0)),0)","v":0},null,null,null,0,1,0,0,0]
[{"$f":"IFERROR(INDEX('یکسان سازی برند'!I:I,MATCH(C:C,'یکسان سازی برند'!K:K,0)),0)","v":0},null,null,null,0,1,0,0,0]
[{"$f":"IFERROR(INDEX('یکسان سازی برند'!I:I,MATCH(C:C,'یکسان سازی برند'!K:K,0)),0)","v":0},null,null,null,0,1,0,0,0]
[{"$f":"IFERROR(INDEX('یکسان سازی برند'!I:I,MATCH(C:C,'یکسان سازی برند'!K:K,0)),0)","v":0},null,null,null,0,1,0,0,0]
[{"$f":"IFERROR(INDEX('یکسان سازی برند'!I:I,MATCH(C:C,'یکسان سازی برند'!K:K,0)),0)","v":0},null,null,null,0,1,0,0,0]
[{"$f":"IFERROR(INDEX('یکسان سازی برند'!I:I,MATCH(C:C,'یکسان سازی برند'!K:K,0)),0)","v":0},null,null,null,0,1,0,0,0]
[{"$f":"IFERROR(INDEX('یکسان سازی برند'!I:I,MATCH(C:C,'یکسان سازی برند'!K:K,0)),0)","v":0},null,null,null,0,1,0,0,0]
[{"$f":"IFERROR(INDEX('یکسان سازی برند'!I:I,MATCH(C:C,'یکسان سازی برند'!K:K,0)),0)","v":0},null,null,null,0,1,0,0,0]
[{"$f":"IFERROR(INDEX('یکسان سازی برند'!I:I,MATCH(C:C,'یکسان سازی برند'!K:K,0)),0)","v":0},null,null,null,0,1,0,0,0]
[{"$f":"IFERROR(INDEX('یکسان سازی برند'!I:I,MATCH(C:C,'یکسان سازی برند'!K:K,0)),0)","v":0},null,null,null,0,1,0,0,0]
[{"$f":"IFERROR(INDEX('یکسان سازی برند'!I:I,MATCH(C:C,'یکسان سازی برند'!K:K,0)),0)","v":0},null,null,null,0,1,0,0,0]
[{"$f":"IFERROR(INDEX('یکسان سازی برند'!I:I,MATCH(C:C,'یکسان سازی برند'!K:K,0)),0)","v":0},null,null,null,0,1,0,0,0]
[{"$f":"IFERROR(INDEX('یکسان سازی برند'!I:I,MATCH(C:C,'یکسان سازی برند'!K:K,0)),0)","v":0},null,null,null,0,1,0,0,0]
[{"$f":"IFERROR(INDEX('یکسان سازی برند'!I:I,MATCH(C:C,'یکسان سازی برند'!K:K,0)),0)","v":0},null,null,null,0,1,0,0,0]
[{"$f":"IFERROR(INDEX('یکسان سازی برند'!I:I,MATCH(C:C,'یکسان سازی برند'!K:K,0)),0)","v":0},null,null,null,0,1,0,0,0]
[{"$f":"IFERROR(INDEX('یکسان سازی برند'!I:I,MATCH(C:C,'یکسان سازی برند'!K:K,0)),0)","v":0},null,null,null,0,1,0,0,0]
[{"$f":"IFERROR(INDEX('یکسان سازی برند'!I:I,MATCH(C:C,'یکسان سازی برند'!K:K,0)),0)","v":0},null,null,null,0,1,0,0,0]
[{"$f":"IFERROR(INDEX('یکسان سازی برند'!I:I,MATCH(C:C,'یکسان سازی برند'!K:K,0)),0)","v":0},null,null,null,0,1,0,0,0]
[{"$f":"IFERROR(INDEX('یکسان سازی برند'!I:I,MATCH(C:C,'یکسان سازی برند'!K:K,0)),0)","v":0},null,null,null,0,1,0,0,0]
[{"$f":"IFERROR(INDEX('یکسان سازی برند'!I:I,MATCH(C:C,'یکسان سازی برند'!K:K,0)),0)","v":0},null,null,null,0,1,0,0,0]
[{"$f":"IFERROR(INDEX('یکسان سازی برند'!I:I,MATCH(C:C,'یکسان سازی برند'!K:K,0)),0)","v":0},null,null,null,0,1,0,0,0]
[{"$f":"IFERROR(INDEX('یکسان سازی برند'!I:I,MATCH(C:C,'یکسان سازی برند'!K:K,0)),0)","v":0},null,null,null,0,1,0,0,0]
[{"$f":"IFERROR(INDEX('یکسان سازی برند'!I:I,MATCH(C:C,'یکسان سازی برند'!K:K,0)),0)","v":0},null,null,null,0,1,0,0,0]
[{"$f":"IFERROR(INDEX('یکسان سازی برند'!I:I,MATCH(C:C,'یکسان سازی برند'!K:K,0)),0)","v":0},null,null,null,0,1,0,0,0]
[{"$f":"IFERROR(INDEX('یکسان سازی برند'!I:I,MATCH(C:C,'یکسان سازی برند'!K:K,0)),0)","v":0},null,null,null,0,1,0,0,0]
[{"$f":"IFERROR(INDEX('یکسان سازی برند'!I:I,MATCH(C:C,'یکسان سازی برند'!K:K,0)),0)","v":0},null,null,null,0,1,0,0,0]
[{"$f":"IFERROR(INDEX('یکسان سازی برند'!I:I,MATCH(C:C,'یکسان سازی برند'!K:K,0)),0)","v":0},null,null,null,0,1,0,0,0]
[{"$f":"IFERROR(INDEX('یکسان سازی برند'!I:I,MATCH(C:C,'یکسان سازی برند'!K:K,0)),0)","v":0},null,null,null,0,1,0,0,0]
[{"$f":"IFERROR(INDEX('یکسان سازی برند'!I:I,MATCH(C:C,'یکسان سازی برند'!K:K,0)),0)","v":0},null,null,null,0,1,0,0,0]
[{"$f":"IFERROR(INDEX('یکسان سازی برند'!I:I,MATCH(C:C,'یکسان سازی برند'!K:K,0)),0)","v":0},null,null,null,0,1,0,0,0]
[{"$f":"IFERROR(INDEX('یکسان سازی برند'!I:I,MATCH(C:C,'یکسان سازی برند'!K:K,0)),0)","v":0},null,null,null,0,1,0,0,0]
[null,null,null,null,0,1,{"$f":"(E1001*F:F)+E1001*20%","v":0},{"$f":"G1001/2","v":0},0]

{"sheet":"یکسان سازی برند","index":1,"n_rows":1215,"n_cols":13,"rows_kept":1215,"cut":false,"hidden":false,"merged":[[0,0,0,2],[0,5,0,7],[0,3,0,4]]}
["موجودی خام به تفکیک برند",null,null,"تعاریف کالای یکسان",null,"موجودی بدون لحاظ کردن برند کالا",null,null,null,null,null,null,"کالاهایی که جدید هستند"]
["تعداد","شرح","کد","شرح","کد","تعداد","شرح بدون در نظر گرفتن برند","کد",null,null,null,null,"لطفا بعد از پایان تعریف کد یکسان سازی در ستون زرد کلید ctrl+m را بزنید"]
[{"$f":"IFERROR(INDEX('موجودی خام اولیه با برندمتفاوت'!A:A,MATCH(C:C,'موجودی خام اولیه با برندمتفاوت'!C:C,0)),0)","v":0},null,null,null,null,{"$f":"IF(E3=\"\",A3,SUMIF(E:E,E3,A:A))","v":0},{"$f":"IF(E3=\"\",B3,D3)","v":0},{"$f":"IF(E3=\"\",C3,E3)","v":0},null,null,null,{"$f":"COUNTIF('نقطه سفارش'!C:C,'یکسان سازی برند'!K:K)","v":0},{"$f":"IF(L:L=0,\"کالای جدید، لطفا در شیت نقطه سفارش کد و نام کالا کپی شود\",\"\")","v":"کالای جدید، لطفا در شیت نقطه سفارش کد و نام کالا کپی شود"}]
[{"$f":"IFERROR(INDEX('موجودی خام اولیه با برندمتفاوت'!A:A,MATCH(C:C,'موجودی خام اولیه با برندمتفاوت'!C:C,0)),0)","v":0},null,null,null,null,0,0,0,null,null,null,{"$f":"COUNTIF('نقطه سفارش'!C:C,'یکسان سازی برند'!K:K)","v":0},{"$f":"IF(L:L=0,\"کالای جدید، لطفا در شیت نقطه سفارش کد و نام کالا کپی شود\",\"\")","v":"کالای جدید، لطفا در شیت نقطه سفارش کد و نام کالا کپی شود"}]
[{"$f":"IFERROR(INDEX('موجودی خام اولیه با برندمتفاوت'!A:A,MATCH(C:C,'موجودی خام اولیه با برندمتفاوت'!C:C,0)),0)","v":0},null,null,null,null,0,0,0,null,null,null,{"$f":"COUNTIF('نقطه سفارش'!C:C,'یکسان سازی برند'!K:K)","v":0},"کالای جدید، لطفا در شیت نقطه سفارش کد و نام کالا کپی شود"]
[{"$f":"IFERROR(INDEX('موجودی خام اولیه با برندمتفاوت'!A:A,MATCH(C:C,'موجودی خام اولیه با برندمتفاوت'!C:C,0)),0)","v":0},null,null,null,null,0,0,0,null,null,null,{"$f":"COUNTIF('نقطه سفارش'!C:C,'یکسان سازی برند'!K:K)","v":0},"کالای جدید، لطفا در شیت نقطه سفارش کد و نام کالا کپی شود"]
[{"$f":"IFERROR(INDEX('موجودی خام اولیه با برندمتفاوت'!A:A,MATCH(C:C,'موجودی خام اولیه با برندمتفاوت'!C:C,0)),0)","v":0},null,null,null,null,0,0,0,null,null,null,{"$f":"COUNTIF('نقطه سفارش'!C:C,'یکسان سازی برند'!K:K)","v":0},"کالای جدید، لطفا در شیت نقطه سفارش کد و نام کالا کپی شود"]
[{"$f":"IFERROR(INDEX('موجودی خام اولیه با برندمتفاوت'!A:A,MATCH(C:C,'موجودی خام اولیه با برندمتفاوت'!C:C,0)),0)","v":0},null,null,null,null,0,0,0,null,null,null,{"$f":"COUNTIF('نقطه سفارش'!C:C,'یکسان سازی برند'!K:K)","v":0},"کالای جدید، لطفا در شیت نقطه سفارش کد و نام کالا کپی شود"]
[{"$f":"IFERROR(INDEX('موجودی خام اولیه با برندمتفاوت'!A:A,MATCH(C:C,'موجودی خام اولیه با برندمتفاوت'!C:C,0)),0)","v":0},null,null,null,null,0,0,0,null,null,null,{"$f":"COUNTIF('نقطه سفارش'!C:C,'یکسان سازی برند'!K:K)","v":0},"کالای جدید، لطفا در شیت نقطه سفارش کد و نام کالا کپی شود"]
[{"$f":"IFERROR(INDEX('موجودی خام اولیه با برندمتفاوت'!A:A,MATCH(C:C,'موجودی خام اولیه با برندمتفاوت'!C:C,0)),0)","v":0},null,null,null,null,0,0,0,null,null,null,{"$f":"COUNTIF('نقطه سفارش'!C:C,'یکسان سازی برند'!K:K)","v":0},"کالای جدید، لطفا در شیت نقطه سفارش کد و نام کالا کپی شود"]
[{"$f":"IFERROR(INDEX('موجودی خام اولیه با برندمتفاوت'!A:A,MATCH(C:C,'موجودی خام اولیه با برندمتفاوت'!C:C,0)),0)","v":0},null,null,null,null,0,0,0,null,null,null,{"$f":"COUNTIF('نقطه سفارش'!C:C,'یکسان سازی برند'!K:K)","v":0},"کالای جدید، لطفا در شیت نقطه سفارش کد و نام کالا کپی شود"]
[{"$f":"IFERROR(INDEX('موجودی خام اولیه با برندمتفاوت'!A:A,MATCH(C:C,'موجودی خام اولیه با برندمتفاوت'!C:C,0)),0)","v":0},null,null,null,null,0,0,0,null,null,null,{"$f":"COUNTIF('نقطه سفارش'!C:C,'یکسان سازی برند'!K:K)","v":0},"کالای جدید، لطفا در شیت نقطه سفارش کد و نام کالا کپی شود"]
[{"$f":"IFERROR(INDEX('موجودی خام اولیه با برندمتفاوت'!A:A,MATCH(C:C,'موجودی خام اولیه با برندمتفاوت'!C:C,0)),0)","v":0},null,null,null,null,0,0,0,null,null,null,{"$f":"COUNTIF('نقطه سفارش'!C:C,'یکسان سازی برند'!K:K)","v":0},"کالای جدید، لطفا در شیت نقطه سفارش کد و نام کالا کپی شود"]
[{"$f":"IFERROR(INDEX('موجودی خام اولیه با برندمتفاوت'!A:A,MATCH(C:C,'موجودی خام اولیه با برندمتفاوت'!C:C,0)),0)","v":0},null,null,null,null,0,0,0,null,null,null,{"$f":"COUNTIF('نقطه سفارش'!C:C,'یکسان سازی برند'!K:K)","v":0},"کالای جدید، لطفا در شیت نقطه سفارش کد و نام کالا کپی شود"]
[{"$f":"IFERROR(INDEX('موجودی خام اولیه با برندمتفاوت'!A:A,MATCH(C:C,'موجودی خام اولیه با برندمتفاوت'!C:C,0)),0)","v":0},null,null,null,null,0,0,0,null,null,null,{"$f":"COUNTIF('نقطه سفارش'!C:C,'یکسان سازی برند'!K:K)","v":0},"کالای جدید، لطفا در شیت نقطه سفارش کد و نام کالا کپی شود"]
[{"$f":"IFERROR(INDEX('موجودی خام اولیه با برندمتفاوت'!A:A,MATCH(C:C,'موجودی خام اولیه با برندمتفاوت'!C:C,0)),0)","v":0},null,null,null,null,0,0,0,null,null,null,{"$f":"COUNTIF('نقطه سفارش'!C:C,'یکسان سازی برند'!K:K)","v":0},"کالای جدید، لطفا در شیت نقطه سفارش کد و نام کالا کپی شود"]
[{"$f":"IFERROR(INDEX('موجودی خام اولیه با برندمتفاوت'!A:A,MATCH(C:C,'موجودی خام اولیه با برندمتفاوت'!C:C,0)),0)","v":0},null,null,null,null,0,0,0,null,null,null,{"$f":"COUNTIF('نقطه سفارش'!C:C,'یکسان سازی برند'!K:K)","v":0},"کالای جدید، لطفا در شیت نقطه سفارش کد و نام کالا کپی شود"]
[{"$f":"IFERROR(INDEX('موجودی خام اولیه با برندمتفاوت'!A:A,MATCH(C:C,'موجودی خام اولیه با برندمتفاوت'!C:C,0)),0)","v":0},null,null,null,null,0,0,0,null,null,null,{"$f":"COUNTIF('نقطه سفارش'!C:C,'یکسان سازی برند'!K:K)","v":0},"کالای جدید، لطفا در شیت نقطه سفارش کد و نام کالا کپی شود"]
[{"$f":"IFERROR(INDEX('موجودی خام اولیه با برندمتفاوت'!A:A,MATCH(C:C,'موجودی خام اولیه با برندمتفاوت'!C:C,0)),0)","v":0},null,null,null,null,0,0,0,null,null,null,{"$f":"COUNTIF('نقطه سفارش'!C:C,'یکسان سازی برند'!K:K)","v":0},"کالای جدید، لطفا در شیت نقطه سفارش کد و نام کالا کپی شود"]
[{"$f":"IFERROR(INDEX('موجودی خام اولیه با برندمتفاوت'!A:A,MATCH(C:C,'موجودی خام اولیه با برندمتفاوت'!C:C,0)),0)","v":0},null,null,null,null,0,0,0,null,null,null,{"$f":"COUNTIF('نقطه سفارش'!C:C,'یکسان سازی برند'!K:K)","v":0},"کالای جدید، لطفا در شیت نقطه سفارش کد و نام کالا کپی شود"]
[{"$f":"IFERROR(INDEX('موجودی خام اولیه با برندمتفاوت'!A:A,MATCH(C:C,'موجودی خام اولیه با برندمتفاوت'!C:C,0)),0)","v":0},null,null,null,null,0,0,0,null,null,null,{"$f":"COUNTIF('نقطه سفارش'!C:C,'یکسان سازی برند'!K:K)","v":0},"کالای جدید، لطفا در شیت نقطه سفارش کد و نام کالا کپی شود"]
[{"$f":"IFERROR(INDEX('موجودی خام اولیه با برندمتفاوت'!A:A,MATCH(C:C,'موجودی خام اولیه با برندمتفاوت'!C:C,0)),0)","v":0},null,null,null,null,0,0,0,null,null,null,{"$f":"COUNTIF('نقطه سفارش'!C:C,'یکسان سازی برند'!K:K)","v":0},"کالای جدید، لطفا در شیت نقطه سفارش کد و نام کالا کپی شود"]
[{"$f":"IFERROR(INDEX('موجودی خام اولیه با برندمتفاوت'!A:A,MATCH(C:C,'موجودی خام اولیه با برندمتفاوت'!C:C,0)),0)","v":0},null,null,null,null,0,0,0,null,null,null,{"$f":"COUNTIF('نقطه سفارش'!C:C,'یکسان سازی برند'!K:K)","v":0},"کالای جدید، لطفا در شیت نقطه سفارش کد و نام کالا کپی شود"]
[{"$f":"IFERROR(INDEX('موجودی خام اولیه با برندمتفاوت'!A:A,MATCH(C:C,'موجودی خام اولیه با برندمتفاوت'!C:C,0)),0)","v":0},null,null,null,null,0,0,0,null,null,null,{"$f":"COUNTIF('نقطه سفارش'!C:C,'یکسان سازی برند'!K:K)","v":0},"کالای جدید، لطفا در شیت نقطه سفارش کد و نام کالا کپی شود"]
[{"$f":"IFERROR(INDEX('موجودی خام اولیه با برندمتفاوت'!A:A,MATCH(C:C,'موجودی خام اولیه با برندمتفاوت'!C:C,0)),0)","v":0},null,null,null,null,0,0,0,null,null,null,{"$f":"COUNTIF('نقطه سفارش'!C:C,'یکسان سازی برند'!K:K)","v":0},"کالای جدید، لطفا در شیت نقطه سفارش کد و نام کالا کپی شود"]
[{"$f":"IFERROR(INDEX('موجودی خام اولیه با برندمتفاوت'!A:A,MATCH(C:C,'موجودی خام اولیه با برندمتفاوت'!C:C,0)),0)","v":0},null,null,null,null,0,0,0,null,null,null,{"$f":"COUNTIF('نقطه سفارش'!C:C,'یکسان سازی برند'!K:K)","v":0},"کالای جدید، لطفا در شیت نقطه سفارش کد و نام کالا کپی شود"]
[{"$f":"IFERROR(INDEX('موجودی خام اولیه با برندمتفاوت'!A:A,MATCH(C:C,'موجودی خام اولیه با برندمتفاوت'!C:C,0)),0)","v":0},null,null,null,null,0,0,0,null,null,null,{"$f":"COUNTIF('نقطه سفارش'!C:C,'یکسان سازی برند'!K:K)","v":0},"کالای جدید، لطفا در شیت نقطه سفارش کد و نام کالا کپی شود"]
[{"$f":"IFERROR(INDEX('موجودی خام اولیه با برندمتفاوت'!A:A,MATCH(C:C,'موجودی خام اولیه با برندمتفاوت'!C:C,0)),0)","v":0},null,null,null,null,0,0,0,null,null,null,{"$f":"COUNTIF('نقطه سفارش'!C:C,'یکسان سازی برند'!K:K)","v":0},"کالای جدید، لطفا در شیت نقطه سفارش کد و نام کالا کپی شود"]
[{"$f":"IFERROR(INDEX('موجودی خام اولیه با برندمتفاوت'!A:A,MATCH(C:C,'موجودی خام اولیه با برندمتفاوت'!C:C,0)),0)","v":0},null,null,null,null,0,0,0,null,null,null,{"$f":"COUNTIF('نقطه سفارش'!C:C,'یکسان سازی برند'!K:K)","v":0},"کالای جدید، لطفا در شیت نقطه سفارش کد و نام کالا کپی شود"]
[{"$f":"IFERROR(INDEX('موجودی خام اولیه با برندمتفاوت'!A:A,MATCH(C:C,'موجودی خام اولیه با برندمتفاوت'!C:C,0)),0)","v":0},null,null,null,null,0,0,0,null,null,null,{"$f":"COUNTIF('نقطه سفارش'!C:C,'یکسان سازی برند'!K:K)","v":0},"کالای جدید، لطفا در شیت نقطه سفارش کد و نام کالا کپی شود"]
[{"$f":"IFERROR(INDEX('موجودی خام اولیه با برندمتفاوت'!A:A,MATCH(C:C,'موجودی خام اولیه با برندمتفاوت'!C:C,0)),0)","v":0},null,null,null,null,0,0,0,null,null,null,{"$f":"COUNTIF('نقطه سفارش'!C:C,'یکسان سازی برند'!K:K)","v":0},"کالای جدید، لطفا در شیت نقطه سفارش کد و نام کالا کپی شود"]
[{"$f":"IFERROR(INDEX('موجودی خام اولیه با برندمتفاوت'!A:A,MATCH(C:C,'موجودی خام اولیه با برندمتفاوت'!C:C,0)),0)","v":0},null,null,null,null,0,0,0,null,null,null,{"$f":"COUNTIF('نقطه سفارش'!C:C,'یکسان سازی برند'!K:K)","v":0},"کالای جدید، لطفا در شیت نقطه سفارش کد و نام کالا کپی شود"]
[{"$f":"IFERROR(INDEX('موجودی خام اولیه با برندمتفاوت'!A:A,MATCH(C:C,'موجودی خام اولیه با برندمتفاوت'!C:C,0)),0)","v":0},null,null,null,null,0,0,0,null,null,null,{"$f":"COUNTIF('نقطه سفارش'!C:C,'یکسان سازی برند'!K:K)","v":0},"کالای جدید، لطفا در شیت نقطه سفارش کد و نام کالا کپی شود"]
[{"$f":"IFERROR(INDEX('موجودی خام اولیه با برندمتفاوت'!A:A,MATCH(C:C,'موجودی خام اولیه با برندمتفاوت'!C:C,0)),0)","v":0},null,null,null,null,0,0,0,null,null,null,{"$f":"COUNTIF('نقطه سفارش'!C:C,'یکسان سازی برند'!K:K)","v":0},"کالای جدید، لطفا در شیت نقطه سفارش کد و نام کالا کپی شود"]
[{"$f":"IFERROR(INDEX('موجودی خام اولیه با برندمتفاوت'!A:A,MATCH(C:C,'موجودی خام اولیه با برندمتفاوت'!C:C,0)),0)","v":0},null,null,null,null,0,0,0,null,null,null,{"$f":"COUNTIF('نقطه سفارش'!C:C,'یکسان سازی برند'!K:K)","v":0},"کالای جدید، لطفا در شیت نقطه سفارش کد و نام کالا کپی شود"]
[{"$f":"IFERROR(INDEX('موجودی خام اولیه با برندمتفاوت'!A:A,MATCH(C:C,'موجودی خام اولیه با برندمتفاوت'!C:C,0)),0)","v":0},null,null,null,null,0,0,0,null,null,null,{"$f":"COUNTIF('نقطه سفارش'!C:C,'یکسان سازی برند'!K:K)","v":0},"کالای جدید، لطفا در شیت نقطه سفارش کد و نام کالا کپی شود"]
[{"$f":"IFERROR(INDEX('موجودی خام اولیه با برندمتفاوت'!A:A,MATCH(C:C,'موجودی خام اولیه با برندمتفاوت'!C:C,0)),0)","v":0},null,null,null,null,0,0,0,null,null,null,{"$f":"COUNTIF('نقطه سفارش'!C:C,'یکسان سازی برند'!K:K)","v":0},"کالای جدید، لطفا در شیت نقطه سفارش کد و نام کالا کپی شود"]
[{"$f":"IFERROR(INDEX('موجودی خام اولیه با برندمتفاوت'!A:A,MATCH(C:C,'موجودی خام اولیه با برندمتفاوت'!C:C,0)),0)","v":0},null,null,null,null,0,0,0,null,null,null,{"$f":"COUNTIF('نقطه سفارش'!C:C,'یکسان سازی برند'!K:K)","v":0},"کالای جدید، لطفا در شیت نقطه سفارش کد و نام کالا کپی شود"]
[{"$f":"IFERROR(INDEX('موجودی خام اولیه با برندمتفاوت'!A:A,MATCH(C:C,'موجودی خام اولیه با برندمتفاوت'!C:C,0)),0)","v":0},null,null,null,null,0,0,0,null,null,null,{"$f":"COUNTIF('نقطه سفارش'!C:C,'یکسان سازی برند'!K:K)","v":0},"کالای جدید، لطفا در شیت نقطه سفارش کد و نام کالا کپی شود"]
[{"$f":"IFERROR(INDEX('موجودی خام اولیه با برندمتفاوت'!A:A,MATCH(C:C,'موجودی خام اولیه با برندمتفاوت'!C:C,0)),0)","v":0},null,null,null,null,0,0,0,null,null,null,{"$f":"COUNTIF('نقطه سفارش'!C:C,'یکسان سازی برند'!K:K)","v":0},"کالای جدید، لطفا در شیت نقطه سفارش کد و نام کالا کپی شود"]
[{"$f":"IFERROR(INDEX('موجودی خام اولیه با برندمتفاوت'!A:A,MATCH(C:C,'موجودی خام اولیه با برندمتفاوت'!C:C,0)),0)","v":0},null,null,null,null,0,0,0,null,null,null,{"$f":"COUNTIF('نقطه سفارش'!C:C,'یکسان سازی برند'!K:K)","v":0},"کالای جدید، لطفا در شیت نقطه سفارش کد و نام کالا کپی شود"]
[{"$f":"IFERROR(INDEX('موجودی خام اولیه با برندمتفاوت'!A:A,MATCH(C:C,'موجودی خام اولیه با برندمتفاوت'!C:C,0)),0)","v":0},null,null,null,null,0,0,0,null,null,null,{"$f":"COUNTIF('نقطه سفارش'!C:C,'یکسان سازی برند'!K:K)","v":0},"کالای جدید، لطفا در شیت نقطه سفارش کد و نام کالا کپی شود"]
[{"$f":"IFERROR(INDEX('موجودی خام اولیه با برندمتفاوت'!A:A,MATCH(C:C,'موجودی خام اولیه با برندمتفاوت'!C:C,0)),0)","v":0},null,null,null,null,0,0,0,null,null,null,{"$f":"COUNTIF('نقطه سفارش'!C:C,'یکسان سازی برند'!K:K)","v":0},"کالای جدید، لطفا در شیت نقطه سفارش کد و نام کالا کپی شود"]
[{"$f":"IFERROR(INDEX('موجودی خام اولیه با برندمتفاوت'!A:A,MATCH(C:C,'موجودی خام اولیه با برندمتفاوت'!C:C,0)),0)","v":0},null,null,null,null,0,0,0,null,null,null,{"$f":"COUNTIF('نقطه سفارش'!C:C,'یکسان سازی برند'!K:K)","v":0},"کالای جدید، لطفا در شیت نقطه سفارش کد و نام کالا کپی شود"]
[{"$f":"IFERROR(INDEX('موجودی خام اولیه با برندمتفاوت'!A:A,MATCH(C:C,'موجودی خام اولیه با برندمتفاوت'!C:C,0)),0)","v":0},null,null,null,null,0,0,0,null,null,null,{"$f":"COUNTIF('نقطه سفارش'!C:C,'یکسان سازی برند'!K:K)","v":0},"کالای جدید، لطفا در شیت نقطه سفارش کد و نام کالا کپی شود"]
[{"$f":"IFERROR(INDEX('موجودی خام اولیه با برندمتفاوت'!A:A,MATCH(C:C,'موجودی خام اولیه با برندمتفاوت'!C:C,0)),0)","v":0},null,null,null,null,0,0,0,null,null,null,{"$f":"COUNTIF('نقطه سفارش'!C:C,'یکسان سازی برند'!K:K)","v":0},"کالای جدید، لطفا در شیت نقطه سفارش کد و نام کالا کپی شود"]
[{"$f":"IFERROR(INDEX('موجودی خام اولیه با برندمتفاوت'!A:A,MATCH(C:C,'موجودی خام اولیه با برندمتفاوت'!C:C,0)),0)","v":0},null,null,null,null,0,0,0,null,null,null,{"$f":"COUNTIF('نقطه سفارش'!C:C,'یکسان سازی برند'!K:K)","v":0},"کالای جدید، لطفا در شیت نقطه سفارش کد و نام کالا کپی شود"]
[{"$f":"IFERROR(INDEX('موجودی خام اولیه با برندمتفاوت'!A:A,MATCH(C:C,'موجودی خام اولیه با برندمتفاوت'!C:C,0)),0)","v":0},null,null,null,null,0,0,0,null,null,null,{"$f":"COUNTIF('نقطه سفارش'!C:C,'یکسان سازی برند'!K:K)","v":0},"کالای جدید، لطفا در شیت نقطه سفارش کد و نام کالا کپی شود"]
[{"$f":"IFERROR(INDEX('موجودی خام اولیه با برندمتفاوت'!A:A,MATCH(C:C,'موجودی خام اولیه با برندمتفاوت'!C:C,0)),0)","v":0},null,null,null,null,0,0,0,null,null,null,{"$f":"COUNTIF('نقطه سفارش'!C:C,'یکسان سازی برند'!K:K)","v":0},"کالای جدید، لطفا در شیت نقطه سفارش کد و نام کالا کپی شود"]
[{"$f":"IFERROR(INDEX('موجودی خام اولیه با برندمتفاوت'!A:A,MATCH(C:C,'موجودی خام اولیه با برندمتفاوت'!C:C,0)),0)","v":0},null,null,null,null,0,0,0,null,null,null,{"$f":"COUNTIF('نقطه سفارش'!C:C,'یکسان سازی برند'!K:K)","v":0},"کالای جدید، لطفا در شیت نقطه سفارش کد و نام کالا کپی شود"]
[{"$f":"IFERROR(INDEX('موجودی خام اولیه با برندمتفاوت'!A:A,MATCH(C:C,'موجودی خام اولیه با برندمتفاوت'!C:C,0)),0)","v":0},null,null,null,null,0,0,0,null,null,null,{"$f":"COUNTIF('نقطه سفارش'!C:C,'یکسان سازی برند'!K:K)","v":0},"کالای جدید، لطفا در شیت نقطه سفارش کد و نام کالا کپی شود"]
[{"$f":"IFERROR(INDEX('موجودی خام اولیه با برندمتفاوت'!A:A,MATCH(C:C,'موجودی خام اولیه با برندمتفاوت'!C:C,0)),0)","v":0},null,null,null,null,0,0,0,null,null,null,{"$f":"COUNTIF('نقطه سفارش'!C:C,'یکسان سازی برند'!K:K)","v":0},"کالای جدید، لطفا در شیت نقطه سفارش کد و نام کالا کپی شود"]
[{"$f":"IFERROR(INDEX('موجودی خام اولیه با برندمتفاوت'!A:A,MATCH(C:C,'موجودی خام اولیه با برندمتفاوت'!C:C,0)),0)","v":0},null,null,null,null,0,0,0,null,null,null,{"$f":"COUNTIF('نقطه سفارش'!C:C,'یکسان سازی برند'!K:K)","v":0},"کالای جدید، لطفا در شیت نقطه سفارش کد و نام کالا کپی شود"]
[{"$f":"IFERROR(INDEX('موجودی خام اولیه با برندمتفاوت'!A:A,MATCH(C:C,'موجودی خام اولیه با برندمتفاوت'!C:C,0)),0)","v":0},null,null,null,null,0,0,0,null,null,null,{"$f":"COUNTIF('نقطه سفارش'!C:C,'یکسان سازی برند'!K:K)","v":0},"کالای جدید، لطفا در شیت نقطه سفارش کد و نام کالا کپی شود"]
[{"$f":"IFERROR(INDEX('موجودی خام اولیه با برندمتفاوت'!A:A,MATCH(C:C,'موجودی خام اولیه با برندمتفاوت'!C:C,0)),0)","v":0},null,null,null,null,0,0,0,null,null,null,{"$f":"COUNTIF('نقطه سفارش'!C:C,'یکسان سازی برند'!K:K)","v":0},"کالای جدید، لطفا در شیت نقطه سفارش کد و نام کالا کپی شود"]
[{"$f":"IFERROR(INDEX('موجودی خام اولیه با برندمتفاوت'!A:A,MATCH(C:C,'موجودی خام اولیه با برندمتفاوت'!C:C,0)),0)","v":0},null,null,null,null,0,0,0,null,null,null,{"$f":"COUNTIF('نقطه سفارش'!C:C,'یکسان سازی برند'!K:K)","v":0},"کالای جدید، لطفا در شیت نقطه سفارش کد و نام کالا کپی شود"]
[{"$f":"IFERROR(INDEX('موجودی خام اولیه با برندمتفاوت'!A:A,MATCH(C:C,'موجودی خام اولیه با برندمتفاوت'!C:C,0)),0)","v":0},null,null,null,null,0,0,0,null,null,null,{"$f":"COUNTIF('نقطه سفارش'!C:C,'یکسان سازی برند'!K:K)","v":0},"کالای جدید، لطفا در شیت نقطه سفارش کد و نام کالا کپی شود"]
[{"$f":"IFERROR(INDEX('موجودی خام اولیه با برندمتفاوت'!A:A,MATCH(C:C,'موجودی خام اولیه با برندمتفاوت'!C:C,0)),0)","v":0},null,null,null,null,0,0,0,null,null,null,{"$f":"COUNTIF('نقطه سفارش'!C:C,'یکسان سازی برند'!K:K)","v":0},"کالای جدید، لطفا در شیت نقطه سفارش کد و نام کالا کپی شود"]
[{"$f":"IFERROR(INDEX('موجودی خام اولیه با برندمتفاوت'!A:A,MATCH(C:C,'موجودی خام اولیه با برندمتفاوت'!C:C,0)),0)","v":0},null,null,null,null,0,0,0,null,null,null,{"$f":"COUNTIF('نقطه سفارش'!C:C,'یکسان سازی برند'!K:K)","v":0},"کالای جدید، لطفا در شیت نقطه سفارش کد و نام کالا کپی شود"]
[{"$f":"IFERROR(INDEX('موجودی خام اولیه با برندمتفاوت'!A:A,MATCH(C:C,'موجودی خام اولیه با برندمتفاوت'!C:C,0)),0)","v":0},null,null,null,null,0,0,0,null,null,null,{"$f":"COUNTIF('نقطه سفارش'!C:C,'یکسان سازی برند'!K:K)","v":0},"کالای جدید، لطفا در شیت نقطه سفارش کد و نام کالا کپی شود"]
[{"$f":"IFERROR(INDEX('موجودی خام اولیه با برندمتفاوت'!A:A,MATCH(C:C,'موجودی خام اولیه با برندمتفاوت'!C:C,0)),0)","v":0},null,null,null,null,0,0,0,null,null,null,{"$f":"COUNTIF('نقطه سفارش'!C:C,'یکسان سازی برند'!K:K)","v":0},"کالای جدید، لطفا در شیت نقطه سفارش کد و نام کالا کپی شود"]
[{"$f":"IFERROR(INDEX('موجودی خام اولیه با برندمتفاوت'!A:A,MATCH(C:C,'موجودی خام اولیه با برندمتفاوت'!C:C,0)),0)","v":0},null,null,null,null,0,0,0,null,null,null,{"$f":"COUNTIF('نقطه سفارش'!C:C,'یکسان سازی برند'!K:K)","v":0},"کالای جدید، لطفا در شیت نقطه سفارش کد و نام کالا کپی شود"]
[{"$f":"IFERROR(INDEX('موجودی خام اولیه با برندمتفاوت'!A:A,MATCH(C:C,'موجودی خام اولیه با برندمتفاوت'!C:C,0)),0)","v":0},null,null,null,null,0,0,0,null,null,null,{"$f":"COUNTIF('نقطه سفارش'!C:C,'یکسان سازی برند'!K:K)","v":0},"کالای جدید، لطفا در شیت نقطه سفارش کد و نام کالا کپی شود"]
[{"$f":"IFERROR(INDEX('موجودی خام اولیه با برندمتفاوت'!A:A,MATCH(C:C,'موجودی خام اولیه با برندمتفاوت'!C:C,0)),0)","v":0},null,null,null,null,0,0,0,null,null,null,{"$f":"COUNTIF('نقطه سفارش'!C:C,'یکسان سازی برند'!K:K)","v":0},"کالای جدید، لطفا در شیت نقطه سفارش کد و نام کالا کپی شود"]
[{"$f":"IFERROR(INDEX('موجودی خام اولیه با برندمتفاوت'!A:A,MATCH(C:C,'موجودی خام اولیه با برندمتفاوت'!C:C,0)),0)","v":0},null,null,null,null,0,0,0,null,null,null,{"$f":"COUNTIF('نقطه سفارش'!C:C,'یکسان سازی برند'!K:K)","v":0},"کالای جدید، لطفا در شیت نقطه سفارش کد و نام کالا کپی شود"]
[{"$f":"IFERROR(INDEX('موجودی خام اولیه با برندمتفاوت'!A:A,MATCH(C:C,'موجودی خام اولیه با برندمتفاوت'!C:C,0)),0)","v":0},null,null,null,null,0,0,0,null,null,null,{"$f":"COUNTIF('نقطه سفارش'!C:C,'یکسان سازی برند'!K:K)","v":0},"کالای جدید، لطفا در شیت نقطه سفارش کد و نام کالا کپی شود"]
[{"$f":"IFERROR(INDEX('موجودی خام اولیه با برندمتفاوت'!A:A,MATCH(C:C,'موجودی خام اولیه با برندمتفاوت'!C:C,0)),0)","v":0},null,null,null,null,{"$f":"IF(E67=\"\",A67,SUMIF(E:E,E67,A:A))","v":0},{"$f":"IF(E67=\"\",B67,D67)","v":0},{"$f":"IF(E67=\"\",C67,E67)","v":0},null,null,null,{"$f":"COUNTIF('نقطه سفارش'!C:C,'یکسان سازی برند'!K:K)","v":0},"کالای جدید، لطفا در شیت نقطه سفارش کد و نام کالا کپی شود"]
[{"$f":"IFERROR(INDEX('موجودی خام اولیه با برندمتفاوت'!A:A,MATCH(C:C,'موجودی خام اولیه با برندمتفاوت'!C:C,0)),0)","v":0},null,null,null,null,0,0,0,null,null,null,{"$f":"COUNTIF('نقطه سفارش'!C:C,'یکسان سازی برند'!K:K)","v":0},{"$f":"IF(L:L=0,\"کالای جدید، لطفا در شیت نقطه سفارش کد و نام کالا کپی شود\",\"\")","v":"کالای جدید، لطفا در شیت نقطه سفارش کد و نام کالا کپی شود"}]
[{"$f":"IFERROR(INDEX('موجودی خام اولیه با برندمتفاوت'!A:A,MATCH(C:C,'موجودی خام اولیه با برندمتفاوت'!C:C,0)),0)","v":0},null,null,null,null,0,0,0,null,null,null,{"$f":"COUNTIF('نقطه سفارش'!C:C,'یکسان سازی برند'!K:K)","v":0},"کالای جدید، لطفا در شیت نقطه سفارش کد و نام کالا کپی شود"]
[{"$f":"IFERROR(INDEX('موجودی خام اولیه با برندمتفاوت'!A:A,MATCH(C:C,'موجودی خام اولیه با برندمتفاوت'!C:C,0)),0)","v":0},null,null,null,null,0,0,0,null,null,null,{"$f":"COUNTIF('نقطه سفارش'!C:C,'یکسان سازی برند'!K:K)","v":0},"کالای جدید، لطفا در شیت نقطه سفارش کد و نام کالا کپی شود"]
[{"$f":"IFERROR(INDEX('موجودی خام اولیه با برندمتفاوت'!A:A,MATCH(C:C,'موجودی خام اولیه با برندمتفاوت'!C:C,0)),0)","v":0},null,null,null,null,0,0,0,null,null,null,{"$f":"COUNTIF('نقطه سفارش'!C:C,'یکسان سازی برند'!K:K)","v":0},"کالای جدید، لطفا در شیت نقطه سفارش کد و نام کالا کپی شود"]
[{"$f":"IFERROR(INDEX('موجودی خام اولیه با برندمتفاوت'!A:A,MATCH(C:C,'موجودی خام اولیه با برندمتفاوت'!C:C,0)),0)","v":0},null,null,null,null,0,0,0,null,null,null,{"$f":"COUNTIF('نقطه سفارش'!C:C,'یکسان سازی برند'!K:K)","v":0},"کالای جدید، لطفا در شیت نقطه سفارش کد و نام کالا کپی شود"]
[{"$f":"IFERROR(INDEX('موجودی خام اولیه با برندمتفاوت'!A:A,MATCH(C:C,'موجودی خام اولیه با برندمتفاوت'!C:C,0)),0)","v":0},null,null,null,null,0,0,0,null,null,null,{"$f":"COUNTIF('نقطه سفارش'!C:C,'یکسان سازی برند'!K:K)","v":0},"کالای جدید، لطفا در شیت نقطه سفارش کد و نام کالا کپی شود"]
[{"$f":"IFERROR(INDEX('موجودی خام اولیه با برندمتفاوت'!A:A,MATCH(C:C,'موجودی خام اولیه با برندمتفاوت'!C:C,0)),0)","v":0},null,null,null,null,0,0,0,null,null,null,{"$f":"COUNTIF('نقطه سفارش'!C:C,'یکسان سازی برند'!K:K)","v":0},"کالای جدید، لطفا در شیت نقطه سفارش کد و نام کالا کپی شود"]
[{"$f":"IFERROR(INDEX('موجودی خام اولیه با برندمتفاوت'!A:A,MATCH(C:C,'موجودی خام اولیه با برندمتفاوت'!C:C,0)),0)","v":0},null,null,null,null,0,0,0,null,null,null,{"$f":"COUNTIF('نقطه سفارش'!C:C,'یکسان سازی برند'!K:K)","v":0},"کالای جدید، لطفا در شیت نقطه سفارش کد و نام کالا کپی شود"]
[{"$f":"IFERROR(INDEX('موجودی خام اولیه با برندمتفاوت'!A:A,MATCH(C:C,'موجودی خام اولیه با برندمتفاوت'!C:C,0)),0)","v":0},null,null,null,null,0,0,0,null,null,null,{"$f":"COUNTIF('نقطه سفارش'!C:C,'یکسان سازی برند'!K:K)","v":0},"کالای جدید، لطفا در شیت نقطه سفارش کد و نام کالا کپی شود"]
[{"$f":"IFERROR(INDEX('موجودی خام اولیه با برندمتفاوت'!A:A,MATCH(C:C,'موجودی خام اولیه با برندمتفاوت'!C:C,0)),0)","v":0},null,null,null,null,0,0,0,null,null,null,{"$f":"COUNTIF('نقطه سفارش'!C:C,'یکسان سازی برند'!K:K)","v":0},"کالای جدید، لطفا در شیت نقطه سفارش کد و نام کالا کپی شود"]
[{"$f":"IFERROR(INDEX('موجودی خام اولیه با برندمتفاوت'!A:A,MATCH(C:C,'موجودی خام اولیه با برندمتفاوت'!C:C,0)),0)","v":0},null,null,null,null,0,0,0,null,null,null,{"$f":"COUNTIF('نقطه سفارش'!C:C,'یکسان سازی برند'!K:K)","v":0},"کالای جدید، لطفا در شیت نقطه سفارش کد و نام کالا کپی شود"]
[{"$f":"IFERROR(INDEX('موجودی خام اولیه با برندمتفاوت'!A:A,MATCH(C:C,'موجودی خام اولیه با برندمتفاوت'!C:C,0)),0)","v":0},null,null,null,null,0,0,0,null,null,null,{"$f":"COUNTIF('نقطه سفارش'!C:C,'یکسان سازی برند'!K:K)","v":0},"کالای جدید، لطفا در شیت نقطه سفارش کد و نام کالا کپی شود"]
[{"$f":"IFERROR(INDEX('موجودی خام اولیه با برندمتفاوت'!A:A,MATCH(C:C,'موجودی خام اولیه با برندمتفاوت'!C:C,0)),0)","v":0},null,null,null,null,0,0,0,null,null,null,{"$f":"COUNTIF('نقطه سفارش'!C:C,'یکسان سازی برند'!K:K)","v":0},"کالای جدید، لطفا در شیت نقطه سفارش کد و نام کالا کپی شود"]
[{"$f":"IFERROR(INDEX('موجودی خام اولیه با برندمتفاوت'!A:A,MATCH(C:C,'موجودی خام اولیه با برندمتفاوت'!C:C,0)),0)","v":0},null,null,null,null,0,0,0,null,null,null,{"$f":"COUNTIF('نقطه سفارش'!C:C,'یکسان سازی برند'!K:K)","v":0},"کالای جدید، لطفا در شیت نقطه سفارش کد و نام کالا کپی شود"]
[{"$f":"IFERROR(INDEX('موجودی خام اولیه با برندمتفاوت'!A:A,MATCH(C:C,'موجودی خام اولیه با برندمتفاوت'!C:C,0)),0)","v":0},null,null,null,null,0,0,0,null,null,null,{"$f":"COUNTIF('نقطه سفارش'!C:C,'یکسان سازی برند'!K:K)","v":0},"کالای جدید، لطفا در شیت نقطه سفارش کد و نام کالا کپی شود"]
[{"$f":"IFERROR(INDEX('موجودی خام اولیه با برندمتفاوت'!A:A,MATCH(C:C,'موجودی خام اولیه با برندمتفاوت'!C:C,0)),0)","v":0},null,null,null,null,0,0,0,null,null,null,{"$f":"COUNTIF('نقطه سفارش'!C:C,'یکسان سازی برند'!K:K)","v":0},"کالای جدید، لطفا در شیت نقطه سفارش کد و نام کالا کپی شود"]
[{"$f":"IFERROR(INDEX('موجودی خام اولیه با برندمتفاوت'!A:A,MATCH(C:C,'موجودی خام اولیه با برندمتفاوت'!C:C,0)),0)","v":0},null,null,null,null,0,0,0,null,null,null,{"$f":"COUNTIF('نقطه سفارش'!C:C,'یکسان سازی برند'!K:K)","v":0},"کالای جدید، لطفا در شیت نقطه سفارش کد و نام کالا کپی شود"]
[{"$f":"IFERROR(INDEX('موجودی خام اولیه با برندمتفاوت'!A:A,MATCH(C:C,'موجودی خام اولیه با برندمتفاوت'!C:C,0)),0)","v":0},null,null,null,null,0,0,0,null,null,null,{"$f":"COUNTIF('نقطه سفارش'!C:C,'یکسان سازی برند'!K:K)","v":0},"کالای جدید، لطفا در شیت نقطه سفارش کد و نام کالا کپی شود"]
[{"$f":"IFERROR(INDEX('موجودی خام اولیه با برندمتفاوت'!A:A,MATCH(C:C,'موجودی خام اولیه با برندمتفاوت'!C:C,0)),0)","v":0},null,null,null,null,0,0,0,null,null,null,{"$f":"COUNTIF('نقطه سفارش'!C:C,'یکسان سازی برند'!K:K)","v":0},"کالای جدید، لطفا در شیت نقطه سفارش کد و نام کالا کپی شود"]
[{"$f":"IFERROR(INDEX('موجودی خام اولیه با برندمتفاوت'!A:A,MATCH(C:C,'موجودی خام اولیه با برندمتفاوت'!C:C,0)),0)","v":0},null,null,null,null,0,0,0,null,null,null,{"$f":"COUNTIF('نقطه سفارش'!C:C,'یکسان سازی برند'!K:K)","v":0},"کالای جدید، لطفا در شیت نقطه سفارش کد و نام کالا کپی شود"]
[{"$f":"IFERROR(INDEX('موجودی خام اولیه با برندمتفاوت'!A:A,MATCH(C:C,'موجودی خام اولیه با برندمتفاوت'!C:C,0)),0)","v":0},null,null,null,null,0,0,0,null,null,null,{"$f":"COUNTIF('نقطه سفارش'!C:C,'یکسان سازی برند'!K:K)","v":0},"کالای جدید، لطفا در شیت نقطه سفارش کد و نام کالا کپی شود"]
[{"$f":"IFERROR(INDEX('موجودی خام اولیه با برندمتفاوت'!A:A,MATCH(C:C,'موجودی خام اولیه با برندمتفاوت'!C:C,0)),0)","v":0},null,null,null,null,0,0,0,null,null,null,{"$f":"COUNTIF('نقطه سفارش'!C:C,'یکسان سازی برند'!K:K)","v":0},"کالای جدید، لطفا در شیت نقطه سفارش کد و نام کالا کپی شود"]
[{"$f":"IFERROR(INDEX('موجودی خام اولیه با برندمتفاوت'!A:A,MATCH(C:C,'موجودی خام اولیه با برندمتفاوت'!C:C,0)),0)","v":0},null,null,null,null,0,0,0,null,null,null,{"$f":"COUNTIF('نقطه سفارش'!C:C,'یکسان سازی برند'!K:K)","v":0},"کالای جدید، لطفا در شیت نقطه سفارش کد و نام کالا کپی شود"]
[{"$f":"IFERROR(INDEX('موجودی خام اولیه با برندمتفاوت'!A:A,MATCH(C:C,'موجودی خام اولیه با برندمتفاوت'!C:C,0)),0)","v":0},null,null,null,null,0,0,0,null,null,null,{"$f":"COUNTIF('نقطه سفارش'!C:C,'یکسان سازی برند'!K:K)","v":0},"کالای جدید، لطفا در شیت نقطه سفارش کد و نام کالا کپی شود"]
[{"$f":"IFERROR(INDEX('موجودی خام اولیه با برندمتفاوت'!A:A,MATCH(C:C,'موجودی خام اولیه با برندمتفاوت'!C:C,0)),0)","v":0},null,null,null,null,0,0,0,null,null,null,{"$f":"COUNTIF('نقطه سفارش'!C:C,'یکسان سازی برند'!K:K)","v":0},"کالای جدید، لطفا در شیت نقطه سفارش کد و نام کالا کپی شود"]
[{"$f":"IFERROR(INDEX('موجودی خام اولیه با برندمتفاوت'!A:A,MATCH(C:C,'موجودی خام اولیه با برندمتفاوت'!C:C,0)),0)","v":0},null,null,null,null,0,0,0,null,null,null,{"$f":"COUNTIF('نقطه سفارش'!C:C,'یکسان سازی برند'!K:K)","v":0},"کالای جدید، لطفا در شیت نقطه سفارش کد و نام کالا کپی شود"]
[{"$f":"IFERROR(INDEX('موجودی خام اولیه با برندمتفاوت'!A:A,MATCH(C:C,'موجودی خام اولیه با برندمتفاوت'!C:C,0)),0)","v":0},null,null,null,null,0,0,0,null,null,null,{"$f":"COUNTIF('نقطه سفارش'!C:C,'یکسان سازی برند'!K:K)","v":0},"کالای جدید، لطفا در شیت نقطه سفارش کد و نام کالا کپی شود"]
[{"$f":"IFERROR(INDEX('موجودی خام اولیه با برندمتفاوت'!A:A,MATCH(C:C,'موجودی خام اولیه با برندمتفاوت'!C:C,0)),0)","v":0},null,null,null,null,0,0,0,null,null,null,{"$f":"COUNTIF('نقطه سفارش'!C:C,'یکسان سازی برند'!K:K)","v":0},"کالای جدید، لطفا در شیت نقطه سفارش کد و نام کالا کپی شود"]
[{"$f":"IFERROR(INDEX('موجودی خام اولیه با برندمتفاوت'!A:A,MATCH(C:C,'موجودی خام اولیه با برندمتفاوت'!C:C,0)),0)","v":0},null,null,null,null,0,0,0,null,null,null,{"$f":"COUNTIF('نقطه سفارش'!C:C,'یکسان سازی برند'!K:K)","v":0},"کالای جدید، لطفا در شیت نقطه سفارش کد و نام کالا کپی شود"]
[{"$f":"IFERROR(INDEX('موجودی خام اولیه با برندمتفاوت'!A:A,MATCH(C:C,'موجودی خام اولیه با برندمتفاوت'!C:C,0)),0)","v":0},null,null,null,null,0,0,0,null,null,null,{"$f":"COUNTIF('نقطه سفارش'!C:C,'یکسان سازی برند'!K:K)","v":0},"کالای جدید، لطفا در شیت نقطه سفارش کد و نام کالا کپی شود"]
[{"$f":"IFERROR(INDEX('موجودی خام اولیه با برندمتفاوت'!A:A,MATCH(C:C,'موجودی خام اولیه با برندمتفاوت'!C:C,0)),0)","v":0},null,null,null,null,0,0,0,null,null,null,{"$f":"COUNTIF('نقطه سفارش'!C:C,'یکسان سازی برند'!K:K)","v":0},"کالای جدید، لطفا در شیت نقطه سفارش کد و نام کالا کپی شود"]
[{"$f":"IFERROR(INDEX('موجودی خام اولیه با برندمتفاوت'!A:A,MATCH(C:C,'موجودی خام اولیه با برندمتفاوت'!C:C,0)),0)","v":0},null,null,null,null,0,0,0,null,null,null,{"$f":"COUNTIF('نقطه سفارش'!C:C,'یکسان سازی برند'!K:K)","v":0},"کالای جدید، لطفا در شیت نقطه سفارش کد و نام کالا کپی شود"]
[{"$f":"IFERROR(INDEX('موجودی خام اولیه با برندمتفاوت'!A:A,MATCH(C:C,'موجودی خام اولیه با برندمتفاوت'!C:C,0)),0)","v":0},null,null,null,null,0,0,0,null,null,null,{"$f":"COUNTIF('نقطه سفارش'!C:C,'یکسان سازی برند'!K:K)","v":0},"کالای جدید، لطفا در شیت نقطه سفارش کد و نام کالا کپی شود"]
[{"$f":"IFERROR(INDEX('موجودی خام اولیه با برندمتفاوت'!A:A,MATCH(C:C,'موجودی خام اولیه با برندمتفاوت'!C:C,0)),0)","v":0},null,null,null,null,0,0,0,null,null,null,{"$f":"COUNTIF('نقطه سفارش'!C:C,'یکسان سازی برند'!K:K)","v":0},"کالای جدید، لطفا در شیت نقطه سفارش کد و نام کالا کپی شود"]
[{"$f":"IFERROR(INDEX('موجودی خام اولیه با برندمتفاوت'!A:A,MATCH(C:C,'موجودی خام اولیه با برندمتفاوت'!C:C,0)),0)","v":0},null,null,null,null,0,0,0,null,null,null,{"$f":"COUNTIF('نقطه سفارش'!C:C,'یکسان سازی برند'!K:K)","v":0},"کالای جدید، لطفا در شیت نقطه سفارش کد و نام کالا کپی شود"]
[{"$f":"IFERROR(INDEX('موجودی خام اولیه با برندمتفاوت'!A:A,MATCH(C:C,'موجودی خام اولیه با برندمتفاوت'!C:C,0)),0)","v":0},null,null,null,null,0,0,0,null,null,null,{"$f":"COUNTIF('نقطه سفارش'!C:C,'یکسان سازی برند'!K:K)","v":0},"کالای جدید، لطفا در شیت نقطه سفارش کد و نام کالا کپی شود"]
[{"$f":"IFERROR(INDEX('موجودی خام اولیه با برندمتفاوت'!A:A,MATCH(C:C,'موجودی خام اولیه با برندمتفاوت'!C:C,0)),0)","v":0},null,null,null,null,0,0,0,null,null,null,{"$f":"COUNTIF('نقطه سفارش'!C:C,'یکسان سازی برند'!K:K)","v":0},"کالای جدید، لطفا در شیت نقطه سفارش کد و نام کالا کپی شود"]
[{"$f":"IFERROR(INDEX('موجودی خام اولیه با برندمتفاوت'!A:A,MATCH(C:C,'موجودی خام اولیه با برندمتفاوت'!C:C,0)),0)","v":0},null,null,null,null,0,0,0,null,null,null,{"$f":"COUNTIF('نقطه سفارش'!C:C,'یکسان سازی برند'!K:K)","v":0},"کالای جدید، لطفا در شیت نقطه سفارش کد و نام کالا کپی شود"]
[{"$f":"IFERROR(INDEX('موجودی خام اولیه با برندمتفاوت'!A:A,MATCH(C:C,'موجودی خام اولیه با برندمتفاوت'!C:C,0)),0)","v":0},null,null,null,null,0,0,0,null,null,null,{"$f":"COUNTIF('نقطه سفارش'!C:C,'یکسان سازی برند'!K:K)","v":0},"کالای جدید، لطفا در شیت نقطه سفارش کد و نام کالا کپی شود"]
[{"$f":"IFERROR(INDEX('موجودی خام اولیه با برندمتفاوت'!A:A,MATCH(C:C,'موجودی خام اولیه با برندمتفاوت'!C:C,0)),0)","v":0},null,null,null,null,0,0,0,null,null,null,{"$f":"COUNTIF('نقطه سفارش'!C:C,'یکسان سازی برند'!K:K)","v":0},"کالای جدید، لطفا در شیت نقطه سفارش کد و نام کالا کپی شود"]
[{"$f":"IFERROR(INDEX('موجودی خام اولیه با برندمتفاوت'!A:A,MATCH(C:C,'موجودی خام اولیه با برندمتفاوت'!C:C,0)),0)","v":0},null,null,null,null,0,0,0,null,null,null,{"$f":"COUNTIF('نقطه سفارش'!C:C,'یکسان سازی برند'!K:K)","v":0},"کالای جدید، لطفا در شیت نقطه سفارش کد و نام کالا کپی شود"]
[{"$f":"IFERROR(INDEX('موجودی خام اولیه با برندمتفاوت'!A:A,MATCH(C:C,'موجودی خام اولیه با برندمتفاوت'!C:C,0)),0)","v":0},null,null,null,null,0,0,0,null,null,null,{"$f":"COUNTIF('نقطه سفارش'!C:C,'یکسان سازی برند'!K:K)","v":0},"کالای جدید، لطفا در شیت نقطه سفارش کد و نام کالا کپی شود"]
[{"$f":"IFERROR(INDEX('موجودی خام اولیه با برندمتفاوت'!A:A,MATCH(C:C,'موجودی خام اولیه با برندمتفاوت'!C:C,0)),0)","v":0},null,null,null,null,0,0,0,null,null,null,{"$f":"COUNTIF('نقطه سفارش'!C:C,'یکسان سازی برند'!K:K)","v":0},"کالای جدید، لطفا در شیت نقطه سفارش کد و نام کالا کپی شود"]
[{"$f":"IFERROR(INDEX('موجودی خام اولیه با برندمتفاوت'!A:A,MATCH(C:C,'موجودی خام اولیه با برندمتفاوت'!C:C,0)),0)","v":0},null,null,null,null,0,0,0,null,null,null,{"$f":"COUNTIF('نقطه سفارش'!C:C,'یکسان سازی برند'!K:K)","v":0},"کالای جدید، لطفا در شیت نقطه سفارش کد و نام کالا کپی شود"]
[{"$f":"IFERROR(INDEX('موجودی خام اولیه با برندمتفاوت'!A:A,MATCH(C:C,'موجودی خام اولیه با برندمتفاوت'!C:C,0)),0)","v":0},null,null,null,null,0,0,0,null,null,null,{"$f":"COUNTIF('نقطه سفارش'!C:C,'یکسان سازی برند'!K:K)","v":0},"کالای جدید، لطفا در شیت نقطه سفارش کد و نام کالا کپی شود"]
[{"$f":"IFERROR(INDEX('موجودی خام اولیه با برندمتفاوت'!A:A,MATCH(C:C,'موجودی خام اولیه با برندمتفاوت'!C:C,0)),0)","v":0},null,null,null,null,0,0,0,null,null,null,{"$f":"COUNTIF('نقطه سفارش'!C:C,'یکسان سازی برند'!K:K)","v":0},"کالای جدید، لطفا در شیت نقطه سفارش کد و نام کالا کپی شود"]
[{"$f":"IFERROR(INDEX('موجودی خام اولیه با برندمتفاوت'!A:A,MATCH(C:C,'موجودی خام اولیه با برندمتفاوت'!C:C,0)),0)","v":0},null,null,null,null,0,0,0,null,null,null,{"$f":"COUNTIF('نقطه سفارش'!C:C,'یکسان سازی برند'!K:K)","v":0},"کالای جدید، لطفا در شیت نقطه سفارش کد و نام کالا کپی شود"]
[{"$f":"IFERROR(INDEX('موجودی خام اولیه با برندمتفاوت'!A:A,MATCH(C:C,'موجودی خام اولیه با برندمتفاوت'!C:C,0)),0)","v":0},null,null,null,null,0,0,0,null,null,null,{"$f":"COUNTIF('نقطه سفارش'!C:C,'یکسان سازی برند'!K:K)","v":0},"کالای جدید، لطفا در شیت نقطه سفارش کد و نام کالا کپی شود"]
[{"$f":"IFERROR(INDEX('موجودی خام اولیه با برندمتفاوت'!A:A,MATCH(C:C,'موجودی خام اولیه با برندمتفاوت'!C:C,0)),0)","v":0},null,null,null,null,0,0,0,null,null,null,{"$f":"COUNTIF('نقطه سفارش'!C:C,'یکسان سازی برند'!K:K)","v":0},"کالای جدید، لطفا در شیت نقطه سفارش کد و نام کالا کپی شود"]
[{"$f":"IFERROR(INDEX('موجودی خام اولیه با برندمتفاوت'!A:A,MATCH(C:C,'موجودی خام اولیه با برندمتفاوت'!C:C,0)),0)","v":0},null,null,null,null,0,0,0,null,null,null,{"$f":"COUNTIF('نقطه سفارش'!C:C,'یکسان سازی برند'!K:K)","v":0},"کالای جدید، لطفا در شیت نقطه سفارش کد و نام کالا کپی شود"]
[{"$f":"IFERROR(INDEX('موجودی خام اولیه با برندمتفاوت'!A:A,MATCH(C:C,'موجودی خام اولیه با برندمتفاوت'!C:C,0)),0)","v":0},null,null,null,null,0,0,0,null,null,null,{"$f":"COUNTIF('نقطه سفارش'!C:C,'یکسان سازی برند'!K:K)","v":0},"کالای جدید، لطفا در شیت نقطه سفارش کد و نام کالا کپی شود"]
[{"$f":"IFERROR(INDEX('موجودی خام اولیه با برندمتفاوت'!A:A,MATCH(C:C,'موجودی خام اولیه با برندمتفاوت'!C:C,0)),0)","v":0},null,null,null,null,0,0,0,null,null,null,{"$f":"COUNTIF('نقطه سفارش'!C:C,'یکسان سازی برند'!K:K)","v":0},"کالای جدید، لطفا در شیت نقطه سفارش کد و نام کالا کپی شود"]
[{"$f":"IFERROR(INDEX('موجودی خام اولیه با برندمتفاوت'!A:A,MATCH(C:C,'موجودی خام اولیه با برندمتفاوت'!C:C,0)),0)","v":0},null,null,null,null,0,0,0,null,null,null,{"$f":"COUNTIF('نقطه سفارش'!C:C,'یکسان سازی برند'!K:K)","v":0},"کالای جدید، لطفا در شیت نقطه سفارش کد و نام کالا کپی شود"]
[{"$f":"IFERROR(INDEX('موجودی خام اولیه با برندمتفاوت'!A:A,MATCH(C:C,'موجودی خام اولیه با برندمتفاوت'!C:C,0)),0)","v":0},null,null,null,null,0,0,0,null,null,null,{"$f":"COUNTIF('نقطه سفارش'!C:C,'یکسان سازی برند'!K:K)","v":0},"کالای جدید، لطفا در شیت نقطه سفارش کد و نام کالا کپی شود"]
[{"$f":"IFERROR(INDEX('موجودی خام اولیه با برندمتفاوت'!A:A,MATCH(C:C,'موجودی خام اولیه با برندمتفاوت'!C:C,0)),0)","v":0},null,null,null,null,0,0,0,null,null,null,{"$f":"COUNTIF('نقطه سفارش'!C:C,'یکسان سازی برند'!K:K)","v":0},"کالای جدید، لطفا در شیت نقطه سفارش کد و نام کالا کپی شود"]
[{"$f":"IFERROR(INDEX('موجودی خام اولیه با برندمتفاوت'!A:A,MATCH(C:C,'موجودی خام اولیه با برندمتفاوت'!C:C,0)),0)","v":0},null,null,null,null,0,0,0,null,null,null,{"$f":"COUNTIF('نقطه سفارش'!C:C,'یکسان سازی برند'!K:K)","v":0},"کالای جدید، لطفا در شیت نقطه سفارش کد و نام کالا کپی شود"]
[{"$f":"IFERROR(INDEX('موجودی خام اولیه با برندمتفاوت'!A:A,MATCH(C:C,'موجودی خام اولیه با برندمتفاوت'!C:C,0)),0)","v":0},null,null,null,null,0,0,0,null,null,null,{"$f":"COUNTIF('نقطه سفارش'!C:C,'یکسان سازی برند'!K:K)","v":0},"کالای جدید، لطفا در شیت نقطه سفارش کد و نام کالا کپی شود"]
[{"$f":"IFERROR(INDEX('موجودی خام اولیه با برندمتفاوت'!A:A,MATCH(C:C,'موجودی خام اولیه با برندمتفاوت'!C:C,0)),0)","v":0},null,null,null,null,0,0,0,null,null,null,{"$f":"COUNTIF('نقطه سفارش'!C:C,'یکسان سازی برند'!K:K)","v":0},"کالای جدید، لطفا در شیت نقطه سفارش کد و نام کالا کپی شود"]
[{"$f":"IFERROR(INDEX('موجودی خام اولیه با برندمتفاوت'!A:A,MATCH(C:C,'موجودی خام اولیه با برندمتفاوت'!C:C,0)),0)","v":0},null,null,null,null,0,0,0,null,null,null,{"$f":"COUNTIF('نقطه سفارش'!C:C,'یکسان سازی برند'!K:K)","v":0},"کالای جدید، لطفا در شیت نقطه سفارش کد و نام کالا کپی شود"]
[{"$f":"IFERROR(INDEX('موجودی خام اولیه با برندمتفاوت'!A:A,MATCH(C:C,'موجودی خام اولیه با برندمتفاوت'!C:C,0)),0)","v":0},null,null,null,null,0,0,0,null,null,null,{"$f":"COUNTIF('نقطه سفارش'!C:C,'یکسان سازی برند'!K:K)","v":0},"کالای جدید، لطفا در شیت نقطه سفارش کد و نام کالا کپی شود"]
[{"$f":"IFERROR(INDEX('موجودی خام اولیه با برندمتفاوت'!A:A,MATCH(C:C,'موجودی خام اولیه با برندمتفاوت'!C:C,0)),0)","v":0},null,null,null,null,0,0,0,null,null,null,{"$f":"COUNTIF('نقطه سفارش'!C:C,'یکسان سازی برند'!K:K)","v":0},"کالای جدید، لطفا در شیت نقطه سفارش کد و نام کالا کپی شود"]
[{"$f":"IFERROR(INDEX('موجودی خام اولیه با برندمتفاوت'!A:A,MATCH(C:C,'موجودی خام اولیه با برندمتفاوت'!C:C,0)),0)","v":0},null,null,null,null,0,0,0,null,null,null,{"$f":"COUNTIF('نقطه سفارش'!C:C,'یکسان سازی برند'!K:K)","v":0},"کالای جدید، لطفا در شیت نقطه سفارش کد و نام کالا کپی شود"]
[{"$f":"IFERROR(INDEX('موجودی خام اولیه با برندمتفاوت'!A:A,MATCH(C:C,'موجودی خام اولیه با برندمتفاوت'!C:C,0)),0)","v":0},null,null,null,null,0,0,0,null,null,null,{"$f":"COUNTIF('نقطه سفارش'!C:C,'یکسان سازی برند'!K:K)","v":0},"کالای جدید، لطفا در شیت نقطه سفارش کد و نام کالا کپی شود"]
[{"$f":"IFERROR(INDEX('موجودی خام اولیه با برندمتفاوت'!A:A,MATCH(C:C,'موجودی خام اولیه با برندمتفاوت'!C:C,0)),0)","v":0},null,null,null,null,{"$f":"IF(E131=\"\",A131,SUMIF(E:E,E131,A:A))","v":0},{"$f":"IF(E131=\"\",B131,D131)","v":0},{"$f":"IF(E131=\"\",C131,E131)","v":0},null,null,null,{"$f":"COUNTIF('نقطه سفارش'!C:C,'یکسان سازی برند'!K:K)","v":0},"کالای جدید، لطفا در شیت نقطه سفارش کد و نام کالا کپی شود"]
[{"$f":"IFERROR(INDEX('موجودی خام اولیه با برندمتفاوت'!A:A,MATCH(C:C,'موجودی خام اولیه با برندمتفاوت'!C:C,0)),0)","v":0},null,null,null,null,0,0,0,null,null,null,{"$f":"COUNTIF('نقطه سفارش'!C:C,'یکسان سازی برند'!K:K)","v":0},{"$f":"IF(L:L=0,\"کالای جدید، لطفا در شیت نقطه سفارش کد و نام کالا کپی شود\",\"\")","v":"کالای جدید، لطفا در شیت نقطه سفارش کد و نام کالا کپی شود"}]
[{"$f":"IFERROR(INDEX('موجودی خام اولیه با برندمتفاوت'!A:A,MATCH(C:C,'موجودی خام اولیه با برندمتفاوت'!C:C,0)),0)","v":0},null,null,null,null,0,0,0,null,null,null,{"$f":"COUNTIF('نقطه سفارش'!C:C,'یکسان سازی برند'!K:K)","v":0},"کالای جدید، لطفا در شیت نقطه سفارش کد و نام کالا کپی شود"]
[{"$f":"IFERROR(INDEX('موجودی خام اولیه با برندمتفاوت'!A:A,MATCH(C:C,'موجودی خام اولیه با برندمتفاوت'!C:C,0)),0)","v":0},null,null,null,null,0,0,0,null,null,null,{"$f":"COUNTIF('نقطه سفارش'!C:C,'یکسان سازی برند'!K:K)","v":0},"کالای جدید، لطفا در شیت نقطه سفارش کد و نام کالا کپی شود"]
[{"$f":"IFERROR(INDEX('موجودی خام اولیه با برندمتفاوت'!A:A,MATCH(C:C,'موجودی خام اولیه با برندمتفاوت'!C:C,0)),0)","v":0},null,null,null,null,0,0,0,null,null,null,{"$f":"COUNTIF('نقطه سفارش'!C:C,'یکسان سازی برند'!K:K)","v":0},"کالای جدید، لطفا در شیت نقطه سفارش کد و نام کالا کپی شود"]
[{"$f":"IFERROR(INDEX('موجودی خام اولیه با برندمتفاوت'!A:A,MATCH(C:C,'موجودی خام اولیه با برندمتفاوت'!C:C,0)),0)","v":0},null,null,null,null,0,0,0,null,null,null,{"$f":"COUNTIF('نقطه سفارش'!C:C,'یکسان سازی برند'!K:K)","v":0},"کالای جدید، لطفا در شیت نقطه سفارش کد و نام کالا کپی شود"]
[{"$f":"IFERROR(INDEX('موجودی خام اولیه با برندمتفاوت'!A:A,MATCH(C:C,'موجودی خام اولیه با برندمتفاوت'!C:C,0)),0)","v":0},null,null,null,null,0,0,0,null,null,null,{"$f":"COUNTIF('نقطه سفارش'!C:C,'یکسان سازی برند'!K:K)","v":0},"کالای جدید، لطفا در شیت نقطه سفارش کد و نام کالا کپی شود"]
[{"$f":"IFERROR(INDEX('موجودی خام اولیه با برندمتفاوت'!A:A,MATCH(C:C,'موجودی خام اولیه با برندمتفاوت'!C:C,0)),0)","v":0},null,null,null,null,0,0,0,null,null,null,{"$f":"COUNTIF('نقطه سفارش'!C:C,'یکسان سازی برند'!K:K)","v":0},"کالای جدید، لطفا در شیت نقطه سفارش کد و نام کالا کپی شود"]
[{"$f":"IFERROR(INDEX('موجودی خام اولیه با برندمتفاوت'!A:A,MATCH(C:C,'موجودی خام اولیه با برندمتفاوت'!C:C,0)),0)","v":0},null,null,null,null,0,0,0,null,null,null,{"$f":"COUNTIF('نقطه سفارش'!C:C,'یکسان سازی برند'!K:K)","v":0},"کالای جدید، لطفا در شیت نقطه سفارش کد و نام کالا کپی شود"]
[{"$f":"IFERROR(INDEX('موجودی خام اولیه با برندمتفاوت'!A:A,MATCH(C:C,'موجودی خام اولیه با برندمتفاوت'!C:C,0)),0)","v":0},null,null,null,null,0,0,0,null,null,null,{"$f":"COUNTIF('نقطه سفارش'!C:C,'یکسان سازی برند'!K:K)","v":0},"کالای جدید، لطفا در شیت نقطه سفارش کد و نام کالا کپی شود"]
[{"$f":"IFERROR(INDEX('موجودی خام اولیه با برندمتفاوت'!A:A,MATCH(C:C,'موجودی خام اولیه با برندمتفاوت'!C:C,0)),0)","v":0},null,null,null,null,0,0,0,null,null,null,{"$f":"COUNTIF('نقطه سفارش'!C:C,'یکسان سازی برند'!K:K)","v":0},"کالای جدید، لطفا در شیت نقطه سفارش کد و نام کالا کپی شود"]
[{"$f":"IFERROR(INDEX('موجودی خام اولیه با برندمتفاوت'!A:A,MATCH(C:C,'موجودی خام اولیه با برندمتفاوت'!C:C,0)),0)","v":0},null,null,null,null,0,0,0,null,null,null,{"$f":"COUNTIF('نقطه سفارش'!C:C,'یکسان سازی برند'!K:K)","v":0},"کالای جدید، لطفا در شیت نقطه سفارش کد و نام کالا کپی شود"]
[{"$f":"IFERROR(INDEX('موجودی خام اولیه با برندمتفاوت'!A:A,MATCH(C:C,'موجودی خام اولیه با برندمتفاوت'!C:C,0)),0)","v":0},null,null,null,null,0,0,0,null,null,null,{"$f":"COUNTIF('نقطه سفارش'!C:C,'یکسان سازی برند'!K:K)","v":0},"کالای جدید، لطفا در شیت نقطه سفارش کد و نام کالا کپی شود"]
[{"$f":"IFERROR(INDEX('موجودی خام اولیه با برندمتفاوت'!A:A,MATCH(C:C,'موجودی خام اولیه با برندمتفاوت'!C:C,0)),0)","v":0},null,null,null,null,0,0,0,null,null,null,{"$f":"COUNTIF('نقطه سفارش'!C:C,'یکسان سازی برند'!K:K)","v":0},"کالای جدید، لطفا در شیت نقطه سفارش کد و نام کالا کپی شود"]
[{"$f":"IFERROR(INDEX('موجودی خام اولیه با برندمتفاوت'!A:A,MATCH(C:C,'موجودی خام اولیه با برندمتفاوت'!C:C,0)),0)","v":0},null,null,null,null,0,0,0,null,null,null,{"$f":"COUNTIF('نقطه سفارش'!C:C,'یکسان سازی برند'!K:K)","v":0},"کالای جدید، لطفا در شیت نقطه سفارش کد و نام کالا کپی شود"]
[{"$f":"IFERROR(INDEX('موجودی خام اولیه با برندمتفاوت'!A:A,MATCH(C:C,'موجودی خام اولیه با برندمتفاوت'!C:C,0)),0)","v":0},null,null,null,null,0,0,0,null,null,null,{"$f":"COUNTIF('نقطه سفارش'!C:C,'یکسان سازی برند'!K:K)","v":0},"کالای جدید، لطفا در شیت نقطه سفارش کد و نام کالا کپی شود"]
[{"$f":"IFERROR(INDEX('موجودی خام اولیه با برندمتفاوت'!A:A,MATCH(C:C,'موجودی خام اولیه با برندمتفاوت'!C:C,0)),0)","v":0},null,null,null,null,0,0,0,null,null,null,{"$f":"COUNTIF('نقطه سفارش'!C:C,'یکسان سازی برند'!K:K)","v":0},"کالای جدید، لطفا در شیت نقطه سفارش کد و نام کالا کپی شود"]
[{"$f":"IFERROR(INDEX('موجودی خام اولیه با برندمتفاوت'!A:A,MATCH(C:C,'موجودی خام اولیه با برندمتفاوت'!C:C,0)),0)","v":0},null,null,null,null,0,0,0,null,null,null,{"$f":"COUNTIF('نقطه سفارش'!C:C,'یکسان سازی برند'!K:K)","v":0},"کالای جدید، لطفا در شیت نقطه سفارش کد و نام کالا کپی شود"]
[{"$f":"IFERROR(INDEX('موجودی خام اولیه با برندمتفاوت'!A:A,MATCH(C:C,'موجودی خام اولیه با برندمتفاوت'!C:C,0)),0)","v":0},null,null,null,null,0,0,0,null,null,null,{"$f":"COUNTIF('نقطه سفارش'!C:C,'یکسان سازی برند'!K:K)","v":0},"کالای جدید، لطفا در شیت نقطه سفارش کد و نام کالا کپی شود"]
[{"$f":"IFERROR(INDEX('موجودی خام اولیه با برندمتفاوت'!A:A,MATCH(C:C,'موجودی خام اولیه با برندمتفاوت'!C:C,0)),0)","v":0},null,null,null,null,0,0,0,null,null,null,{"$f":"COUNTIF('نقطه سفارش'!C:C,'یکسان سازی برند'!K:K)","v":0},"کالای جدید، لطفا در شیت نقطه سفارش کد و نام کالا کپی شود"]
[{"$f":"IFERROR(INDEX('موجودی خام اولیه با برندمتفاوت'!A:A,MATCH(C:C,'موجودی خام اولیه با برندمتفاوت'!C:C,0)),0)","v":0},null,null,null,null,0,0,0,null,null,null,{"$f":"COUNTIF('نقطه سفارش'!C:C,'یکسان سازی برند'!K:K)","v":0},"کالای جدید، لطفا در شیت نقطه سفارش کد و نام کالا کپی شود"]
[{"$f":"IFERROR(INDEX('موجودی خام اولیه با برندمتفاوت'!A:A,MATCH(C:C,'موجودی خام اولیه با برندمتفاوت'!C:C,0)),0)","v":0},null,null,null,null,0,0,0,null,null,null,{"$f":"COUNTIF('نقطه سفارش'!C:C,'یکسان سازی برند'!K:K)","v":0},"کالای جدید، لطفا در شیت نقطه سفارش کد و نام کالا کپی شود"]
[{"$f":"IFERROR(INDEX('موجودی خام اولیه با برندمتفاوت'!A:A,MATCH(C:C,'موجودی خام اولیه با برندمتفاوت'!C:C,0)),0)","v":0},null,null,null,null,0,0,0,null,null,null,{"$f":"COUNTIF('نقطه سفارش'!C:C,'یکسان سازی برند'!K:K)","v":0},"کالای جدید، لطفا در شیت نقطه سفارش کد و نام کالا کپی شود"]
[{"$f":"IFERROR(INDEX('موجودی خام اولیه با برندمتفاوت'!A:A,MATCH(C:C,'موجودی خام اولیه با برندمتفاوت'!C:C,0)),0)","v":0},null,null,null,null,0,0,0,null,null,null,{"$f":"COUNTIF('نقطه سفارش'!C:C,'یکسان سازی برند'!K:K)","v":0},"کالای جدید، لطفا در شیت نقطه سفارش کد و نام کالا کپی شود"]
[{"$f":"IFERROR(INDEX('موجودی خام اولیه با برندمتفاوت'!A:A,MATCH(C:C,'موجودی خام اولیه با برندمتفاوت'!C:C,0)),0)","v":0},null,null,null,null,0,0,0,null,null,null,{"$f":"COUNTIF('نقطه سفارش'!C:C,'یکسان سازی برند'!K:K)","v":0},"کالای جدید، لطفا در شیت نقطه سفارش کد و نام کالا کپی شود"]
[{"$f":"IFERROR(INDEX('موجودی خام اولیه با برندمتفاوت'!A:A,MATCH(C:C,'موجودی خام اولیه با برندمتفاوت'!C:C,0)),0)","v":0},null,null,null,null,0,0,0,null,null,null,{"$f":"COUNTIF('نقطه سفارش'!C:C,'یکسان سازی برند'!K:K)","v":0},"کالای جدید، لطفا در شیت نقطه سفارش کد و نام کالا کپی شود"]
[{"$f":"IFERROR(INDEX('موجودی خام اولیه با برندمتفاوت'!A:A,MATCH(C:C,'موجودی خام اولیه با برندمتفاوت'!C:C,0)),0)","v":0},null,null,null,null,0,0,0,null,null,null,{"$f":"COUNTIF('نقطه سفارش'!C:C,'یکسان سازی برند'!K:K)","v":0},"کالای جدید، لطفا در شیت نقطه سفارش کد و نام کالا کپی شود"]
[{"$f":"IFERROR(INDEX('موجودی خام اولیه با برندمتفاوت'!A:A,MATCH(C:C,'موجودی خام اولیه با برندمتفاوت'!C:C,0)),0)","v":0},null,null,null,null,0,0,0,null,null,null,{"$f":"COUNTIF('نقطه سفارش'!C:C,'یکسان سازی برند'!K:K)","v":0},"کالای جدید، لطفا در شیت نقطه سفارش کد و نام کالا کپی شود"]
[{"$f":"IFERROR(INDEX('موجودی خام اولیه با برندمتفاوت'!A:A,MATCH(C:C,'موجودی خام اولیه با برندمتفاوت'!C:C,0)),0)","v":0},null,null,null,null,0,0,0,null,null,null,{"$f":"COUNTIF('نقطه سفارش'!C:C,'یکسان سازی برند'!K:K)","v":0},"کالای جدید، لطفا در شیت نقطه سفارش کد و نام کالا کپی شود"]
[{"$f":"IFERROR(INDEX('موجودی خام اولیه با برندمتفاوت'!A:A,MATCH(C:C,'موجودی خام اولیه با برندمتفاوت'!C:C,0)),0)","v":0},null,null,null,null,0,0,0,null,null,null,{"$f":"COUNTIF('نقطه سفارش'!C:C,'یکسان سازی برند'!K:K)","v":0},"کالای جدید، لطفا در شیت نقطه سفارش کد و نام کالا کپی شود"]
[{"$f":"IFERROR(INDEX('موجودی خام اولیه با برندمتفاوت'!A:A,MATCH(C:C,'موجودی خام اولیه با برندمتفاوت'!C:C,0)),0)","v":0},null,null,null,null,0,0,0,null,null,null,{"$f":"COUNTIF('نقطه سفارش'!C:C,'یکسان سازی برند'!K:K)","v":0},"کالای جدید، لطفا در شیت نقطه سفارش کد و نام کالا کپی شود"]
[{"$f":"IFERROR(INDEX('موجودی خام اولیه با برندمتفاوت'!A:A,MATCH(C:C,'موجودی خام اولیه با برندمتفاوت'!C:C,0)),0)","v":0},null,null,null,null,0,0,0,null,null,null,{"$f":"COUNTIF('نقطه سفارش'!C:C,'یکسان سازی برند'!K:K)","v":0},"کالای جدید، لطفا در شیت نقطه سفارش کد و نام کالا کپی شود"]
[{"$f":"IFERROR(INDEX('موجودی خام اولیه با برندمتفاوت'!A:A,MATCH(C:C,'موجودی خام اولیه با برندمتفاوت'!C:C,0)),0)","v":0},null,null,null,null,0,0,0,null,null,null,{"$f":"COUNTIF('نقطه سفارش'!C:C,'یکسان سازی برند'!K:K)","v":0},"کالای جدید، لطفا در شیت نقطه سفارش کد و نام کالا کپی شود"]
[{"$f":"IFERROR(INDEX('موجودی خام اولیه با برندمتفاوت'!A:A,MATCH(C:C,'موجودی خام اولیه با برندمتفاوت'!C:C,0)),0)","v":0},null,null,null,null,0,0,0,null,null,null,{"$f":"COUNTIF('نقطه سفارش'!C:C,'یکسان سازی برند'!K:K)","v":0},"کالای جدید، لطفا در شیت نقطه سفارش کد و نام کالا کپی شود"]
[{"$f":"IFERROR(INDEX('موجودی خام اولیه با برندمتفاوت'!A:A,MATCH(C:C,'موجودی خام اولیه با برندمتفاوت'!C:C,0)),0)","v":0},null,null,null,null,0,0,0,null,null,null,{"$f":"COUNTIF('نقطه سفارش'!C:C,'یکسان سازی برند'!K:K)","v":0},"کالای جدید، لطفا در شیت نقطه سفارش کد و نام کالا کپی شود"]
[{"$f":"IFERROR(INDEX('موجودی خام اولیه با برندمتفاوت'!A:A,MATCH(C:C,'موجودی خام اولیه با برندمتفاوت'!C:C,0)),0)","v":0},null,null,null,null,0,0,0,null,null,null,{"$f":"COUNTIF('نقطه سفارش'!C:C,'یکسان سازی برند'!K:K)","v":0},"کالای جدید، لطفا در شیت نقطه سفارش کد و نام کالا کپی شود"]
[{"$f":"IFERROR(INDEX('موجودی خام اولیه با برندمتفاوت'!A:A,MATCH(C:C,'موجودی خام اولیه با برندمتفاوت'!C:C,0)),0)","v":0},null,null,null,null,0,0,0,null,null,null,{"$f":"COUNTIF('نقطه سفارش'!C:C,'یکسان سازی برند'!K:K)","v":0},"کالای جدید، لطفا در شیت نقطه سفارش کد و نام کالا کپی شود"]
[{"$f":"IFERROR(INDEX('موجودی خام اولیه با برندمتفاوت'!A:A,MATCH(C:C,'موجودی خام اولیه با برندمتفاوت'!C:C,0)),0)","v":0},null,null,null,null,0,0,0,null,null,null,{"$f":"COUNTIF('نقطه سفارش'!C:C,'یکسان سازی برند'!K:K)","v":0},"کالای جدید، لطفا در شیت نقطه سفارش کد و نام کالا کپی شود"]
[{"$f":"IFERROR(INDEX('موجودی خام اولیه با برندمتفاوت'!A:A,MATCH(C:C,'موجودی خام اولیه با برندمتفاوت'!C:C,0)),0)","v":0},null,null,null,null,0,0,0,null,null,null,{"$f":"COUNTIF('نقطه سفارش'!C:C,'یکسان سازی برند'!K:K)","v":0},"کالای جدید، لطفا در شیت نقطه سفارش کد و نام کالا کپی شود"]
[{"$f":"IFERROR(INDEX('موجودی خام اولیه با برندمتفاوت'!A:A,MATCH(C:C,'موجودی خام اولیه با برندمتفاوت'!C:C,0)),0)","v":0},null,null,null,null,0,0,0,null,null,null,{"$f":"COUNTIF('نقطه سفارش'!C:C,'یکسان سازی برند'!K:K)","v":0},"کالای جدید، لطفا در شیت نقطه سفارش کد و نام کالا کپی شود"]
[{"$f":"IFERROR(INDEX('موجودی خام اولیه با برندمتفاوت'!A:A,MATCH(C:C,'موجودی خام اولیه با برندمتفاوت'!C:C,0)),0)","v":0},null,null,null,null,0,0,0,null,null,null,{"$f":"COUNTIF('نقطه سفارش'!C:C,'یکسان سازی برند'!K:K)","v":0},"کالای جدید، لطفا در شیت نقطه سفارش کد و نام کالا کپی شود"]
[{"$f":"IFERROR(INDEX('موجودی خام اولیه با برندمتفاوت'!A:A,MATCH(C:C,'موجودی خام اولیه با برندمتفاوت'!C:C,0)),0)","v":0},null,null,null,null,0,0,0,null,null,null,{"$f":"COUNTIF('نقطه سفارش'!C:C,'یکسان سازی برند'!K:K)","v":0},"کالای جدید، لطفا در شیت نقطه سفارش کد و نام کالا کپی شود"]
[{"$f":"IFERROR(INDEX('موجودی خام اولیه با برندمتفاوت'!A:A,MATCH(C:C,'موجودی خام اولیه با برندمتفاوت'!C:C,0)),0)","v":0},null,null,null,null,0,0,0,null,null,null,{"$f":"COUNTIF('نقطه سفارش'!C:C,'یکسان سازی برند'!K:K)","v":0},"کالای جدید، لطفا در شیت نقطه سفارش کد و نام کالا کپی شود"]
[{"$f":"IFERROR(INDEX('موجودی خام اولیه با برندمتفاوت'!A:A,MATCH(C:C,'موجودی خام اولیه با برندمتفاوت'!C:C,0)),0)","v":0},null,null,null,null,0,0,0,null,null,null,{"$f":"COUNTIF('نقطه سفارش'!C:C,'یکسان سازی برند'!K:K)","v":0},"کالای جدید، لطفا در شیت نقطه سفارش کد و نام کالا کپی شود"]
[{"$f":"IFERROR(INDEX('موجودی خام اولیه با برندمتفاوت'!A:A,MATCH(C:C,'موجودی خام اولیه با برندمتفاوت'!C:C,0)),0)","v":0},null,null,null,null,0,0,0,null,null,null,{"$f":"COUNTIF('نقطه سفارش'!C:C,'یکسان سازی برند'!K:K)","v":0},"کالای جدید، لطفا در شیت نقطه سفارش کد و نام کالا کپی شود"]
[{"$f":"IFERROR(INDEX('موجودی خام اولیه با برندمتفاوت'!A:A,MATCH(C:C,'موجودی خام اولیه با برندمتفاوت'!C:C,0)),0)","v":0},null,null,null,null,0,0,0,null,null,null,{"$f":"COUNTIF('نقطه سفارش'!C:C,'یکسان سازی برند'!K:K)","v":0},"کالای جدید، لطفا در شیت نقطه سفارش کد و نام کالا کپی شود"]
[{"$f":"IFERROR(INDEX('موجودی خام اولیه با برندمتفاوت'!A:A,MATCH(C:C,'موجودی خام اولیه با برندمتفاوت'!C:C,0)),0)","v":0},null,null,null,null,0,0,0,null,null,null,{"$f":"COUNTIF('نقطه سفارش'!C:C,'یکسان سازی برند'!K:K)","v":0},"کالای جدید، لطفا در شیت نقطه سفارش کد و نام کالا کپی شود"]
[{"$f":"IFERROR(INDEX('موجودی خام اولیه با برندمتفاوت'!A:A,MATCH(C:C,'موجودی خام اولیه با برندمتفاوت'!C:C,0)),0)","v":0},null,null,null,null,0,0,0,null,null,null,{"$f":"COUNTIF('نقطه سفارش'!C:C,'یکسان سازی برند'!K:K)","v":0},"کالای جدید، لطفا در شیت نقطه سفارش کد و نام کالا کپی شود"]
[{"$f":"IFERROR(INDEX('موجودی خام اولیه با برندمتفاوت'!A:A,MATCH(C:C,'موجودی خام اولیه با برندمتفاوت'!C:C,0)),0)","v":0},null,null,null,null,0,0,0,null,null,null,{"$f":"COUNTIF('نقطه سفارش'!C:C,'یکسان سازی برند'!K:K)","v":0},"کالای جدید، لطفا در شیت نقطه سفارش کد و نام کالا کپی شود"]
[{"$f":"IFERROR(INDEX('موجودی خام اولیه با برندمتفاوت'!A:A,MATCH(C:C,'موجودی خام اولیه با برندمتفاوت'!C:C,0)),0)","v":0},null,null,null,null,0,0,0,null,null,null,{"$f":"COUNTIF('نقطه سفارش'!C:C,'یکسان سازی برند'!K:K)","v":0},"کالای جدید، لطفا در شیت نقطه سفارش کد و نام کالا کپی شود"]
[{"$f":"IFERROR(INDEX('موجودی خام اولیه با برندمتفاوت'!A:A,MATCH(C:C,'موجودی خام اولیه با برندمتفاوت'!C:C,0)),0)","v":0},null,null,null,null,0,0,0,null,null,null,{"$f":"COUNTIF('نقطه سفارش'!C:C,'یکسان سازی برند'!K:K)","v":0},"کالای جدید، لطفا در شیت نقطه سفارش کد و نام کالا کپی شود"]
[{"$f":"IFERROR(INDEX('موجودی خام اولیه با برندمتفاوت'!A:A,MATCH(C:C,'موجودی خام اولیه با برندمتفاوت'!C:C,0)),0)","v":0},null,null,null,null,0,0,0,null,null,null,{"$f":"COUNTIF('نقطه سفارش'!C:C,'یکسان سازی برند'!K:K)","v":0},"کالای جدید، لطفا در شیت نقطه سفارش کد و نام کالا کپی شود"]
[{"$f":"IFERROR(INDEX('موجودی خام اولیه با برندمتفاوت'!A:A,MATCH(C:C,'موجودی خام اولیه با برندمتفاوت'!C:C,0)),0)","v":0},null,null,null,null,0,0,0,null,null,null,{"$f":"COUNTIF('نقطه سفارش'!C:C,'یکسان سازی برند'!K:K)","v":0},"کالای جدید، لطفا در شیت نقطه سفارش کد و نام کالا کپی شود"]
[{"$f":"IFERROR(INDEX('موجودی خام اولیه با برندمتفاوت'!A:A,MATCH(C:C,'موجودی خام اولیه با برندمتفاوت'!C:C,0)),0)","v":0},null,null,null,null,0,0,0,null,null,null,{"$f":"COUNTIF('نقطه سفارش'!C:C,'یکسان سازی برند'!K:K)","v":0},"کالای جدید، لطفا در شیت نقطه سفارش کد و نام کالا کپی شود"]
[{"$f":"IFERROR(INDEX('موجودی خام اولیه با برندمتفاوت'!A:A,MATCH(C:C,'موجودی خام اولیه با برندمتفاوت'!C:C,0)),0)","v":0},null,null,null,null,0,0,0,null,null,null,{"$f":"COUNTIF('نقطه سفارش'!C:C,'یکسان سازی برند'!K:K)","v":0},"کالای جدید، لطفا در شیت نقطه سفارش کد و نام کالا کپی شود"]
[{"$f":"IFERROR(INDEX('موجودی خام اولیه با برندمتفاوت'!A:A,MATCH(C:C,'موجودی خام اولیه با برندمتفاوت'!C:C,0)),0)","v":0},null,null,null,null,0,0,0,null,null,null,{"$f":"COUNTIF('نقطه سفارش'!C:C,'یکسان سازی برند'!K:K)","v":0},"کالای جدید، لطفا در شیت نقطه سفارش کد و نام کالا کپی شود"]
[{"$f":"IFERROR(INDEX('موجودی خام اولیه با برندمتفاوت'!A:A,MATCH(C:C,'موجودی خام اولیه با برندمتفاوت'!C:C,0)),0)","v":0},null,null,null,null,0,0,0,null,null,null,{"$f":"COUNTIF('نقطه سفارش'!C:C,'یکسان سازی برند'!K:K)","v":0},"کالای جدید، لطفا در شیت نقطه سفارش کد و نام کالا کپی شود"]
[{"$f":"IFERROR(INDEX('موجودی خام اولیه با برندمتفاوت'!A:A,MATCH(C:C,'موجودی خام اولیه با برندمتفاوت'!C:C,0)),0)","v":0},null,null,null,null,0,0,0,null,null,null,{"$f":"COUNTIF('نقطه سفارش'!C:C,'یکسان سازی برند'!K:K)","v":0},"کالای جدید، لطفا در شیت نقطه سفارش کد و نام کالا کپی شود"]
[{"$f":"IFERROR(INDEX('موجودی خام اولیه با برندمتفاوت'!A:A,MATCH(C:C,'موجودی خام اولیه با برندمتفاوت'!C:C,0)),0)","v":0},null,null,null,null,0,0,0,null,null,null,{"$f":"COUNTIF('نقطه سفارش'!C:C,'یکسان سازی برند'!K:K)","v":0},"کالای جدید، لطفا در شیت نقطه سفارش کد و نام کالا کپی شود"]
[{"$f":"IFERROR(INDEX('موجودی خام اولیه با برندمتفاوت'!A:A,MATCH(C:C,'موجودی خام اولیه با برندمتفاوت'!C:C,0)),0)","v":0},null,null,null,null,0,0,0,null,null,null,{"$f":"COUNTIF('نقطه سفارش'!C:C,'یکسان سازی برند'!K:K)","v":0},"کالای جدید، لطفا در شیت نقطه سفارش کد و نام کالا کپی شود"]
[{"$f":"IFERROR(INDEX('موجودی خام اولیه با برندمتفاوت'!A:A,MATCH(C:C,'موجودی خام اولیه با برندمتفاوت'!C:C,0)),0)","v":0},null,null,null,null,0,0,0,null,null,null,{"$f":"COUNTIF('نقطه سفارش'!C:C,'یکسان سازی برند'!K:K)","v":0},"کالای جدید، لطفا در شیت نقطه سفارش کد و نام کالا کپی شود"]
[{"$f":"IFERROR(INDEX('موجودی خام اولیه با برندمتفاوت'!A:A,MATCH(C:C,'موجودی خام اولیه با برندمتفاوت'!C:C,0)),0)","v":0},null,null,null,null,0,0,0,null,null,null,{"$f":"COUNTIF('نقطه سفارش'!C:C,'یکسان سازی برند'!K:K)","v":0},"کالای جدید، لطفا در شیت نقطه سفارش کد و نام کالا کپی شود"]
[{"$f":"IFERROR(INDEX('موجودی خام اولیه با برندمتفاوت'!A:A,MATCH(C:C,'موجودی خام اولیه با برندمتفاوت'!C:C,0)),0)","v":0},null,null,null,null,0,0,0,null,null,null,{"$f":"COUNTIF('نقطه سفارش'!C:C,'یکسان سازی برند'!K:K)","v":0},"کالای جدید، لطفا در شیت نقطه سفارش کد و نام کالا کپی شود"]
[{"$f":"IFERROR(INDEX('موجودی خام اولیه با برندمتفاوت'!A:A,MATCH(C:C,'موجودی خام اولیه با برندمتفاوت'!C:C,0)),0)","v":0},null,null,null,null,0,0,0,null,null,null,{"$f":"COUNTIF('نقطه سفارش'!C:C,'یکسان سازی برند'!K:K)","v":0},"کالای جدید، لطفا در شیت نقطه سفارش کد و نام کالا کپی شود"]
[{"$f":"IFERROR(INDEX('موجودی خام اولیه با برندمتفاوت'!A:A,MATCH(C:C,'موجودی خام اولیه با برندمتفاوت'!C:C,0)),0)","v":0},null,null,null,null,{"$f":"IF(E195=\"\",A195,SUMIF(E:E,E195,A:A))","v":0},{"$f":"IF(E195=\"\",B195,D195)","v":0},{"$f":"IF(E195=\"\",C195,E195)","v":0},null,null,null,{"$f":"COUNTIF('نقطه سفارش'!C:C,'یکسان سازی برند'!K:K)","v":0},"کالای جدید، لطفا در شیت نقطه سفارش کد و نام کالا کپی شود"]
[{"$f":"IFERROR(INDEX('موجودی خام اولیه با برندمتفاوت'!A:A,MATCH(C:C,'موجودی خام اولیه با برندمتفاوت'!C:C,0)),0)","v":0},null,null,null,null,0,0,0,null,null,null,{"$f":"COUNTIF('نقطه سفارش'!C:C,'یکسان سازی برند'!K:K)","v":0},{"$f":"IF(L:L=0,\"کالای جدید، لطفا در شیت نقطه سفارش کد و نام کالا کپی شود\",\"\")","v":"کالای جدید، لطفا در شیت نقطه سفارش کد و نام کالا کپی شود"}]
[{"$f":"IFERROR(INDEX('موجودی خام اولیه با برندمتفاوت'!A:A,MATCH(C:C,'موجودی خام اولیه با برندمتفاوت'!C:C,0)),0)","v":0},null,null,null,null,0,0,0,null,null,null,{"$f":"COUNTIF('نقطه سفارش'!C:C,'یکسان سازی برند'!K:K)","v":0},"کالای جدید، لطفا در شیت نقطه سفارش کد و نام کالا کپی شود"]
[{"$f":"IFERROR(INDEX('موجودی خام اولیه با برندمتفاوت'!A:A,MATCH(C:C,'موجودی خام اولیه با برندمتفاوت'!C:C,0)),0)","v":0},null,null,null,null,0,0,0,null,null,null,{"$f":"COUNTIF('نقطه سفارش'!C:C,'یکسان سازی برند'!K:K)","v":0},"کالای جدید، لطفا در شیت نقطه سفارش کد و نام کالا کپی شود"]
[{"$f":"IFERROR(INDEX('موجودی خام اولیه با برندمتفاوت'!A:A,MATCH(C:C,'موجودی خام اولیه با برندمتفاوت'!C:C,0)),0)","v":0},null,null,null,null,0,0,0,null,null,null,{"$f":"COUNTIF('نقطه سفارش'!C:C,'یکسان سازی برند'!K:K)","v":0},"کالای جدید، لطفا در شیت نقطه سفارش کد و نام کالا کپی شود"]
[{"$f":"IFERROR(INDEX('موجودی خام اولیه با برندمتفاوت'!A:A,MATCH(C:C,'موجودی خام اولیه با برندمتفاوت'!C:C,0)),0)","v":0},null,null,null,null,0,0,0,null,null,null,{"$f":"COUNTIF('نقطه سفارش'!C:C,'یکسان سازی برند'!K:K)","v":0},"کالای جدید، لطفا در شیت نقطه سفارش کد و نام کالا کپی شود"]
[{"$f":"IFERROR(INDEX('موجودی خام اولیه با برندمتفاوت'!A:A,MATCH(C:C,'موجودی خام اولیه با برندمتفاوت'!C:C,0)),0)","v":0},null,null,null,null,0,0,0,null,null,null,{"$f":"COUNTIF('نقطه سفارش'!C:C,'یکسان سازی برند'!K:K)","v":0},"کالای جدید، لطفا در شیت نقطه سفارش کد و نام کالا کپی شود"]
[{"$f":"IFERROR(INDEX('موجودی خام اولیه با برندمتفاوت'!A:A,MATCH(C:C,'موجودی خام اولیه با برندمتفاوت'!C:C,0)),0)","v":0},null,null,null,null,0,0,0,null,null,null,{"$f":"COUNTIF('نقطه سفارش'!C:C,'یکسان سازی برند'!K:K)","v":0},"کالای جدید، لطفا در شیت نقطه سفارش کد و نام کالا کپی شود"]
[{"$f":"IFERROR(INDEX('موجودی خام اولیه با برندمتفاوت'!A:A,MATCH(C:C,'موجودی خام اولیه با برندمتفاوت'!C:C,0)),0)","v":0},null,null,null,null,0,0,0,null,null,null,{"$f":"COUNTIF('نقطه سفارش'!C:C,'یکسان سازی برند'!K:K)","v":0},"کالای جدید، لطفا در شیت نقطه سفارش کد و نام کالا کپی شود"]
[{"$f":"IFERROR(INDEX('موجودی خام اولیه با برندمتفاوت'!A:A,MATCH(C:C,'موجودی خام اولیه با برندمتفاوت'!C:C,0)),0)","v":0},null,null,null,null,0,0,0,null,null,null,{"$f":"COUNTIF('نقطه سفارش'!C:C,'یکسان سازی برند'!K:K)","v":0},"کالای جدید، لطفا در شیت نقطه سفارش کد و نام کالا کپی شود"]
[{"$f":"IFERROR(INDEX('موجودی خام اولیه با برندمتفاوت'!A:A,MATCH(C:C,'موجودی خام اولیه با برندمتفاوت'!C:C,0)),0)","v":0},null,null,null,null,0,0,0,null,null,null,{"$f":"COUNTIF('نقطه سفارش'!C:C,'یکسان سازی برند'!K:K)","v":0},"کالای جدید، لطفا در شیت نقطه سفارش کد و نام کالا کپی شود"]
[{"$f":"IFERROR(INDEX('موجودی خام اولیه با برندمتفاوت'!A:A,MATCH(C:C,'موجودی خام اولیه با برندمتفاوت'!C:C,0)),0)","v":0},null,null,null,null,0,0,0,null,null,null,{"$f":"COUNTIF('نقطه سفارش'!C:C,'یکسان سازی برند'!K:K)","v":0},"کالای جدید، لطفا در شیت نقطه سفارش کد و نام کالا کپی شود"]
[{"$f":"IFERROR(INDEX('موجودی خام اولیه با برندمتفاوت'!A:A,MATCH(C:C,'موجودی خام اولیه با برندمتفاوت'!C:C,0)),0)","v":0},null,null,null,null,0,0,0,null,null,null,{"$f":"COUNTIF('نقطه سفارش'!C:C,'یکسان سازی برند'!K:K)","v":0},"کالای جدید، لطفا در شیت نقطه سفارش کد و نام کالا کپی شود"]
[{"$f":"IFERROR(INDEX('موجودی خام اولیه با برندمتفاوت'!A:A,MATCH(C:C,'موجودی خام اولیه با برندمتفاوت'!C:C,0)),0)","v":0},null,null,null,null,0,0,0,null,null,null,{"$f":"COUNTIF('نقطه سفارش'!C:C,'یکسان سازی برند'!K:K)","v":0},"کالای جدید، لطفا در شیت نقطه سفارش کد و نام کالا کپی شود"]
[{"$f":"IFERROR(INDEX('موجودی خام اولیه با برندمتفاوت'!A:A,MATCH(C:C,'موجودی خام اولیه با برندمتفاوت'!C:C,0)),0)","v":0},null,null,null,null,0,0,0,null,null,null,{"$f":"COUNTIF('نقطه سفارش'!C:C,'یکسان سازی برند'!K:K)","v":0},"کالای جدید، لطفا در شیت نقطه سفارش کد و نام کالا کپی شود"]
[{"$f":"IFERROR(INDEX('موجودی خام اولیه با برندمتفاوت'!A:A,MATCH(C:C,'موجودی خام اولیه با برندمتفاوت'!C:C,0)),0)","v":0},null,null,null,null,0,0,0,null,null,null,{"$f":"COUNTIF('نقطه سفارش'!C:C,'یکسان سازی برند'!K:K)","v":0},"کالای جدید، لطفا در شیت نقطه سفارش کد و نام کالا کپی شود"]
[{"$f":"IFERROR(INDEX('موجودی خام اولیه با برندمتفاوت'!A:A,MATCH(C:C,'موجودی خام اولیه با برندمتفاوت'!C:C,0)),0)","v":0},null,null,null,null,0,0,0,null,null,null,{"$f":"COUNTIF('نقطه سفارش'!C:C,'یکسان سازی برند'!K:K)","v":0},"کالای جدید، لطفا در شیت نقطه سفارش کد و نام کالا کپی شود"]
[{"$f":"IFERROR(INDEX('موجودی خام اولیه با برندمتفاوت'!A:A,MATCH(C:C,'موجودی خام اولیه با برندمتفاوت'!C:C,0)),0)","v":0},null,null,null,null,0,0,0,null,null,null,{"$f":"COUNTIF('نقطه سفارش'!C:C,'یکسان سازی برند'!K:K)","v":0},"کالای جدید، لطفا در شیت نقطه سفارش کد و نام کالا کپی شود"]
[{"$f":"IFERROR(INDEX('موجودی خام اولیه با برندمتفاوت'!A:A,MATCH(C:C,'موجودی خام اولیه با برندمتفاوت'!C:C,0)),0)","v":0},null,null,null,null,0,0,0,null,null,null,{"$f":"COUNTIF('نقطه سفارش'!C:C,'یکسان سازی برند'!K:K)","v":0},"کالای جدید، لطفا در شیت نقطه سفارش کد و نام کالا کپی شود"]
[{"$f":"IFERROR(INDEX('موجودی خام اولیه با برندمتفاوت'!A:A,MATCH(C:C,'موجودی خام اولیه با برندمتفاوت'!C:C,0)),0)","v":0},null,null,null,null,0,0,0,null,null,null,{"$f":"COUNTIF('نقطه سفارش'!C:C,'یکسان سازی برند'!K:K)","v":0},"کالای جدید، لطفا در شیت نقطه سفارش کد و نام کالا کپی شود"]
[{"$f":"IFERROR(INDEX('موجودی خام اولیه با برندمتفاوت'!A:A,MATCH(C:C,'موجودی خام اولیه با برندمتفاوت'!C:C,0)),0)","v":0},null,null,null,null,0,0,0,null,null,null,{"$f":"COUNTIF('نقطه سفارش'!C:C,'یکسان سازی برند'!K:K)","v":0},"کالای جدید، لطفا در شیت نقطه سفارش کد و نام کالا کپی شود"]
[{"$f":"IFERROR(INDEX('موجودی خام اولیه با برندمتفاوت'!A:A,MATCH(C:C,'موجودی خام اولیه با برندمتفاوت'!C:C,0)),0)","v":0},null,null,null,null,0,0,0,null,null,null,{"$f":"COUNTIF('نقطه سفارش'!C:C,'یکسان سازی برند'!K:K)","v":0},"کالای جدید، لطفا در شیت نقطه سفارش کد و نام کالا کپی شود"]
[{"$f":"IFERROR(INDEX('موجودی خام اولیه با برندمتفاوت'!A:A,MATCH(C:C,'موجودی خام اولیه با برندمتفاوت'!C:C,0)),0)","v":0},null,null,null,null,0,0,0,null,null,null,{"$f":"COUNTIF('نقطه سفارش'!C:C,'یکسان سازی برند'!K:K)","v":0},"کالای جدید، لطفا در شیت نقطه سفارش کد و نام کالا کپی شود"]
[{"$f":"IFERROR(INDEX('موجودی خام اولیه با برندمتفاوت'!A:A,MATCH(C:C,'موجودی خام اولیه با برندمتفاوت'!C:C,0)),0)","v":0},null,null,null,null,0,0,0,null,null,null,{"$f":"COUNTIF('نقطه سفارش'!C:C,'یکسان سازی برند'!K:K)","v":0},"کالای جدید، لطفا در شیت نقطه سفارش کد و نام کالا کپی شود"]
[{"$f":"IFERROR(INDEX('موجودی خام اولیه با برندمتفاوت'!A:A,MATCH(C:C,'موجودی خام اولیه با برندمتفاوت'!C:C,0)),0)","v":0},null,null,null,null,0,0,0,null,null,null,{"$f":"COUNTIF('نقطه سفارش'!C:C,'یکسان سازی برند'!K:K)","v":0},"کالای جدید، لطفا در شیت نقطه سفارش کد و نام کالا کپی شود"]
[{"$f":"IFERROR(INDEX('موجودی خام اولیه با برندمتفاوت'!A:A,MATCH(C:C,'موجودی خام اولیه با برندمتفاوت'!C:C,0)),0)","v":0},null,null,null,null,0,0,0,null,null,null,{"$f":"COUNTIF('نقطه سفارش'!C:C,'یکسان سازی برند'!K:K)","v":0},"کالای جدید، لطفا در شیت نقطه سفارش کد و نام کالا کپی شود"]
[{"$f":"IFERROR(INDEX('موجودی خام اولیه با برندمتفاوت'!A:A,MATCH(C:C,'موجودی خام اولیه با برندمتفاوت'!C:C,0)),0)","v":0},null,null,null,null,0,0,0,null,null,null,{"$f":"COUNTIF('نقطه سفارش'!C:C,'یکسان سازی برند'!K:K)","v":0},"کالای جدید، لطفا در شیت نقطه سفارش کد و نام کالا کپی شود"]
[{"$f":"IFERROR(INDEX('موجودی خام اولیه با برندمتفاوت'!A:A,MATCH(C:C,'موجودی خام اولیه با برندمتفاوت'!C:C,0)),0)","v":0},null,null,null,null,0,0,0,null,null,null,{"$f":"COUNTIF('نقطه سفارش'!C:C,'یکسان سازی برند'!K:K)","v":0},"کالای جدید، لطفا در شیت نقطه سفارش کد و نام کالا کپی شود"]
[{"$f":"IFERROR(INDEX('موجودی خام اولیه با برندمتفاوت'!A:A,MATCH(C:C,'موجودی خام اولیه با برندمتفاوت'!C:C,0)),0)","v":0},null,null,null,null,0,0,0,null,null,null,{"$f":"COUNTIF('نقطه سفارش'!C:C,'یکسان سازی برند'!K:K)","v":0},"کالای جدید، لطفا در شیت نقطه سفارش کد و نام کالا کپی شود"]
[{"$f":"IFERROR(INDEX('موجودی خام اولیه با برندمتفاوت'!A:A,MATCH(C:C,'موجودی خام اولیه با برندمتفاوت'!C:C,0)),0)","v":0},null,null,null,null,0,0,0,null,null,null,{"$f":"COUNTIF('نقطه سفارش'!C:C,'یکسان سازی برند'!K:K)","v":0},"کالای جدید، لطفا در شیت نقطه سفارش کد و نام کالا کپی شود"]
[{"$f":"IFERROR(INDEX('موجودی خام اولیه با برندمتفاوت'!A:A,MATCH(C:C,'موجودی خام اولیه با برندمتفاوت'!C:C,0)),0)","v":0},null,null,null,null,0,0,0,null,null,null,{"$f":"COUNTIF('نقطه سفارش'!C:C,'یکسان سازی برند'!K:K)","v":0},"کالای جدید، لطفا در شیت نقطه سفارش کد و نام کالا کپی شود"]
[{"$f":"IFERROR(INDEX('موجودی خام اولیه با برندمتفاوت'!A:A,MATCH(C:C,'موجودی خام اولیه با برندمتفاوت'!C:C,0)),0)","v":0},null,null,null,null,0,0,0,null,null,null,{"$f":"COUNTIF('نقطه سفارش'!C:C,'یکسان سازی برند'!K:K)","v":0},"کالای جدید، لطفا در شیت نقطه سفارش کد و نام کالا کپی شود"]
[{"$f":"IFERROR(INDEX('موجودی خام اولیه با برندمتفاوت'!A:A,MATCH(C:C,'موجودی خام اولیه با برندمتفاوت'!C:C,0)),0)","v":0},null,null,null,null,0,0,0,null,null,null,{"$f":"COUNTIF('نقطه سفارش'!C:C,'یکسان سازی برند'!K:K)","v":0},"کالای جدید، لطفا در شیت نقطه سفارش کد و نام کالا کپی شود"]
[{"$f":"IFERROR(INDEX('موجودی خام اولیه با برندمتفاوت'!A:A,MATCH(C:C,'موجودی خام اولیه با برندمتفاوت'!C:C,0)),0)","v":0},null,null,null,null,0,0,0,null,null,null,{"$f":"COUNTIF('نقطه سفارش'!C:C,'یکسان سازی برند'!K:K)","v":0},"کالای جدید، لطفا در شیت نقطه سفارش کد و نام کالا کپی شود"]
[{"$f":"IFERROR(INDEX('موجودی خام اولیه با برندمتفاوت'!A:A,MATCH(C:C,'موجودی خام اولیه با برندمتفاوت'!C:C,0)),0)","v":0},null,null,null,null,0,0,0,null,null,null,{"$f":"COUNTIF('نقطه سفارش'!C:C,'یکسان سازی برند'!K:K)","v":0},"کالای جدید، لطفا در شیت نقطه سفارش کد و نام کالا کپی شود"]
[{"$f":"IFERROR(INDEX('موجودی خام اولیه با برندمتفاوت'!A:A,MATCH(C:C,'موجودی خام اولیه با برندمتفاوت'!C:C,0)),0)","v":0},null,null,null,null,0,0,0,null,null,null,{"$f":"COUNTIF('نقطه سفارش'!C:C,'یکسان سازی برند'!K:K)","v":0},"کالای جدید، لطفا در شیت نقطه سفارش کد و نام کالا کپی شود"]
[{"$f":"IFERROR(INDEX('موجودی خام اولیه با برندمتفاوت'!A:A,MATCH(C:C,'موجودی خام اولیه با برندمتفاوت'!C:C,0)),0)","v":0},null,null,null,null,0,0,0,null,null,null,{"$f":"COUNTIF('نقطه سفارش'!C:C,'یکسان سازی برند'!K:K)","v":0},"کالای جدید، لطفا در شیت نقطه سفارش کد و نام کالا کپی شود"]
[{"$f":"IFERROR(INDEX('موجودی خام اولیه با برندمتفاوت'!A:A,MATCH(C:C,'موجودی خام اولیه با برندمتفاوت'!C:C,0)),0)","v":0},null,null,null,null,0,0,0,null,null,null,{"$f":"COUNTIF('نقطه سفارش'!C:C,'یکسان سازی برند'!K:K)","v":0},"کالای جدید، لطفا در شیت نقطه سفارش کد و نام کالا کپی شود"]
[{"$f":"IFERROR(INDEX('موجودی خام اولیه با برندمتفاوت'!A:A,MATCH(C:C,'موجودی خام اولیه با برندمتفاوت'!C:C,0)),0)","v":0},null,null,null,null,0,0,0,null,null,null,{"$f":"COUNTIF('نقطه سفارش'!C:C,'یکسان سازی برند'!K:K)","v":0},"کالای جدید، لطفا در شیت نقطه سفارش کد و نام کالا کپی شود"]
[{"$f":"IFERROR(INDEX('موجودی خام اولیه با برندمتفاوت'!A:A,MATCH(C:C,'موجودی خام اولیه با برندمتفاوت'!C:C,0)),0)","v":0},null,null,null,null,0,0,0,null,null,null,{"$f":"COUNTIF('نقطه سفارش'!C:C,'یکسان سازی برند'!K:K)","v":0},"کالای جدید، لطفا در شیت نقطه سفارش کد و نام کالا کپی شود"]
[{"$f":"IFERROR(INDEX('موجودی خام اولیه با برندمتفاوت'!A:A,MATCH(C:C,'موجودی خام اولیه با برندمتفاوت'!C:C,0)),0)","v":0},null,null,null,null,0,0,0,null,null,null,{"$f":"COUNTIF('نقطه سفارش'!C:C,'یکسان سازی برند'!K:K)","v":0},"کالای جدید، لطفا در شیت نقطه سفارش کد و نام کالا کپی شود"]
[{"$f":"IFERROR(INDEX('موجودی خام اولیه با برندمتفاوت'!A:A,MATCH(C:C,'موجودی خام اولیه با برندمتفاوت'!C:C,0)),0)","v":0},null,null,null,null,0,0,0,null,null,null,{"$f":"COUNTIF('نقطه سفارش'!C:C,'یکسان سازی برند'!K:K)","v":0},"کالای جدید، لطفا در شیت نقطه سفارش کد و نام کالا کپی شود"]
[{"$f":"IFERROR(INDEX('موجودی خام اولیه با برندمتفاوت'!A:A,MATCH(C:C,'موجودی خام اولیه با برندمتفاوت'!C:C,0)),0)","v":0},null,null,null,null,0,0,0,null,null,null,{"$f":"COUNTIF('نقطه سفارش'!C:C,'یکسان سازی برند'!K:K)","v":0},"کالای جدید، لطفا در شیت نقطه سفارش کد و نام کالا کپی شود"]
[{"$f":"IFERROR(INDEX('موجودی خام اولیه با برندمتفاوت'!A:A,MATCH(C:C,'موجودی خام اولیه با برندمتفاوت'!C:C,0)),0)","v":0},null,null,null,null,0,0,0,null,null,null,{"$f":"COUNTIF('نقطه سفارش'!C:C,'یکسان سازی برند'!K:K)","v":0},"کالای جدید، لطفا در شیت نقطه سفارش کد و نام کالا کپی شود"]
[{"$f":"IFERROR(INDEX('موجودی خام اولیه با برندمتفاوت'!A:A,MATCH(C:C,'موجودی خام اولیه با برندمتفاوت'!C:C,0)),0)","v":0},null,null,null,null,0,0,0,null,null,null,{"$f":"COUNTIF('نقطه سفارش'!C:C,'یکسان سازی برند'!K:K)","v":0},"کالای جدید، لطفا در شیت نقطه سفارش کد و نام کالا کپی شود"]
[{"$f":"IFERROR(INDEX('موجودی خام اولیه با برندمتفاوت'!A:A,MATCH(C:C,'موجودی خام اولیه با برندمتفاوت'!C:C,0)),0)","v":0},null,null,null,null,0,0,0,null,null,null,{"$f":"COUNTIF('نقطه سفارش'!C:C,'یکسان سازی برند'!K:K)","v":0},"کالای جدید، لطفا در شیت نقطه سفارش کد و نام کالا کپی شود"]
[{"$f":"IFERROR(INDEX('موجودی خام اولیه با برندمتفاوت'!A:A,MATCH(C:C,'موجودی خام اولیه با برندمتفاوت'!C:C,0)),0)","v":0},null,null,null,null,0,0,0,null,null,null,{"$f":"COUNTIF('نقطه سفارش'!C:C,'یکسان سازی برند'!K:K)","v":0},"کالای جدید، لطفا در شیت نقطه سفارش کد و نام کالا کپی شود"]
[{"$f":"IFERROR(INDEX('موجودی خام اولیه با برندمتفاوت'!A:A,MATCH(C:C,'موجودی خام اولیه با برندمتفاوت'!C:C,0)),0)","v":0},null,null,null,null,0,0,0,null,null,null,{"$f":"COUNTIF('نقطه سفارش'!C:C,'یکسان سازی برند'!K:K)","v":0},"کالای جدید، لطفا در شیت نقطه سفارش کد و نام کالا کپی شود"]
[{"$f":"IFERROR(INDEX('موجودی خام اولیه با برندمتفاوت'!A:A,MATCH(C:C,'موجودی خام اولیه با برندمتفاوت'!C:C,0)),0)","v":0},null,null,null,null,0,0,0,null,null,null,{"$f":"COUNTIF('نقطه سفارش'!C:C,'یکسان سازی برند'!K:K)","v":0},"کالای جدید، لطفا در شیت نقطه سفارش کد و نام کالا کپی شود"]
[{"$f":"IFERROR(INDEX('موجودی خام اولیه با برندمتفاوت'!A:A,MATCH(C:C,'موجودی خام اولیه با برندمتفاوت'!C:C,0)),0)","v":0},null,null,null,null,0,0,0,null,null,null,{"$f":"COUNTIF('نقطه سفارش'!C:C,'یکسان سازی برند'!K:K)","v":0},"کالای جدید، لطفا در شیت نقطه سفارش کد و نام کالا کپی شود"]
[{"$f":"IFERROR(INDEX('موجودی خام اولیه با برندمتفاوت'!A:A,MATCH(C:C,'موجودی خام اولیه با برندمتفاوت'!C:C,0)),0)","v":0},null,null,null,null,0,0,0,null,null,null,{"$f":"COUNTIF('نقطه سفارش'!C:C,'یکسان سازی برند'!K:K)","v":0},"کالای جدید، لطفا در شیت نقطه سفارش کد و نام کالا کپی شود"]
[{"$f":"IFERROR(INDEX('موجودی خام اولیه با برندمتفاوت'!A:A,MATCH(C:C,'موجودی خام اولیه با برندمتفاوت'!C:C,0)),0)","v":0},null,null,null,null,0,0,0,null,null,null,{"$f":"COUNTIF('نقطه سفارش'!C:C,'یکسان سازی برند'!K:K)","v":0},"کالای جدید، لطفا در شیت نقطه سفارش کد و نام کالا کپی شود"]
[{"$f":"IFERROR(INDEX('موجودی خام اولیه با برندمتفاوت'!A:A,MATCH(C:C,'موجودی خام اولیه با برندمتفاوت'!C:C,0)),0)","v":0},null,null,null,null,0,0,0,null,null,null,{"$f":"COUNTIF('نقطه سفارش'!C:C,'یکسان سازی برند'!K:K)","v":0},"کالای جدید، لطفا در شیت نقطه سفارش کد و نام کالا کپی شود"]
[{"$f":"IFERROR(INDEX('موجودی خام اولیه با برندمتفاوت'!A:A,MATCH(C:C,'موجودی خام اولیه با برندمتفاوت'!C:C,0)),0)","v":0},null,null,null,null,0,0,0,null,null,null,{"$f":"COUNTIF('نقطه سفارش'!C:C,'یکسان سازی برند'!K:K)","v":0},"کالای جدید، لطفا در شیت نقطه سفارش کد و نام کالا کپی شود"]
[{"$f":"IFERROR(INDEX('موجودی خام اولیه با برندمتفاوت'!A:A,MATCH(C:C,'موجودی خام اولیه با برندمتفاوت'!C:C,0)),0)","v":0},null,null,null,null,0,0,0,null,null,null,{"$f":"COUNTIF('نقطه سفارش'!C:C,'یکسان سازی برند'!K:K)","v":0},"کالای جدید، لطفا در شیت نقطه سفارش کد و نام کالا کپی شود"]
[{"$f":"IFERROR(INDEX('موجودی خام اولیه با برندمتفاوت'!A:A,MATCH(C:C,'موجودی خام اولیه با برندمتفاوت'!C:C,0)),0)","v":0},null,null,null,null,0,0,0,null,null,null,{"$f":"COUNTIF('نقطه سفارش'!C:C,'یکسان سازی برند'!K:K)","v":0},"کالای جدید، لطفا در شیت نقطه سفارش کد و نام کالا کپی شود"]
[{"$f":"IFERROR(INDEX('موجودی خام اولیه با برندمتفاوت'!A:A,MATCH(C:C,'موجودی خام اولیه با برندمتفاوت'!C:C,0)),0)","v":0},null,null,null,null,0,0,0,null,null,null,{"$f":"COUNTIF('نقطه سفارش'!C:C,'یکسان سازی برند'!K:K)","v":0},"کالای جدید، لطفا در شیت نقطه سفارش کد و نام کالا کپی شود"]
[{"$f":"IFERROR(INDEX('موجودی خام اولیه با برندمتفاوت'!A:A,MATCH(C:C,'موجودی خام اولیه با برندمتفاوت'!C:C,0)),0)","v":0},null,null,null,null,0,0,0,null,null,null,{"$f":"COUNTIF('نقطه سفارش'!C:C,'یکسان سازی برند'!K:K)","v":0},"کالای جدید، لطفا در شیت نقطه سفارش کد و نام کالا کپی شود"]
[{"$f":"IFERROR(INDEX('موجودی خام اولیه با برندمتفاوت'!A:A,MATCH(C:C,'موجودی خام اولیه با برندمتفاوت'!C:C,0)),0)","v":0},null,null,null,null,0,0,0,null,null,null,{"$f":"COUNTIF('نقطه سفارش'!C:C,'یکسان سازی برند'!K:K)","v":0},"کالای جدید، لطفا در شیت نقطه سفارش کد و نام کالا کپی شود"]
[{"$f":"IFERROR(INDEX('موجودی خام اولیه با برندمتفاوت'!A:A,MATCH(C:C,'موجودی خام اولیه با برندمتفاوت'!C:C,0)),0)","v":0},null,null,null,null,0,0,0,null,null,null,{"$f":"COUNTIF('نقطه سفارش'!C:C,'یکسان سازی برند'!K:K)","v":0},"کالای جدید، لطفا در شیت نقطه سفارش کد و نام کالا کپی شود"]
[{"$f":"IFERROR(INDEX('موجودی خام اولیه با برندمتفاوت'!A:A,MATCH(C:C,'موجودی خام اولیه با برندمتفاوت'!C:C,0)),0)","v":0},null,null,null,null,0,0,0,null,null,null,{"$f":"COUNTIF('نقطه سفارش'!C:C,'یکسان سازی برند'!K:K)","v":0},"کالای جدید، لطفا در شیت نقطه سفارش کد و نام کالا کپی شود"]
[{"$f":"IFERROR(INDEX('موجودی خام اولیه با برندمتفاوت'!A:A,MATCH(C:C,'موجودی خام اولیه با برندمتفاوت'!C:C,0)),0)","v":0},null,null,null,null,0,0,0,null,null,null,{"$f":"COUNTIF('نقطه سفارش'!C:C,'یکسان سازی برند'!K:K)","v":0},"کالای جدید، لطفا در شیت نقطه سفارش کد و نام کالا کپی شود"]
[{"$f":"IFERROR(INDEX('موجودی خام اولیه با برندمتفاوت'!A:A,MATCH(C:C,'موجودی خام اولیه با برندمتفاوت'!C:C,0)),0)","v":0},null,null,null,null,0,0,0,null,null,null,{"$f":"COUNTIF('نقطه سفارش'!C:C,'یکسان سازی برند'!K:K)","v":0},"کالای جدید، لطفا در شیت نقطه سفارش کد و نام کالا کپی شود"]
[{"$f":"IFERROR(INDEX('موجودی خام اولیه با برندمتفاوت'!A:A,MATCH(C:C,'موجودی خام اولیه با برندمتفاوت'!C:C,0)),0)","v":0},null,null,null,null,0,0,0,null,null,null,{"$f":"COUNTIF('نقطه سفارش'!C:C,'یکسان سازی برند'!K:K)","v":0},"کالای جدید، لطفا در شیت نقطه سفارش کد و نام کالا کپی شود"]
[{"$f":"IFERROR(INDEX('موجودی خام اولیه با برندمتفاوت'!A:A,MATCH(C:C,'موجودی خام اولیه با برندمتفاوت'!C:C,0)),0)","v":0},null,null,null,null,{"$f":"IF(E259=\"\",A259,SUMIF(E:E,E259,A:A))","v":0},{"$f":"IF(E259=\"\",B259,D259)","v":0},{"$f":"IF(E259=\"\",C259,E259)","v":0},null,null,null,{"$f":"COUNTIF('نقطه سفارش'!C:C,'یکسان سازی برند'!K:K)","v":0},"کالای جدید، لطفا در شیت نقطه سفارش کد و نام کالا کپی شود"]
[{"$f":"IFERROR(INDEX('موجودی خام اولیه با برندمتفاوت'!A:A,MATCH(C:C,'موجودی خام اولیه با برندمتفاوت'!C:C,0)),0)","v":0},null,null,null,null,0,0,0,null,null,null,{"$f":"COUNTIF('نقطه سفارش'!C:C,'یکسان سازی برند'!K:K)","v":0},{"$f":"IF(L:L=0,\"کالای جدید، لطفا در شیت نقطه سفارش کد و نام کالا کپی شود\",\"\")","v":"کالای جدید، لطفا در شیت نقطه سفارش کد و نام کالا کپی شود"}]
[{"$f":"IFERROR(INDEX('موجودی خام اولیه با برندمتفاوت'!A:A,MATCH(C:C,'موجودی خام اولیه با برندمتفاوت'!C:C,0)),0)","v":0},null,null,null,null,0,0,0,null,null,null,{"$f":"COUNTIF('نقطه سفارش'!C:C,'یکسان سازی برند'!K:K)","v":0},"کالای جدید، لطفا در شیت نقطه سفارش کد و نام کالا کپی شود"]
[{"$f":"IFERROR(INDEX('موجودی خام اولیه با برندمتفاوت'!A:A,MATCH(C:C,'موجودی خام اولیه با برندمتفاوت'!C:C,0)),0)","v":0},null,null,null,null,0,0,0,null,null,null,{"$f":"COUNTIF('نقطه سفارش'!C:C,'یکسان سازی برند'!K:K)","v":0},"کالای جدید، لطفا در شیت نقطه سفارش کد و نام کالا کپی شود"]
[{"$f":"IFERROR(INDEX('موجودی خام اولیه با برندمتفاوت'!A:A,MATCH(C:C,'موجودی خام اولیه با برندمتفاوت'!C:C,0)),0)","v":0},null,null,null,null,0,0,0,null,null,null,{"$f":"COUNTIF('نقطه سفارش'!C:C,'یکسان سازی برند'!K:K)","v":0},"کالای جدید، لطفا در شیت نقطه سفارش کد و نام کالا کپی شود"]
[{"$f":"IFERROR(INDEX('موجودی خام اولیه با برندمتفاوت'!A:A,MATCH(C:C,'موجودی خام اولیه با برندمتفاوت'!C:C,0)),0)","v":0},null,null,null,null,0,0,0,null,null,null,{"$f":"COUNTIF('نقطه سفارش'!C:C,'یکسان سازی برند'!K:K)","v":0},"کالای جدید، لطفا در شیت نقطه سفارش کد و نام کالا کپی شود"]
[{"$f":"IFERROR(INDEX('موجودی خام اولیه با برندمتفاوت'!A:A,MATCH(C:C,'موجودی خام اولیه با برندمتفاوت'!C:C,0)),0)","v":0},null,null,null,null,0,0,0,null,null,null,{"$f":"COUNTIF('نقطه سفارش'!C:C,'یکسان سازی برند'!K:K)","v":0},"کالای جدید، لطفا در شیت نقطه سفارش کد و نام کالا کپی شود"]
[{"$f":"IFERROR(INDEX('موجودی خام اولیه با برندمتفاوت'!A:A,MATCH(C:C,'موجودی خام اولیه با برندمتفاوت'!C:C,0)),0)","v":0},null,null,null,null,0,0,0,null,null,null,{"$f":"COUNTIF('نقطه سفارش'!C:C,'یکسان سازی برند'!K:K)","v":0},"کالای جدید، لطفا در شیت نقطه سفارش کد و نام کالا کپی شود"]
[{"$f":"IFERROR(INDEX('موجودی خام اولیه با برندمتفاوت'!A:A,MATCH(C:C,'موجودی خام اولیه با برندمتفاوت'!C:C,0)),0)","v":0},null,null,null,null,0,0,0,null,null,null,{"$f":"COUNTIF('نقطه سفارش'!C:C,'یکسان سازی برند'!K:K)","v":0},"کالای جدید، لطفا در شیت نقطه سفارش کد و نام کالا کپی شود"]
[{"$f":"IFERROR(INDEX('موجودی خام اولیه با برندمتفاوت'!A:A,MATCH(C:C,'موجودی خام اولیه با برندمتفاوت'!C:C,0)),0)","v":0},null,null,null,null,0,0,0,null,null,null,{"$f":"COUNTIF('نقطه سفارش'!C:C,'یکسان سازی برند'!K:K)","v":0},"کالای جدید، لطفا در شیت نقطه سفارش کد و نام کالا کپی شود"]
[{"$f":"IFERROR(INDEX('موجودی خام اولیه با برندمتفاوت'!A:A,MATCH(C:C,'موجودی خام اولیه با برندمتفاوت'!C:C,0)),0)","v":0},null,null,null,null,0,0,0,null,null,null,{"$f":"COUNTIF('نقطه سفارش'!C:C,'یکسان سازی برند'!K:K)","v":0},"کالای جدید، لطفا در شیت نقطه سفارش کد و نام کالا کپی شود"]
[{"$f":"IFERROR(INDEX('موجودی خام اولیه با برندمتفاوت'!A:A,MATCH(C:C,'موجودی خام اولیه با برندمتفاوت'!C:C,0)),0)","v":0},null,null,null,null,0,0,0,null,null,null,{"$f":"COUNTIF('نقطه سفارش'!C:C,'یکسان سازی برند'!K:K)","v":0},"کالای جدید، لطفا در شیت نقطه سفارش کد و نام کالا کپی شود"]
[{"$f":"IFERROR(INDEX('موجودی خام اولیه با برندمتفاوت'!A:A,MATCH(C:C,'موجودی خام اولیه با برندمتفاوت'!C:C,0)),0)","v":0},null,null,null,null,0,0,0,null,null,null,{"$f":"COUNTIF('نقطه سفارش'!C:C,'یکسان سازی برند'!K:K)","v":0},"کالای جدید، لطفا در شیت نقطه سفارش کد و نام کالا کپی شود"]
[{"$f":"IFERROR(INDEX('موجودی خام اولیه با برندمتفاوت'!A:A,MATCH(C:C,'موجودی خام اولیه با برندمتفاوت'!C:C,0)),0)","v":0},null,null,null,null,0,0,0,null,null,null,{"$f":"COUNTIF('نقطه سفارش'!C:C,'یکسان سازی برند'!K:K)","v":0},"کالای جدید، لطفا در شیت نقطه سفارش کد و نام کالا کپی شود"]
[{"$f":"IFERROR(INDEX('موجودی خام اولیه با برندمتفاوت'!A:A,MATCH(C:C,'موجودی خام اولیه با برندمتفاوت'!C:C,0)),0)","v":0},null,null,null,null,0,0,0,null,null,null,{"$f":"COUNTIF('نقطه سفارش'!C:C,'یکسان سازی برند'!K:K)","v":0},"کالای جدید، لطفا در شیت نقطه سفارش کد و نام کالا کپی شود"]
[{"$f":"IFERROR(INDEX('موجودی خام اولیه با برندمتفاوت'!A:A,MATCH(C:C,'موجودی خام اولیه با برندمتفاوت'!C:C,0)),0)","v":0},null,null,null,null,0,0,0,null,null,null,{"$f":"COUNTIF('نقطه سفارش'!C:C,'یکسان سازی برند'!K:K)","v":0},"کالای جدید، لطفا در شیت نقطه سفارش کد و نام کالا کپی شود"]
[{"$f":"IFERROR(INDEX('موجودی خام اولیه با برندمتفاوت'!A:A,MATCH(C:C,'موجودی خام اولیه با برندمتفاوت'!C:C,0)),0)","v":0},null,null,null,null,0,0,0,null,null,null,{"$f":"COUNTIF('نقطه سفارش'!C:C,'یکسان سازی برند'!K:K)","v":0},"کالای جدید، لطفا در شیت نقطه سفارش کد و نام کالا کپی شود"]
[{"$f":"IFERROR(INDEX('موجودی خام اولیه با برندمتفاوت'!A:A,MATCH(C:C,'موجودی خام اولیه با برندمتفاوت'!C:C,0)),0)","v":0},null,null,null,null,0,0,0,null,null,null,{"$f":"COUNTIF('نقطه سفارش'!C:C,'یکسان سازی برند'!K:K)","v":0},"کالای جدید، لطفا در شیت نقطه سفارش کد و نام کالا کپی شود"]
[{"$f":"IFERROR(INDEX('موجودی خام اولیه با برندمتفاوت'!A:A,MATCH(C:C,'موجودی خام اولیه با برندمتفاوت'!C:C,0)),0)","v":0},null,null,null,null,0,0,0,null,null,null,{"$f":"COUNTIF('نقطه سفارش'!C:C,'یکسان سازی برند'!K:K)","v":0},"کالای جدید، لطفا در شیت نقطه سفارش کد و نام کالا کپی شود"]
[{"$f":"IFERROR(INDEX('موجودی خام اولیه با برندمتفاوت'!A:A,MATCH(C:C,'موجودی خام اولیه با برندمتفاوت'!C:C,0)),0)","v":0},null,null,null,null,0,0,0,null,null,null,{"$f":"COUNTIF('نقطه سفارش'!C:C,'یکسان سازی برند'!K:K)","v":0},"کالای جدید، لطفا در شیت نقطه سفارش کد و نام کالا کپی شود"]
[{"$f":"IFERROR(INDEX('موجودی خام اولیه با برندمتفاوت'!A:A,MATCH(C:C,'موجودی خام اولیه با برندمتفاوت'!C:C,0)),0)","v":0},null,null,null,null,0,0,0,null,null,null,{"$f":"COUNTIF('نقطه سفارش'!C:C,'یکسان سازی برند'!K:K)","v":0},"کالای جدید، لطفا در شیت نقطه سفارش کد و نام کالا کپی شود"]
[{"$f":"IFERROR(INDEX('موجودی خام اولیه با برندمتفاوت'!A:A,MATCH(C:C,'موجودی خام اولیه با برندمتفاوت'!C:C,0)),0)","v":0},null,null,null,null,0,0,0,null,null,null,{"$f":"COUNTIF('نقطه سفارش'!C:C,'یکسان سازی برند'!K:K)","v":0},"کالای جدید، لطفا در شیت نقطه سفارش کد و نام کالا کپی شود"]
[{"$f":"IFERROR(INDEX('موجودی خام اولیه با برندمتفاوت'!A:A,MATCH(C:C,'موجودی خام اولیه با برندمتفاوت'!C:C,0)),0)","v":0},null,null,null,null,0,0,0,null,null,null,{"$f":"COUNTIF('نقطه سفارش'!C:C,'یکسان سازی برند'!K:K)","v":0},"کالای جدید، لطفا در شیت نقطه سفارش کد و نام کالا کپی شود"]
[{"$f":"IFERROR(INDEX('موجودی خام اولیه با برندمتفاوت'!A:A,MATCH(C:C,'موجودی خام اولیه با برندمتفاوت'!C:C,0)),0)","v":0},null,null,null,null,0,0,0,null,null,null,{"$f":"COUNTIF('نقطه سفارش'!C:C,'یکسان سازی برند'!K:K)","v":0},"کالای جدید، لطفا در شیت نقطه سفارش کد و نام کالا کپی شود"]
[{"$f":"IFERROR(INDEX('موجودی خام اولیه با برندمتفاوت'!A:A,MATCH(C:C,'موجودی خام اولیه با برندمتفاوت'!C:C,0)),0)","v":0},null,null,null,null,0,0,0,null,null,null,{"$f":"COUNTIF('نقطه سفارش'!C:C,'یکسان سازی برند'!K:K)","v":0},"کالای جدید، لطفا در شیت نقطه سفارش کد و نام کالا کپی شود"]
[{"$f":"IFERROR(INDEX('موجودی خام اولیه با برندمتفاوت'!A:A,MATCH(C:C,'موجودی خام اولیه با برندمتفاوت'!C:C,0)),0)","v":0},null,null,null,null,0,0,0,null,null,null,{"$f":"COUNTIF('نقطه سفارش'!C:C,'یکسان سازی برند'!K:K)","v":0},"کالای جدید، لطفا در شیت نقطه سفارش کد و نام کالا کپی شود"]
[{"$f":"IFERROR(INDEX('موجودی خام اولیه با برندمتفاوت'!A:A,MATCH(C:C,'موجودی خام اولیه با برندمتفاوت'!C:C,0)),0)","v":0},null,null,null,null,0,0,0,null,null,null,{"$f":"COUNTIF('نقطه سفارش'!C:C,'یکسان سازی برند'!K:K)","v":0},"کالای جدید، لطفا در شیت نقطه سفارش کد و نام کالا کپی شود"]
[{"$f":"IFERROR(INDEX('موجودی خام اولیه با برندمتفاوت'!A:A,MATCH(C:C,'موجودی خام اولیه با برندمتفاوت'!C:C,0)),0)","v":0},null,null,null,null,0,0,0,null,null,null,{"$f":"COUNTIF('نقطه سفارش'!C:C,'یکسان سازی برند'!K:K)","v":0},"کالای جدید، لطفا در شیت نقطه سفارش کد و نام کالا کپی شود"]
[{"$f":"IFERROR(INDEX('موجودی خام اولیه با برندمتفاوت'!A:A,MATCH(C:C,'موجودی خام اولیه با برندمتفاوت'!C:C,0)),0)","v":0},null,null,null,null,0,0,0,null,null,null,{"$f":"COUNTIF('نقطه سفارش'!C:C,'یکسان سازی برند'!K:K)","v":0},"کالای جدید، لطفا در شیت نقطه سفارش کد و نام کالا کپی شود"]
[{"$f":"IFERROR(INDEX('موجودی خام اولیه با برندمتفاوت'!A:A,MATCH(C:C,'موجودی خام اولیه با برندمتفاوت'!C:C,0)),0)","v":0},null,null,null,null,0,0,0,null,null,null,{"$f":"COUNTIF('نقطه سفارش'!C:C,'یکسان سازی برند'!K:K)","v":0},"کالای جدید، لطفا در شیت نقطه سفارش کد و نام کالا کپی شود"]
[{"$f":"IFERROR(INDEX('موجودی خام اولیه با برندمتفاوت'!A:A,MATCH(C:C,'موجودی خام اولیه با برندمتفاوت'!C:C,0)),0)","v":0},null,null,null,null,0,0,0,null,null,null,{"$f":"COUNTIF('نقطه سفارش'!C:C,'یکسان سازی برند'!K:K)","v":0},"کالای جدید، لطفا در شیت نقطه سفارش کد و نام کالا کپی شود"]
[{"$f":"IFERROR(INDEX('موجودی خام اولیه با برندمتفاوت'!A:A,MATCH(C:C,'موجودی خام اولیه با برندمتفاوت'!C:C,0)),0)","v":0},null,null,null,null,0,0,0,null,null,null,{"$f":"COUNTIF('نقطه سفارش'!C:C,'یکسان سازی برند'!K:K)","v":0},"کالای جدید، لطفا در شیت نقطه سفارش کد و نام کالا کپی شود"]
[{"$f":"IFERROR(INDEX('موجودی خام اولیه با برندمتفاوت'!A:A,MATCH(C:C,'موجودی خام اولیه با برندمتفاوت'!C:C,0)),0)","v":0},null,null,null,null,0,0,0,null,null,null,{"$f":"COUNTIF('نقطه سفارش'!C:C,'یکسان سازی برند'!K:K)","v":0},"کالای جدید، لطفا در شیت نقطه سفارش کد و نام کالا کپی شود"]
[{"$f":"IFERROR(INDEX('موجودی خام اولیه با برندمتفاوت'!A:A,MATCH(C:C,'موجودی خام اولیه با برندمتفاوت'!C:C,0)),0)","v":0},null,null,null,null,0,0,0,null,null,null,{"$f":"COUNTIF('نقطه سفارش'!C:C,'یکسان سازی برند'!K:K)","v":0},"کالای جدید، لطفا در شیت نقطه سفارش کد و نام کالا کپی شود"]
[{"$f":"IFERROR(INDEX('موجودی خام اولیه با برندمتفاوت'!A:A,MATCH(C:C,'موجودی خام اولیه با برندمتفاوت'!C:C,0)),0)","v":0},null,null,null,null,0,0,0,null,null,null,{"$f":"COUNTIF('نقطه سفارش'!C:C,'یکسان سازی برند'!K:K)","v":0},"کالای جدید، لطفا در شیت نقطه سفارش کد و نام کالا کپی شود"]
[{"$f":"IFERROR(INDEX('موجودی خام اولیه با برندمتفاوت'!A:A,MATCH(C:C,'موجودی خام اولیه با برندمتفاوت'!C:C,0)),0)","v":0},null,null,null,null,0,0,0,null,null,null,{"$f":"COUNTIF('نقطه سفارش'!C:C,'یکسان سازی برند'!K:K)","v":0},"کالای جدید، لطفا در شیت نقطه سفارش کد و نام کالا کپی شود"]
[{"$f":"IFERROR(INDEX('موجودی خام اولیه با برندمتفاوت'!A:A,MATCH(C:C,'موجودی خام اولیه با برندمتفاوت'!C:C,0)),0)","v":0},null,null,null,null,0,0,0,null,null,null,{"$f":"COUNTIF('نقطه سفارش'!C:C,'یکسان سازی برند'!K:K)","v":0},"کالای جدید، لطفا در شیت نقطه سفارش کد و نام کالا کپی شود"]
[{"$f":"IFERROR(INDEX('موجودی خام اولیه با برندمتفاوت'!A:A,MATCH(C:C,'موجودی خام اولیه با برندمتفاوت'!C:C,0)),0)","v":0},null,null,null,null,0,0,0,null,null,null,{"$f":"COUNTIF('نقطه سفارش'!C:C,'یکسان سازی برند'!K:K)","v":0},"کالای جدید، لطفا در شیت نقطه سفارش کد و نام کالا کپی شود"]
[{"$f":"IFERROR(INDEX('موجودی خام اولیه با برندمتفاوت'!A:A,MATCH(C:C,'موجودی خام اولیه با برندمتفاوت'!C:C,0)),0)","v":0},null,null,null,null,0,0,0,null,null,null,{"$f":"COUNTIF('نقطه سفارش'!C:C,'یکسان سازی برند'!K:K)","v":0},"کالای جدید، لطفا در شیت نقطه سفارش کد و نام کالا کپی شود"]
[{"$f":"IFERROR(INDEX('موجودی خام اولیه با برندمتفاوت'!A:A,MATCH(C:C,'موجودی خام اولیه با برندمتفاوت'!C:C,0)),0)","v":0},null,null,null,null,0,0,0,null,null,null,{"$f":"COUNTIF('نقطه سفارش'!C:C,'یکسان سازی برند'!K:K)","v":0},"کالای جدید، لطفا در شیت نقطه سفارش کد و نام کالا کپی شود"]
[{"$f":"IFERROR(INDEX('موجودی خام اولیه با برندمتفاوت'!A:A,MATCH(C:C,'موجودی خام اولیه با برندمتفاوت'!C:C,0)),0)","v":0},null,null,null,null,0,0,0,null,null,null,{"$f":"COUNTIF('نقطه سفارش'!C:C,'یکسان سازی برند'!K:K)","v":0},"کالای جدید، لطفا در شیت نقطه سفارش کد و نام کالا کپی شود"]
[{"$f":"IFERROR(INDEX('موجودی خام اولیه با برندمتفاوت'!A:A,MATCH(C:C,'موجودی خام اولیه با برندمتفاوت'!C:C,0)),0)","v":0},null,null,null,null,0,0,0,null,null,null,{"$f":"COUNTIF('نقطه سفارش'!C:C,'یکسان سازی برند'!K:K)","v":0},"کالای جدید، لطفا در شیت نقطه سفارش کد و نام کالا کپی شود"]
[{"$f":"IFERROR(INDEX('موجودی خام اولیه با برندمتفاوت'!A:A,MATCH(C:C,'موجودی خام اولیه با برندمتفاوت'!C:C,0)),0)","v":0},null,null,null,null,0,0,0,null,null,null,{"$f":"COUNTIF('نقطه سفارش'!C:C,'یکسان سازی برند'!K:K)","v":0},"کالای جدید، لطفا در شیت نقطه سفارش کد و نام کالا کپی شود"]
[{"$f":"IFERROR(INDEX('موجودی خام اولیه با برندمتفاوت'!A:A,MATCH(C:C,'موجودی خام اولیه با برندمتفاوت'!C:C,0)),0)","v":0},null,null,null,null,0,0,0,null,null,null,{"$f":"COUNTIF('نقطه سفارش'!C:C,'یکسان سازی برند'!K:K)","v":0},"کالای جدید، لطفا در شیت نقطه سفارش کد و نام کالا کپی شود"]
[{"$f":"IFERROR(INDEX('موجودی خام اولیه با برندمتفاوت'!A:A,MATCH(C:C,'موجودی خام اولیه با برندمتفاوت'!C:C,0)),0)","v":0},null,null,null,null,0,0,0,null,null,null,{"$f":"COUNTIF('نقطه سفارش'!C:C,'یکسان سازی برند'!K:K)","v":0},"کالای جدید، لطفا در شیت نقطه سفارش کد و نام کالا کپی شود"]
[{"$f":"IFERROR(INDEX('موجودی خام اولیه با برندمتفاوت'!A:A,MATCH(C:C,'موجودی خام اولیه با برندمتفاوت'!C:C,0)),0)","v":0},null,null,null,null,0,0,0,null,null,null,{"$f":"COUNTIF('نقطه سفارش'!C:C,'یکسان سازی برند'!K:K)","v":0},"کالای جدید، لطفا در شیت نقطه سفارش کد و نام کالا کپی شود"]
[{"$f":"IFERROR(INDEX('موجودی خام اولیه با برندمتفاوت'!A:A,MATCH(C:C,'موجودی خام اولیه با برندمتفاوت'!C:C,0)),0)","v":0},null,null,null,null,0,0,0,null,null,null,{"$f":"COUNTIF('نقطه سفارش'!C:C,'یکسان سازی برند'!K:K)","v":0},"کالای جدید، لطفا در شیت نقطه سفارش کد و نام کالا کپی شود"]
[{"$f":"IFERROR(INDEX('موجودی خام اولیه با برندمتفاوت'!A:A,MATCH(C:C,'موجودی خام اولیه با برندمتفاوت'!C:C,0)),0)","v":0},null,null,null,null,0,0,0,null,null,null,{"$f":"COUNTIF('نقطه سفارش'!C:C,'یکسان سازی برند'!K:K)","v":0},"کالای جدید، لطفا در شیت نقطه سفارش کد و نام کالا کپی شود"]
[{"$f":"IFERROR(INDEX('موجودی خام اولیه با برندمتفاوت'!A:A,MATCH(C:C,'موجودی خام اولیه با برندمتفاوت'!C:C,0)),0)","v":0},null,null,null,null,0,0,0,null,null,null,{"$f":"COUNTIF('نقطه سفارش'!C:C,'یکسان سازی برند'!K:K)","v":0},"کالای جدید، لطفا در شیت نقطه سفارش کد و نام کالا کپی شود"]
[{"$f":"IFERROR(INDEX('موجودی خام اولیه با برندمتفاوت'!A:A,MATCH(C:C,'موجودی خام اولیه با برندمتفاوت'!C:C,0)),0)","v":0},null,null,null,null,0,0,0,null,null,null,{"$f":"COUNTIF('نقطه سفارش'!C:C,'یکسان سازی برند'!K:K)","v":0},"کالای جدید، لطفا در شیت نقطه سفارش کد و نام کالا کپی شود"]
[{"$f":"IFERROR(INDEX('موجودی خام اولیه با برندمتفاوت'!A:A,MATCH(C:C,'موجودی خام اولیه با برندمتفاوت'!C:C,0)),0)","v":0},null,null,null,null,0,0,0,null,null,null,{"$f":"COUNTIF('نقطه سفارش'!C:C,'یکسان سازی برند'!K:K)","v":0},"کالای جدید، لطفا در شیت نقطه سفارش کد و نام کالا کپی شود"]
[{"$f":"IFERROR(INDEX('موجودی خام اولیه با برندمتفاوت'!A:A,MATCH(C:C,'موجودی خام اولیه با برندمتفاوت'!C:C,0)),0)","v":0},null,null,null,null,0,0,0,null,null,null,{"$f":"COUNTIF('نقطه سفارش'!C:C,'یکسان سازی برند'!K:K)","v":0},"کالای جدید، لطفا در شیت نقطه سفارش کد و نام کالا کپی شود"]
[{"$f":"IFERROR(INDEX('موجودی خام اولیه با برندمتفاوت'!A:A,MATCH(C:C,'موجودی خام اولیه با برندمتفاوت'!C:C,0)),0)","v":0},null,null,null,null,0,0,0,null,null,null,{"$f":"COUNTIF('نقطه سفارش'!C:C,'یکسان سازی برند'!K:K)","v":0},"کالای جدید، لطفا در شیت نقطه سفارش کد و نام کالا کپی شود"]
[{"$f":"IFERROR(INDEX('موجودی خام اولیه با برندمتفاوت'!A:A,MATCH(C:C,'موجودی خام اولیه با برندمتفاوت'!C:C,0)),0)","v":0},null,null,null,null,0,0,0,null,null,null,{"$f":"COUNTIF('نقطه سفارش'!C:C,'یکسان سازی برند'!K:K)","v":0},"کالای جدید، لطفا در شیت نقطه سفارش کد و نام کالا کپی شود"]
[{"$f":"IFERROR(INDEX('موجودی خام اولیه با برندمتفاوت'!A:A,MATCH(C:C,'موجودی خام اولیه با برندمتفاوت'!C:C,0)),0)","v":0},null,null,null,null,0,0,0,null,null,null,{"$f":"COUNTIF('نقطه سفارش'!C:C,'یکسان سازی برند'!K:K)","v":0},"کالای جدید، لطفا در شیت نقطه سفارش کد و نام کالا کپی شود"]
[{"$f":"IFERROR(INDEX('موجودی خام اولیه با برندمتفاوت'!A:A,MATCH(C:C,'موجودی خام اولیه با برندمتفاوت'!C:C,0)),0)","v":0},null,null,null,null,0,0,0,null,null,null,{"$f":"COUNTIF('نقطه سفارش'!C:C,'یکسان سازی برند'!K:K)","v":0},"کالای جدید، لطفا در شیت نقطه سفارش کد و نام کالا کپی شود"]
[{"$f":"IFERROR(INDEX('موجودی خام اولیه با برندمتفاوت'!A:A,MATCH(C:C,'موجودی خام اولیه با برندمتفاوت'!C:C,0)),0)","v":0},null,null,null,null,0,0,0,null,null,null,{"$f":"COUNTIF('نقطه سفارش'!C:C,'یکسان سازی برند'!K:K)","v":0},"کالای جدید، لطفا در شیت نقطه سفارش کد و نام کالا کپی شود"]
[{"$f":"IFERROR(INDEX('موجودی خام اولیه با برندمتفاوت'!A:A,MATCH(C:C,'موجودی خام اولیه با برندمتفاوت'!C:C,0)),0)","v":0},null,null,null,null,0,0,0,null,null,null,{"$f":"COUNTIF('نقطه سفارش'!C:C,'یکسان سازی برند'!K:K)","v":0},"کالای جدید، لطفا در شیت نقطه سفارش کد و نام کالا کپی شود"]
[{"$f":"IFERROR(INDEX('موجودی خام اولیه با برندمتفاوت'!A:A,MATCH(C:C,'موجودی خام اولیه با برندمتفاوت'!C:C,0)),0)","v":0},null,null,null,null,0,0,0,null,null,null,{"$f":"COUNTIF('نقطه سفارش'!C:C,'یکسان سازی برند'!K:K)","v":0},"کالای جدید، لطفا در شیت نقطه سفارش کد و نام کالا کپی شود"]
[{"$f":"IFERROR(INDEX('موجودی خام اولیه با برندمتفاوت'!A:A,MATCH(C:C,'موجودی خام اولیه با برندمتفاوت'!C:C,0)),0)","v":0},null,null,null,null,0,0,0,null,null,null,{"$f":"COUNTIF('نقطه سفارش'!C:C,'یکسان سازی برند'!K:K)","v":0},"کالای جدید، لطفا در شیت نقطه سفارش کد و نام کالا کپی شود"]
[{"$f":"IFERROR(INDEX('موجودی خام اولیه با برندمتفاوت'!A:A,MATCH(C:C,'موجودی خام اولیه با برندمتفاوت'!C:C,0)),0)","v":0},null,null,null,null,0,0,0,null,null,null,{"$f":"COUNTIF('نقطه سفارش'!C:C,'یکسان سازی برند'!K:K)","v":0},"کالای جدید، لطفا در شیت نقطه سفارش کد و نام کالا کپی شود"]
[{"$f":"IFERROR(INDEX('موجودی خام اولیه با برندمتفاوت'!A:A,MATCH(C:C,'موجودی خام اولیه با برندمتفاوت'!C:C,0)),0)","v":0},null,null,null,null,0,0,0,null,null,null,{"$f":"COUNTIF('نقطه سفارش'!C:C,'یکسان سازی برند'!K:K)","v":0},"کالای جدید، لطفا در شیت نقطه سفارش کد و نام کالا کپی شود"]
[{"$f":"IFERROR(INDEX('موجودی خام اولیه با برندمتفاوت'!A:A,MATCH(C:C,'موجودی خام اولیه با برندمتفاوت'!C:C,0)),0)","v":0},null,null,null,null,0,0,0,null,null,null,{"$f":"COUNTIF('نقطه سفارش'!C:C,'یکسان سازی برند'!K:K)","v":0},"کالای جدید، لطفا در شیت نقطه سفارش کد و نام کالا کپی شود"]
[{"$f":"IFERROR(INDEX('موجودی خام اولیه با برندمتفاوت'!A:A,MATCH(C:C,'موجودی خام اولیه با برندمتفاوت'!C:C,0)),0)","v":0},null,null,null,null,0,0,0,null,null,null,{"$f":"COUNTIF('نقطه سفارش'!C:C,'یکسان سازی برند'!K:K)","v":0},"کالای جدید، لطفا در شیت نقطه سفارش کد و نام کالا کپی شود"]
[{"$f":"IFERROR(INDEX('موجودی خام اولیه با برندمتفاوت'!A:A,MATCH(C:C,'موجودی خام اولیه با برندمتفاوت'!C:C,0)),0)","v":0},null,null,null,null,{"$f":"IF(E323=\"\",A323,SUMIF(E:E,E323,A:A))","v":0},{"$f":"IF(E323=\"\",B323,D323)","v":0},{"$f":"IF(E323=\"\",C323,E323)","v":0},null,null,null,{"$f":"COUNTIF('نقطه سفارش'!C:C,'یکسان سازی برند'!K:K)","v":0},"کالای جدید، لطفا در شیت نقطه سفارش کد و نام کالا کپی شود"]
[{"$f":"IFERROR(INDEX('موجودی خام اولیه با برندمتفاوت'!A:A,MATCH(C:C,'موجودی خام اولیه با برندمتفاوت'!C:C,0)),0)","v":0},null,null,null,null,0,0,0,null,null,null,{"$f":"COUNTIF('نقطه سفارش'!C:C,'یکسان سازی برند'!K:K)","v":0},{"$f":"IF(L:L=0,\"کالای جدید، لطفا در شیت نقطه سفارش کد و نام کالا کپی شود\",\"\")","v":"کالای جدید، لطفا در شیت نقطه سفارش کد و نام کالا کپی شود"}]
[{"$f":"IFERROR(INDEX('موجودی خام اولیه با برندمتفاوت'!A:A,MATCH(C:C,'موجودی خام اولیه با برندمتفاوت'!C:C,0)),0)","v":0},null,null,null,null,0,0,0,null,null,null,{"$f":"COUNTIF('نقطه سفارش'!C:C,'یکسان سازی برند'!K:K)","v":0},"کالای جدید، لطفا در شیت نقطه سفارش کد و نام کالا کپی شود"]
[{"$f":"IFERROR(INDEX('موجودی خام اولیه با برندمتفاوت'!A:A,MATCH(C:C,'موجودی خام اولیه با برندمتفاوت'!C:C,0)),0)","v":0},null,null,null,null,0,0,0,null,null,null,{"$f":"COUNTIF('نقطه سفارش'!C:C,'یکسان سازی برند'!K:K)","v":0},"کالای جدید، لطفا در شیت نقطه سفارش کد و نام کالا کپی شود"]
[{"$f":"IFERROR(INDEX('موجودی خام اولیه با برندمتفاوت'!A:A,MATCH(C:C,'موجودی خام اولیه با برندمتفاوت'!C:C,0)),0)","v":0},null,null,null,null,0,0,0,null,null,null,{"$f":"COUNTIF('نقطه سفارش'!C:C,'یکسان سازی برند'!K:K)","v":0},"کالای جدید، لطفا در شیت نقطه سفارش کد و نام کالا کپی شود"]
[{"$f":"IFERROR(INDEX('موجودی خام اولیه با برندمتفاوت'!A:A,MATCH(C:C,'موجودی خام اولیه با برندمتفاوت'!C:C,0)),0)","v":0},null,null,null,null,0,0,0,null,null,null,{"$f":"COUNTIF('نقطه سفارش'!C:C,'یکسان سازی برند'!K:K)","v":0},"کالای جدید، لطفا در شیت نقطه سفارش کد و نام کالا کپی شود"]
[{"$f":"IFERROR(INDEX('موجودی خام اولیه با برندمتفاوت'!A:A,MATCH(C:C,'موجودی خام اولیه با برندمتفاوت'!C:C,0)),0)","v":0},null,null,null,null,0,0,0,null,null,null,{"$f":"COUNTIF('نقطه سفارش'!C:C,'یکسان سازی برند'!K:K)","v":0},"کالای جدید، لطفا در شیت نقطه سفارش کد و نام کالا کپی شود"]
[{"$f":"IFERROR(INDEX('موجودی خام اولیه با برندمتفاوت'!A:A,MATCH(C:C,'موجودی خام اولیه با برندمتفاوت'!C:C,0)),0)","v":0},null,null,null,null,0,0,0,null,null,null,{"$f":"COUNTIF('نقطه سفارش'!C:C,'یکسان سازی برند'!K:K)","v":0},"کالای جدید، لطفا در شیت نقطه سفارش کد و نام کالا کپی شود"]
[{"$f":"IFERROR(INDEX('موجودی خام اولیه با برندمتفاوت'!A:A,MATCH(C:C,'موجودی خام اولیه با برندمتفاوت'!C:C,0)),0)","v":0},null,null,null,null,0,0,0,null,null,null,{"$f":"COUNTIF('نقطه سفارش'!C:C,'یکسان سازی برند'!K:K)","v":0},"کالای جدید، لطفا در شیت نقطه سفارش کد و نام کالا کپی شود"]
[{"$f":"IFERROR(INDEX('موجودی خام اولیه با برندمتفاوت'!A:A,MATCH(C:C,'موجودی خام اولیه با برندمتفاوت'!C:C,0)),0)","v":0},null,null,null,null,0,0,0,null,null,null,{"$f":"COUNTIF('نقطه سفارش'!C:C,'یکسان سازی برند'!K:K)","v":0},"کالای جدید، لطفا در شیت نقطه سفارش کد و نام کالا کپی شود"]
[{"$f":"IFERROR(INDEX('موجودی خام اولیه با برندمتفاوت'!A:A,MATCH(C:C,'موجودی خام اولیه با برندمتفاوت'!C:C,0)),0)","v":0},null,null,null,null,0,0,0,null,null,null,{"$f":"COUNTIF('نقطه سفارش'!C:C,'یکسان سازی برند'!K:K)","v":0},"کالای جدید، لطفا در شیت نقطه سفارش کد و نام کالا کپی شود"]
[{"$f":"IFERROR(INDEX('موجودی خام اولیه با برندمتفاوت'!A:A,MATCH(C:C,'موجودی خام اولیه با برندمتفاوت'!C:C,0)),0)","v":0},null,null,null,null,0,0,0,null,null,null,{"$f":"COUNTIF('نقطه سفارش'!C:C,'یکسان سازی برند'!K:K)","v":0},"کالای جدید، لطفا در شیت نقطه سفارش کد و نام کالا کپی شود"]
[{"$f":"IFERROR(INDEX('موجودی خام اولیه با برندمتفاوت'!A:A,MATCH(C:C,'موجودی خام اولیه با برندمتفاوت'!C:C,0)),0)","v":0},null,null,null,null,0,0,0,null,null,null,{"$f":"COUNTIF('نقطه سفارش'!C:C,'یکسان سازی برند'!K:K)","v":0},"کالای جدید، لطفا در شیت نقطه سفارش کد و نام کالا کپی شود"]
[{"$f":"IFERROR(INDEX('موجودی خام اولیه با برندمتفاوت'!A:A,MATCH(C:C,'موجودی خام اولیه با برندمتفاوت'!C:C,0)),0)","v":0},null,null,null,null,0,0,0,null,null,null,{"$f":"COUNTIF('نقطه سفارش'!C:C,'یکسان سازی برند'!K:K)","v":0},"کالای جدید، لطفا در شیت نقطه سفارش کد و نام کالا کپی شود"]
[{"$f":"IFERROR(INDEX('موجودی خام اولیه با برندمتفاوت'!A:A,MATCH(C:C,'موجودی خام اولیه با برندمتفاوت'!C:C,0)),0)","v":0},null,null,null,null,0,0,0,null,null,null,{"$f":"COUNTIF('نقطه سفارش'!C:C,'یکسان سازی برند'!K:K)","v":0},"کالای جدید، لطفا در شیت نقطه سفارش کد و نام کالا کپی شود"]
[{"$f":"IFERROR(INDEX('موجودی خام اولیه با برندمتفاوت'!A:A,MATCH(C:C,'موجودی خام اولیه با برندمتفاوت'!C:C,0)),0)","v":0},null,null,null,null,0,0,0,null,null,null,{"$f":"COUNTIF('نقطه سفارش'!C:C,'یکسان سازی برند'!K:K)","v":0},"کالای جدید، لطفا در شیت نقطه سفارش کد و نام کالا کپی شود"]
[{"$f":"IFERROR(INDEX('موجودی خام اولیه با برندمتفاوت'!A:A,MATCH(C:C,'موجودی خام اولیه با برندمتفاوت'!C:C,0)),0)","v":0},null,null,null,null,0,0,0,null,null,null,{"$f":"COUNTIF('نقطه سفارش'!C:C,'یکسان سازی برند'!K:K)","v":0},"کالای جدید، لطفا در شیت نقطه سفارش کد و نام کالا کپی شود"]
[{"$f":"IFERROR(INDEX('موجودی خام اولیه با برندمتفاوت'!A:A,MATCH(C:C,'موجودی خام اولیه با برندمتفاوت'!C:C,0)),0)","v":0},null,null,null,null,0,0,0,null,null,null,{"$f":"COUNTIF('نقطه سفارش'!C:C,'یکسان سازی برند'!K:K)","v":0},"کالای جدید، لطفا در شیت نقطه سفارش کد و نام کالا کپی شود"]
[{"$f":"IFERROR(INDEX('موجودی خام اولیه با برندمتفاوت'!A:A,MATCH(C:C,'موجودی خام اولیه با برندمتفاوت'!C:C,0)),0)","v":0},null,null,null,null,0,0,0,null,null,null,{"$f":"COUNTIF('نقطه سفارش'!C:C,'یکسان سازی برند'!K:K)","v":0},"کالای جدید، لطفا در شیت نقطه سفارش کد و نام کالا کپی شود"]
[{"$f":"IFERROR(INDEX('موجودی خام اولیه با برندمتفاوت'!A:A,MATCH(C:C,'موجودی خام اولیه با برندمتفاوت'!C:C,0)),0)","v":0},null,null,null,null,0,0,0,null,null,null,{"$f":"COUNTIF('نقطه سفارش'!C:C,'یکسان سازی برند'!K:K)","v":0},"کالای جدید، لطفا در شیت نقطه سفارش کد و نام کالا کپی شود"]
[{"$f":"IFERROR(INDEX('موجودی خام اولیه با برندمتفاوت'!A:A,MATCH(C:C,'موجودی خام اولیه با برندمتفاوت'!C:C,0)),0)","v":0},null,null,null,null,0,0,0,null,null,null,{"$f":"COUNTIF('نقطه سفارش'!C:C,'یکسان سازی برند'!K:K)","v":0},"کالای جدید، لطفا در شیت نقطه سفارش کد و نام کالا کپی شود"]
[{"$f":"IFERROR(INDEX('موجودی خام اولیه با برندمتفاوت'!A:A,MATCH(C:C,'موجودی خام اولیه با برندمتفاوت'!C:C,0)),0)","v":0},null,null,null,null,0,0,0,null,null,null,{"$f":"COUNTIF('نقطه سفارش'!C:C,'یکسان سازی برند'!K:K)","v":0},"کالای جدید، لطفا در شیت نقطه سفارش کد و نام کالا کپی شود"]
[{"$f":"IFERROR(INDEX('موجودی خام اولیه با برندمتفاوت'!A:A,MATCH(C:C,'موجودی خام اولیه با برندمتفاوت'!C:C,0)),0)","v":0},null,null,null,null,0,0,0,null,null,null,{"$f":"COUNTIF('نقطه سفارش'!C:C,'یکسان سازی برند'!K:K)","v":0},"کالای جدید، لطفا در شیت نقطه سفارش کد و نام کالا کپی شود"]
[{"$f":"IFERROR(INDEX('موجودی خام اولیه با برندمتفاوت'!A:A,MATCH(C:C,'موجودی خام اولیه با برندمتفاوت'!C:C,0)),0)","v":0},null,null,null,null,0,0,0,null,null,null,{"$f":"COUNTIF('نقطه سفارش'!C:C,'یکسان سازی برند'!K:K)","v":0},"کالای جدید، لطفا در شیت نقطه سفارش کد و نام کالا کپی شود"]
[{"$f":"IFERROR(INDEX('موجودی خام اولیه با برندمتفاوت'!A:A,MATCH(C:C,'موجودی خام اولیه با برندمتفاوت'!C:C,0)),0)","v":0},null,null,null,null,0,0,0,null,null,null,{"$f":"COUNTIF('نقطه سفارش'!C:C,'یکسان سازی برند'!K:K)","v":0},"کالای جدید، لطفا در شیت نقطه سفارش کد و نام کالا کپی شود"]
[{"$f":"IFERROR(INDEX('موجودی خام اولیه با برندمتفاوت'!A:A,MATCH(C:C,'موجودی خام اولیه با برندمتفاوت'!C:C,0)),0)","v":0},null,null,null,null,0,0,0,null,null,null,{"$f":"COUNTIF('نقطه سفارش'!C:C,'یکسان سازی برند'!K:K)","v":0},"کالای جدید، لطفا در شیت نقطه سفارش کد و نام کالا کپی شود"]
[{"$f":"IFERROR(INDEX('موجودی خام اولیه با برندمتفاوت'!A:A,MATCH(C:C,'موجودی خام اولیه با برندمتفاوت'!C:C,0)),0)","v":0},null,null,null,null,0,0,0,null,null,null,{"$f":"COUNTIF('نقطه سفارش'!C:C,'یکسان سازی برند'!K:K)","v":0},"کالای جدید، لطفا در شیت نقطه سفارش کد و نام کالا کپی شود"]
[{"$f":"IFERROR(INDEX('موجودی خام اولیه با برندمتفاوت'!A:A,MATCH(C:C,'موجودی خام اولیه با برندمتفاوت'!C:C,0)),0)","v":0},null,null,null,null,0,0,0,null,null,null,{"$f":"COUNTIF('نقطه سفارش'!C:C,'یکسان سازی برند'!K:K)","v":0},"کالای جدید، لطفا در شیت نقطه سفارش کد و نام کالا کپی شود"]
[{"$f":"IFERROR(INDEX('موجودی خام اولیه با برندمتفاوت'!A:A,MATCH(C:C,'موجودی خام اولیه با برندمتفاوت'!C:C,0)),0)","v":0},null,null,null,null,0,0,0,null,null,null,{"$f":"COUNTIF('نقطه سفارش'!C:C,'یکسان سازی برند'!K:K)","v":0},"کالای جدید، لطفا در شیت نقطه سفارش کد و نام کالا کپی شود"]
[{"$f":"IFERROR(INDEX('موجودی خام اولیه با برندمتفاوت'!A:A,MATCH(C:C,'موجودی خام اولیه با برندمتفاوت'!C:C,0)),0)","v":0},null,null,null,null,0,0,0,null,null,null,{"$f":"COUNTIF('نقطه سفارش'!C:C,'یکسان سازی برند'!K:K)","v":0},"کالای جدید، لطفا در شیت نقطه سفارش کد و نام کالا کپی شود"]
[{"$f":"IFERROR(INDEX('موجودی خام اولیه با برندمتفاوت'!A:A,MATCH(C:C,'موجودی خام اولیه با برندمتفاوت'!C:C,0)),0)","v":0},null,null,null,null,0,0,0,null,null,null,{"$f":"COUNTIF('نقطه سفارش'!C:C,'یکسان سازی برند'!K:K)","v":0},"کالای جدید، لطفا در شیت نقطه سفارش کد و نام کالا کپی شود"]
[{"$f":"IFERROR(INDEX('موجودی خام اولیه با برندمتفاوت'!A:A,MATCH(C:C,'موجودی خام اولیه با برندمتفاوت'!C:C,0)),0)","v":0},null,null,null,null,0,0,0,null,null,null,{"$f":"COUNTIF('نقطه سفارش'!C:C,'یکسان سازی برند'!K:K)","v":0},"کالای جدید، لطفا در شیت نقطه سفارش کد و نام کالا کپی شود"]
[{"$f":"IFERROR(INDEX('موجودی خام اولیه با برندمتفاوت'!A:A,MATCH(C:C,'موجودی خام اولیه با برندمتفاوت'!C:C,0)),0)","v":0},null,null,null,null,0,0,0,null,null,null,{"$f":"COUNTIF('نقطه سفارش'!C:C,'یکسان سازی برند'!K:K)","v":0},"کالای جدید، لطفا در شیت نقطه سفارش کد و نام کالا کپی شود"]
[{"$f":"IFERROR(INDEX('موجودی خام اولیه با برندمتفاوت'!A:A,MATCH(C:C,'موجودی خام اولیه با برندمتفاوت'!C:C,0)),0)","v":0},null,null,null,null,0,0,0,null,null,null,{"$f":"COUNTIF('نقطه سفارش'!C:C,'یکسان سازی برند'!K:K)","v":0},"کالای جدید، لطفا در شیت نقطه سفارش کد و نام کالا کپی شود"]
[{"$f":"IFERROR(INDEX('موجودی خام اولیه با برندمتفاوت'!A:A,MATCH(C:C,'موجودی خام اولیه با برندمتفاوت'!C:C,0)),0)","v":0},null,null,null,null,0,0,0,null,null,null,{"$f":"COUNTIF('نقطه سفارش'!C:C,'یکسان سازی برند'!K:K)","v":0},"کالای جدید، لطفا در شیت نقطه سفارش کد و نام کالا کپی شود"]
[{"$f":"IFERROR(INDEX('موجودی خام اولیه با برندمتفاوت'!A:A,MATCH(C:C,'موجودی خام اولیه با برندمتفاوت'!C:C,0)),0)","v":0},null,null,null,null,0,0,0,null,null,null,{"$f":"COUNTIF('نقطه سفارش'!C:C,'یکسان سازی برند'!K:K)","v":0},"کالای جدید، لطفا در شیت نقطه سفارش کد و نام کالا کپی شود"]
[{"$f":"IFERROR(INDEX('موجودی خام اولیه با برندمتفاوت'!A:A,MATCH(C:C,'موجودی خام اولیه با برندمتفاوت'!C:C,0)),0)","v":0},null,null,null,null,0,0,0,null,null,null,{"$f":"COUNTIF('نقطه سفارش'!C:C,'یکسان سازی برند'!K:K)","v":0},"کالای جدید، لطفا در شیت نقطه سفارش کد و نام کالا کپی شود"]
[{"$f":"IFERROR(INDEX('موجودی خام اولیه با برندمتفاوت'!A:A,MATCH(C:C,'موجودی خام اولیه با برندمتفاوت'!C:C,0)),0)","v":0},null,null,null,null,0,0,0,null,null,null,{"$f":"COUNTIF('نقطه سفارش'!C:C,'یکسان سازی برند'!K:K)","v":0},"کالای جدید، لطفا در شیت نقطه سفارش کد و نام کالا کپی شود"]
[{"$f":"IFERROR(INDEX('موجودی خام اولیه با برندمتفاوت'!A:A,MATCH(C:C,'موجودی خام اولیه با برندمتفاوت'!C:C,0)),0)","v":0},null,null,null,null,0,0,0,null,null,null,{"$f":"COUNTIF('نقطه سفارش'!C:C,'یکسان سازی برند'!K:K)","v":0},"کالای جدید، لطفا در شیت نقطه سفارش کد و نام کالا کپی شود"]
[{"$f":"IFERROR(INDEX('موجودی خام اولیه با برندمتفاوت'!A:A,MATCH(C:C,'موجودی خام اولیه با برندمتفاوت'!C:C,0)),0)","v":0},null,null,null,null,0,0,0,null,null,null,{"$f":"COUNTIF('نقطه سفارش'!C:C,'یکسان سازی برند'!K:K)","v":0},"کالای جدید، لطفا در شیت نقطه سفارش کد و نام کالا کپی شود"]
[{"$f":"IFERROR(INDEX('موجودی خام اولیه با برندمتفاوت'!A:A,MATCH(C:C,'موجودی خام اولیه با برندمتفاوت'!C:C,0)),0)","v":0},null,null,null,null,0,0,0,null,null,null,{"$f":"COUNTIF('نقطه سفارش'!C:C,'یکسان سازی برند'!K:K)","v":0},"کالای جدید، لطفا در شیت نقطه سفارش کد و نام کالا کپی شود"]
[{"$f":"IFERROR(INDEX('موجودی خام اولیه با برندمتفاوت'!A:A,MATCH(C:C,'موجودی خام اولیه با برندمتفاوت'!C:C,0)),0)","v":0},null,null,null,null,0,0,0,null,null,null,{"$f":"COUNTIF('نقطه سفارش'!C:C,'یکسان سازی برند'!K:K)","v":0},"کالای جدید، لطفا در شیت نقطه سفارش کد و نام کالا کپی شود"]
[{"$f":"IFERROR(INDEX('موجودی خام اولیه با برندمتفاوت'!A:A,MATCH(C:C,'موجودی خام اولیه با برندمتفاوت'!C:C,0)),0)","v":0},null,null,null,null,0,0,0,null,null,null,{"$f":"COUNTIF('نقطه سفارش'!C:C,'یکسان سازی برند'!K:K)","v":0},"کالای جدید، لطفا در شیت نقطه سفارش کد و نام کالا کپی شود"]
[{"$f":"IFERROR(INDEX('موجودی خام اولیه با برندمتفاوت'!A:A,MATCH(C:C,'موجودی خام اولیه با برندمتفاوت'!C:C,0)),0)","v":0},null,null,null,null,0,0,0,null,null,null,{"$f":"COUNTIF('نقطه سفارش'!C:C,'یکسان سازی برند'!K:K)","v":0},"کالای جدید، لطفا در شیت نقطه سفارش کد و نام کالا کپی شود"]
[{"$f":"IFERROR(INDEX('موجودی خام اولیه با برندمتفاوت'!A:A,MATCH(C:C,'موجودی خام اولیه با برندمتفاوت'!C:C,0)),0)","v":0},null,null,null,null,0,0,0,null,null,null,{"$f":"COUNTIF('نقطه سفارش'!C:C,'یکسان سازی برند'!K:K)","v":0},"کالای جدید، لطفا در شیت نقطه سفارش کد و نام کالا کپی شود"]
[{"$f":"IFERROR(INDEX('موجودی خام اولیه با برندمتفاوت'!A:A,MATCH(C:C,'موجودی خام اولیه با برندمتفاوت'!C:C,0)),0)","v":0},null,null,null,null,0,0,0,null,null,null,{"$f":"COUNTIF('نقطه سفارش'!C:C,'یکسان سازی برند'!K:K)","v":0},"کالای جدید، لطفا در شیت نقطه سفارش کد و نام کالا کپی شود"]
[{"$f":"IFERROR(INDEX('موجودی خام اولیه با برندمتفاوت'!A:A,MATCH(C:C,'موجودی خام اولیه با برندمتفاوت'!C:C,0)),0)","v":0},null,null,null,null,0,0,0,null,null,null,{"$f":"COUNTIF('نقطه سفارش'!C:C,'یکسان سازی برند'!K:K)","v":0},"کالای جدید، لطفا در شیت نقطه سفارش کد و نام کالا کپی شود"]
[{"$f":"IFERROR(INDEX('موجودی خام اولیه با برندمتفاوت'!A:A,MATCH(C:C,'موجودی خام اولیه با برندمتفاوت'!C:C,0)),0)","v":0},null,null,null,null,0,0,0,null,null,null,{"$f":"COUNTIF('نقطه سفارش'!C:C,'یکسان سازی برند'!K:K)","v":0},"کالای جدید، لطفا در شیت نقطه سفارش کد و نام کالا کپی شود"]
[{"$f":"IFERROR(INDEX('موجودی خام اولیه با برندمتفاوت'!A:A,MATCH(C:C,'موجودی خام اولیه با برندمتفاوت'!C:C,0)),0)","v":0},null,null,null,null,0,0,0,null,null,null,{"$f":"COUNTIF('نقطه سفارش'!C:C,'یکسان سازی برند'!K:K)","v":0},"کالای جدید، لطفا در شیت نقطه سفارش کد و نام کالا کپی شود"]
[{"$f":"IFERROR(INDEX('موجودی خام اولیه با برندمتفاوت'!A:A,MATCH(C:C,'موجودی خام اولیه با برندمتفاوت'!C:C,0)),0)","v":0},null,null,null,null,0,0,0,null,null,null,{"$f":"COUNTIF('نقطه سفارش'!C:C,'یکسان سازی برند'!K:K)","v":0},"کالای جدید، لطفا در شیت نقطه سفارش کد و نام کالا کپی شود"]
[{"$f":"IFERROR(INDEX('موجودی خام اولیه با برندمتفاوت'!A:A,MATCH(C:C,'موجودی خام اولیه با برندمتفاوت'!C:C,0)),0)","v":0},null,null,null,null,0,0,0,null,null,null,{"$f":"COUNTIF('نقطه سفارش'!C:C,'یکسان سازی برند'!K:K)","v":0},"کالای جدید، لطفا در شیت نقطه سفارش کد و نام کالا کپی شود"]
[{"$f":"IFERROR(INDEX('موجودی خام اولیه با برندمتفاوت'!A:A,MATCH(C:C,'موجودی خام اولیه با برندمتفاوت'!C:C,0)),0)","v":0},null,null,null,null,0,0,0,null,null,null,{"$f":"COUNTIF('نقطه سفارش'!C:C,'یکسان سازی برند'!K:K)","v":0},"کالای جدید، لطفا در شیت نقطه سفارش کد و نام کالا کپی شود"]
[{"$f":"IFERROR(INDEX('موجودی خام اولیه با برندمتفاوت'!A:A,MATCH(C:C,'موجودی خام اولیه با برندمتفاوت'!C:C,0)),0)","v":0},null,null,null,null,0,0,0,null,null,null,{"$f":"COUNTIF('نقطه سفارش'!C:C,'یکسان سازی برند'!K:K)","v":0},"کالای جدید، لطفا در شیت نقطه سفارش کد و نام کالا کپی شود"]
[{"$f":"IFERROR(INDEX('موجودی خام اولیه با برندمتفاوت'!A:A,MATCH(C:C,'موجودی خام اولیه با برندمتفاوت'!C:C,0)),0)","v":0},null,null,null,null,0,0,0,null,null,null,{"$f":"COUNTIF('نقطه سفارش'!C:C,'یکسان سازی برند'!K:K)","v":0},"کالای جدید، لطفا در شیت نقطه سفارش کد و نام کالا کپی شود"]
[{"$f":"IFERROR(INDEX('موجودی خام اولیه با برندمتفاوت'!A:A,MATCH(C:C,'موجودی خام اولیه با برندمتفاوت'!C:C,0)),0)","v":0},null,null,null,null,0,0,0,null,null,null,{"$f":"COUNTIF('نقطه سفارش'!C:C,'یکسان سازی برند'!K:K)","v":0},"کالای جدید، لطفا در شیت نقطه سفارش کد و نام کالا کپی شود"]
[{"$f":"IFERROR(INDEX('موجودی خام اولیه با برندمتفاوت'!A:A,MATCH(C:C,'موجودی خام اولیه با برندمتفاوت'!C:C,0)),0)","v":0},null,null,null,null,0,0,0,null,null,null,{"$f":"COUNTIF('نقطه سفارش'!C:C,'یکسان سازی برند'!K:K)","v":0},"کالای جدید، لطفا در شیت نقطه سفارش کد و نام کالا کپی شود"]
[{"$f":"IFERROR(INDEX('موجودی خام اولیه با برندمتفاوت'!A:A,MATCH(C:C,'موجودی خام اولیه با برندمتفاوت'!C:C,0)),0)","v":0},null,null,null,null,0,0,0,null,null,null,{"$f":"COUNTIF('نقطه سفارش'!C:C,'یکسان سازی برند'!K:K)","v":0},"کالای جدید، لطفا در شیت نقطه سفارش کد و نام کالا کپی شود"]
[{"$f":"IFERROR(INDEX('موجودی خام اولیه با برندمتفاوت'!A:A,MATCH(C:C,'موجودی خام اولیه با برندمتفاوت'!C:C,0)),0)","v":0},null,null,null,null,0,0,0,null,null,null,{"$f":"COUNTIF('نقطه سفارش'!C:C,'یکسان سازی برند'!K:K)","v":0},"کالای جدید، لطفا در شیت نقطه سفارش کد و نام کالا کپی شود"]
[{"$f":"IFERROR(INDEX('موجودی خام اولیه با برندمتفاوت'!A:A,MATCH(C:C,'موجودی خام اولیه با برندمتفاوت'!C:C,0)),0)","v":0},null,null,null,null,0,0,0,null,null,null,{"$f":"COUNTIF('نقطه سفارش'!C:C,'یکسان سازی برند'!K:K)","v":0},"کالای جدید، لطفا در شیت نقطه سفارش کد و نام کالا کپی شود"]
[{"$f":"IFERROR(INDEX('موجودی خام اولیه با برندمتفاوت'!A:A,MATCH(C:C,'موجودی خام اولیه با برندمتفاوت'!C:C,0)),0)","v":0},null,null,null,null,0,0,0,null,null,null,{"$f":"COUNTIF('نقطه سفارش'!C:C,'یکسان سازی برند'!K:K)","v":0},"کالای جدید، لطفا در شیت نقطه سفارش کد و نام کالا کپی شود"]
[{"$f":"IFERROR(INDEX('موجودی خام اولیه با برندمتفاوت'!A:A,MATCH(C:C,'موجودی خام اولیه با برندمتفاوت'!C:C,0)),0)","v":0},null,null,null,null,0,0,0,null,null,null,{"$f":"COUNTIF('نقطه سفارش'!C:C,'یکسان سازی برند'!K:K)","v":0},"کالای جدید، لطفا در شیت نقطه سفارش کد و نام کالا کپی شود"]
[{"$f":"IFERROR(INDEX('موجودی خام اولیه با برندمتفاوت'!A:A,MATCH(C:C,'موجودی خام اولیه با برندمتفاوت'!C:C,0)),0)","v":0},null,null,null,null,0,0,0,null,null,null,{"$f":"COUNTIF('نقطه سفارش'!C:C,'یکسان سازی برند'!K:K)","v":0},"کالای جدید، لطفا در شیت نقطه سفارش کد و نام کالا کپی شود"]
[{"$f":"IFERROR(INDEX('موجودی خام اولیه با برندمتفاوت'!A:A,MATCH(C:C,'موجودی خام اولیه با برندمتفاوت'!C:C,0)),0)","v":0},null,null,null,null,0,0,0,null,null,null,{"$f":"COUNTIF('نقطه سفارش'!C:C,'یکسان سازی برند'!K:K)","v":0},"کالای جدید، لطفا در شیت نقطه سفارش کد و نام کالا کپی شود"]
[{"$f":"IFERROR(INDEX('موجودی خام اولیه با برندمتفاوت'!A:A,MATCH(C:C,'موجودی خام اولیه با برندمتفاوت'!C:C,0)),0)","v":0},null,null,null,null,0,0,0,null,null,null,{"$f":"COUNTIF('نقطه سفارش'!C:C,'یکسان سازی برند'!K:K)","v":0},"کالای جدید، لطفا در شیت نقطه سفارش کد و نام کالا کپی شود"]
[{"$f":"IFERROR(INDEX('موجودی خام اولیه با برندمتفاوت'!A:A,MATCH(C:C,'موجودی خام اولیه با برندمتفاوت'!C:C,0)),0)","v":0},null,null,null,null,{"$f":"IF(E387=\"\",A387,SUMIF(E:E,E387,A:A))","v":0},{"$f":"IF(E387=\"\",B387,D387)","v":0},{"$f":"IF(E387=\"\",C387,E387)","v":0},null,null,null,{"$f":"COUNTIF('نقطه سفارش'!C:C,'یکسان سازی برند'!K:K)","v":0},"کالای جدید، لطفا در شیت نقطه سفارش کد و نام کالا کپی شود"]
[{"$f":"IFERROR(INDEX('موجودی خام اولیه با برندمتفاوت'!A:A,MATCH(C:C,'موجودی خام اولیه با برندمتفاوت'!C:C,0)),0)","v":0},null,null,null,null,0,0,0,null,null,null,{"$f":"COUNTIF('نقطه سفارش'!C:C,'یکسان سازی برند'!K:K)","v":0},{"$f":"IF(L:L=0,\"کالای جدید، لطفا در شیت نقطه سفارش کد و نام کالا کپی شود\",\"\")","v":"کالای جدید، لطفا در شیت نقطه سفارش کد و نام کالا کپی شود"}]
[{"$f":"IFERROR(INDEX('موجودی خام اولیه با برندمتفاوت'!A:A,MATCH(C:C,'موجودی خام اولیه با برندمتفاوت'!C:C,0)),0)","v":0},null,null,null,null,0,0,0,null,null,null,{"$f":"COUNTIF('نقطه سفارش'!C:C,'یکسان سازی برند'!K:K)","v":0},"کالای جدید، لطفا در شیت نقطه سفارش کد و نام کالا کپی شود"]
[{"$f":"IFERROR(INDEX('موجودی خام اولیه با برندمتفاوت'!A:A,MATCH(C:C,'موجودی خام اولیه با برندمتفاوت'!C:C,0)),0)","v":0},null,null,null,null,0,0,0,null,null,null,{"$f":"COUNTIF('نقطه سفارش'!C:C,'یکسان سازی برند'!K:K)","v":0},"کالای جدید، لطفا در شیت نقطه سفارش کد و نام کالا کپی شود"]
[{"$f":"IFERROR(INDEX('موجودی خام اولیه با برندمتفاوت'!A:A,MATCH(C:C,'موجودی خام اولیه با برندمتفاوت'!C:C,0)),0)","v":0},null,null,null,null,0,0,0,null,null,null,{"$f":"COUNTIF('نقطه سفارش'!C:C,'یکسان سازی برند'!K:K)","v":0},"کالای جدید، لطفا در شیت نقطه سفارش کد و نام کالا کپی شود"]
[{"$f":"IFERROR(INDEX('موجودی خام اولیه با برندمتفاوت'!A:A,MATCH(C:C,'موجودی خام اولیه با برندمتفاوت'!C:C,0)),0)","v":0},null,null,null,null,0,0,0,null,null,null,{"$f":"COUNTIF('نقطه سفارش'!C:C,'یکسان سازی برند'!K:K)","v":0},"کالای جدید، لطفا در شیت نقطه سفارش کد و نام کالا کپی شود"]
[{"$f":"IFERROR(INDEX('موجودی خام اولیه با برندمتفاوت'!A:A,MATCH(C:C,'موجودی خام اولیه با برندمتفاوت'!C:C,0)),0)","v":0},null,null,null,null,0,0,0,null,null,null,{"$f":"COUNTIF('نقطه سفارش'!C:C,'یکسان سازی برند'!K:K)","v":0},"کالای جدید، لطفا در شیت نقطه سفارش کد و نام کالا کپی شود"]
[{"$f":"IFERROR(INDEX('موجودی خام اولیه با برندمتفاوت'!A:A,MATCH(C:C,'موجودی خام اولیه با برندمتفاوت'!C:C,0)),0)","v":0},null,null,null,null,0,0,0,null,null,null,{"$f":"COUNTIF('نقطه سفارش'!C:C,'یکسان سازی برند'!K:K)","v":0},"کالای جدید، لطفا در شیت نقطه سفارش کد و نام کالا کپی شود"]
[{"$f":"IFERROR(INDEX('موجودی خام اولیه با برندمتفاوت'!A:A,MATCH(C:C,'موجودی خام اولیه با برندمتفاوت'!C:C,0)),0)","v":0},null,null,null,null,0,0,0,null,null,null,{"$f":"COUNTIF('نقطه سفارش'!C:C,'یکسان سازی برند'!K:K)","v":0},"کالای جدید، لطفا در شیت نقطه سفارش کد و نام کالا کپی شود"]
[{"$f":"IFERROR(INDEX('موجودی خام اولیه با برندمتفاوت'!A:A,MATCH(C:C,'موجودی خام اولیه با برندمتفاوت'!C:C,0)),0)","v":0},null,null,null,null,0,0,0,null,null,null,{"$f":"COUNTIF('نقطه سفارش'!C:C,'یکسان سازی برند'!K:K)","v":0},"کالای جدید، لطفا در شیت نقطه سفارش کد و نام کالا کپی شود"]
[{"$f":"IFERROR(INDEX('موجودی خام اولیه با برندمتفاوت'!A:A,MATCH(C:C,'موجودی خام اولیه با برندمتفاوت'!C:C,0)),0)","v":0},null,null,null,null,0,0,0,null,null,null,{"$f":"COUNTIF('نقطه سفارش'!C:C,'یکسان سازی برند'!K:K)","v":0},"کالای جدید، لطفا در شیت نقطه سفارش کد و نام کالا کپی شود"]
[{"$f":"IFERROR(INDEX('موجودی خام اولیه با برندمتفاوت'!A:A,MATCH(C:C,'موجودی خام اولیه با برندمتفاوت'!C:C,0)),0)","v":0},null,null,null,null,0,0,0,null,null,null,{"$f":"COUNTIF('نقطه سفارش'!C:C,'یکسان سازی برند'!K:K)","v":0},"کالای جدید، لطفا در شیت نقطه سفارش کد و نام کالا کپی شود"]
[{"$f":"IFERROR(INDEX('موجودی خام اولیه با برندمتفاوت'!A:A,MATCH(C:C,'موجودی خام اولیه با برندمتفاوت'!C:C,0)),0)","v":0},null,null,null,null,0,0,0,null,null,null,{"$f":"COUNTIF('نقطه سفارش'!C:C,'یکسان سازی برند'!K:K)","v":0},"کالای جدید، لطفا در شیت نقطه سفارش کد و نام کالا کپی شود"]
[{"$f":"IFERROR(INDEX('موجودی خام اولیه با برندمتفاوت'!A:A,MATCH(C:C,'موجودی خام اولیه با برندمتفاوت'!C:C,0)),0)","v":0},null,null,null,null,0,0,0,null,null,null,{"$f":"COUNTIF('نقطه سفارش'!C:C,'یکسان سازی برند'!K:K)","v":0},"کالای جدید، لطفا در شیت نقطه سفارش کد و نام کالا کپی شود"]
[{"$f":"IFERROR(INDEX('موجودی خام اولیه با برندمتفاوت'!A:A,MATCH(C:C,'موجودی خام اولیه با برندمتفاوت'!C:C,0)),0)","v":0},null,null,null,null,0,0,0,null,null,null,{"$f":"COUNTIF('نقطه سفارش'!C:C,'یکسان سازی برند'!K:K)","v":0},"کالای جدید، لطفا در شیت نقطه سفارش کد و نام کالا کپی شود"]
[{"$f":"IFERROR(INDEX('موجودی خام اولیه با برندمتفاوت'!A:A,MATCH(C:C,'موجودی خام اولیه با برندمتفاوت'!C:C,0)),0)","v":0},null,null,null,null,0,0,0,null,null,null,{"$f":"COUNTIF('نقطه سفارش'!C:C,'یکسان سازی برند'!K:K)","v":0},"کالای جدید، لطفا در شیت نقطه سفارش کد و نام کالا کپی شود"]
[{"$f":"IFERROR(INDEX('موجودی خام اولیه با برندمتفاوت'!A:A,MATCH(C:C,'موجودی خام اولیه با برندمتفاوت'!C:C,0)),0)","v":0},null,null,null,null,0,0,0,null,null,null,{"$f":"COUNTIF('یکسان سازی برند'!K:K,'موجودی خام اولیه با برندمتفاوت'!K:K)","v":0},"کالای جدید، لطفا در شیت نقطه سفارش کد و نام کالا کپی شود"]
[{"$f":"IFERROR(INDEX('موجودی خام اولیه با برندمتفاوت'!A:A,MATCH(C:C,'موجودی خام اولیه با برندمتفاوت'!C:C,0)),0)","v":0},null,null,null,null,0,0,0,null,null,null,{"$f":"COUNTIF('یکسان سازی برند'!K:K,'موجودی خام اولیه با برندمتفاوت'!K:K)","v":0},"کالای جدید، لطفا در شیت نقطه سفارش کد و نام کالا کپی شود"]
[{"$f":"IFERROR(INDEX('موجودی خام اولیه با برندمتفاوت'!A:A,MATCH(C:C,'موجودی خام اولیه با برندمتفاوت'!C:C,0)),0)","v":0},null,null,null,null,0,0,0,null,null,null,{"$f":"COUNTIF('یکسان سازی برند'!K:K,'موجودی خام اولیه با برندمتفاوت'!K:K)","v":0},"کالای جدید، لطفا در شیت نقطه سفارش کد و نام کالا کپی شود"]
[{"$f":"IFERROR(INDEX('موجودی خام اولیه با برندمتفاوت'!A:A,MATCH(C:C,'موجودی خام اولیه با برندمتفاوت'!C:C,0)),0)","v":0},null,null,null,null,0,0,0,null,null,null,{"$f":"COUNTIF('یکسان سازی برند'!K:K,'موجودی خام اولیه با برندمتفاوت'!K:K)","v":0},"کالای جدید، لطفا در شیت نقطه سفارش کد و نام کالا کپی شود"]
[{"$f":"IFERROR(INDEX('موجودی خام اولیه با برندمتفاوت'!A:A,MATCH(C:C,'موجودی خام اولیه با برندمتفاوت'!C:C,0)),0)","v":0},null,null,null,null,0,0,0,null,null,null,{"$f":"COUNTIF('یکسان سازی برند'!K:K,'موجودی خام اولیه با برندمتفاوت'!K:K)","v":0},"کالای جدید، لطفا در شیت نقطه سفارش کد و نام کالا کپی شود"]
[{"$f":"IFERROR(INDEX('موجودی خام اولیه با برندمتفاوت'!A:A,MATCH(C:C,'موجودی خام اولیه با برندمتفاوت'!C:C,0)),0)","v":0},null,null,null,null,0,0,0,null,null,null,{"$f":"COUNTIF('یکسان سازی برند'!K:K,'موجودی خام اولیه با برندمتفاوت'!K:K)","v":0},"کالای جدید، لطفا در شیت نقطه سفارش کد و نام کالا کپی شود"]
[{"$f":"IFERROR(INDEX('موجودی خام اولیه با برندمتفاوت'!A:A,MATCH(C:C,'موجودی خام اولیه با برندمتفاوت'!C:C,0)),0)","v":0},null,null,null,null,0,0,0,null,null,null,{"$f":"COUNTIF('یکسان سازی برند'!K:K,'موجودی خام اولیه با برندمتفاوت'!K:K)","v":0},"کالای جدید، لطفا در شیت نقطه سفارش کد و نام کالا کپی شود"]
[{"$f":"IFERROR(INDEX('موجودی خام اولیه با برندمتفاوت'!A:A,MATCH(C:C,'موجودی خام اولیه با برندمتفاوت'!C:C,0)),0)","v":0},null,null,null,null,0,0,0,null,null,null,{"$f":"COUNTIF('یکسان سازی برند'!K:K,'موجودی خام اولیه با برندمتفاوت'!K:K)","v":0},"کالای جدید، لطفا در شیت نقطه سفارش کد و نام کالا کپی شود"]
[{"$f":"IFERROR(INDEX('موجودی خام اولیه با برندمتفاوت'!A:A,MATCH(C:C,'موجودی خام اولیه با برندمتفاوت'!C:C,0)),0)","v":0},null,null,null,null,0,0,0,null,null,null,{"$f":"COUNTIF('یکسان سازی برند'!K:K,'موجودی خام اولیه با برندمتفاوت'!K:K)","v":0},"کالای جدید، لطفا در شیت نقطه سفارش کد و نام کالا کپی شود"]
[{"$f":"IFERROR(INDEX('موجودی خام اولیه با برندمتفاوت'!A:A,MATCH(C:C,'موجودی خام اولیه با برندمتفاوت'!C:C,0)),0)","v":0},null,null,null,null,0,0,0,null,null,null,{"$f":"COUNTIF('یکسان سازی برند'!K:K,'موجودی خام اولیه با برندمتفاوت'!K:K)","v":0},"کالای جدید، لطفا در شیت نقطه سفارش کد و نام کالا کپی شود"]
[{"$f":"IFERROR(INDEX('موجودی خام اولیه با برندمتفاوت'!A:A,MATCH(C:C,'موجودی خام اولیه با برندمتفاوت'!C:C,0)),0)","v":0},null,null,null,null,0,0,0,null,null,null,{"$f":"COUNTIF('یکسان سازی برند'!K:K,'موجودی خام اولیه با برندمتفاوت'!K:K)","v":0},"کالای جدید، لطفا در شیت نقطه سفارش کد و نام کالا کپی شود"]
[{"$f":"IFERROR(INDEX('موجودی خام اولیه با برندمتفاوت'!A:A,MATCH(C:C,'موجودی خام اولیه با برندمتفاوت'!C:C,0)),0)","v":0},null,null,null,null,0,0,0,null,null,null,{"$f":"COUNTIF('یکسان سازی برند'!K:K,'موجودی خام اولیه با برندمتفاوت'!K:K)","v":0},"کالای جدید، لطفا در شیت نقطه سفارش کد و نام کالا کپی شود"]
[{"$f":"IFERROR(INDEX('موجودی خام اولیه با برندمتفاوت'!A:A,MATCH(C:C,'موجودی خام اولیه با برندمتفاوت'!C:C,0)),0)","v":0},null,null,null,null,0,0,0,null,null,null,{"$f":"COUNTIF('یکسان سازی برند'!K:K,'موجودی خام اولیه با برندمتفاوت'!K:K)","v":0},"کالای جدید، لطفا در شیت نقطه سفارش کد و نام کالا کپی شود"]
[{"$f":"IFERROR(INDEX('موجودی خام اولیه با برندمتفاوت'!A:A,MATCH(C:C,'موجودی خام اولیه با برندمتفاوت'!C:C,0)),0)","v":0},null,null,null,null,0,0,0,null,null,null,{"$f":"COUNTIF('یکسان سازی برند'!K:K,'موجودی خام اولیه با برندمتفاوت'!K:K)","v":0},"کالای جدید، لطفا در شیت نقطه سفارش کد و نام کالا کپی شود"]
[{"$f":"IFERROR(INDEX('موجودی خام اولیه با برندمتفاوت'!A:A,MATCH(C:C,'موجودی خام اولیه با برندمتفاوت'!C:C,0)),0)","v":0},null,null,null,null,0,0,0,null,null,null,{"$f":"COUNTIF('یکسان سازی برند'!K:K,'موجودی خام اولیه با برندمتفاوت'!K:K)","v":0},"کالای جدید، لطفا در شیت نقطه سفارش کد و نام کالا کپی شود"]
[{"$f":"IFERROR(INDEX('موجودی خام اولیه با برندمتفاوت'!A:A,MATCH(C:C,'موجودی خام اولیه با برندمتفاوت'!C:C,0)),0)","v":0},null,null,null,null,0,0,0,null,null,null,{"$f":"COUNTIF('یکسان سازی برند'!K:K,'موجودی خام اولیه با برندمتفاوت'!K:K)","v":0},"کالای جدید، لطفا در شیت نقطه سفارش کد و نام کالا کپی شود"]
[{"$f":"IFERROR(INDEX('موجودی خام اولیه با برندمتفاوت'!A:A,MATCH(C:C,'موجودی خام اولیه با برندمتفاوت'!C:C,0)),0)","v":0},null,null,null,null,0,0,0,null,null,null,{"$f":"COUNTIF('یکسان سازی برند'!K:K,'موجودی خام اولیه با برندمتفاوت'!K:K)","v":0},"کالای جدید، لطفا در شیت نقطه سفارش کد و نام کالا کپی شود"]
[{"$f":"IFERROR(INDEX('موجودی خام اولیه با برندمتفاوت'!A:A,MATCH(C:C,'موجودی خام اولیه با برندمتفاوت'!C:C,0)),0)","v":0},null,null,null,null,0,0,0,null,null,null,{"$f":"COUNTIF('یکسان سازی برند'!K:K,'موجودی خام اولیه با برندمتفاوت'!K:K)","v":0},"کالای جدید، لطفا در شیت نقطه سفارش کد و نام کالا کپی شود"]
[{"$f":"IFERROR(INDEX('موجودی خام اولیه با برندمتفاوت'!A:A,MATCH(C:C,'موجودی خام اولیه با برندمتفاوت'!C:C,0)),0)","v":0},null,null,null,null,0,0,0,null,null,null,{"$f":"COUNTIF('یکسان سازی برند'!K:K,'موجودی خام اولیه با برندمتفاوت'!K:K)","v":0},"کالای جدید، لطفا در شیت نقطه سفارش کد و نام کالا کپی شود"]
[{"$f":"IFERROR(INDEX('موجودی خام اولیه با برندمتفاوت'!A:A,MATCH(C:C,'موجودی خام اولیه با برندمتفاوت'!C:C,0)),0)","v":0},null,null,null,null,0,0,0,null,null,null,{"$f":"COUNTIF('یکسان سازی برند'!K:K,'موجودی خام اولیه با برندمتفاوت'!K:K)","v":0},"کالای جدید، لطفا در شیت نقطه سفارش کد و نام کالا کپی شود"]
[{"$f":"IFERROR(INDEX('موجودی خام اولیه با برندمتفاوت'!A:A,MATCH(C:C,'موجودی خام اولیه با برندمتفاوت'!C:C,0)),0)","v":0},null,null,null,null,0,0,0,null,null,null,{"$f":"COUNTIF('یکسان سازی برند'!K:K,'موجودی خام اولیه با برندمتفاوت'!K:K)","v":0},"کالای جدید، لطفا در شیت نقطه سفارش کد و نام کالا کپی شود"]
[{"$f":"IFERROR(INDEX('موجودی خام اولیه با برندمتفاوت'!A:A,MATCH(C:C,'موجودی خام اولیه با برندمتفاوت'!C:C,0)),0)","v":0},null,null,null,null,0,0,0,null,null,null,{"$f":"COUNTIF('یکسان سازی برند'!K:K,'موجودی خام اولیه با برندمتفاوت'!K:K)","v":0},"کالای جدید، لطفا در شیت نقطه سفارش کد و نام کالا کپی شود"]
[{"$f":"IFERROR(INDEX('موجودی خام اولیه با برندمتفاوت'!A:A,MATCH(C:C,'موجودی خام اولیه با برندمتفاوت'!C:C,0)),0)","v":0},null,null,null,null,0,0,0,null,null,null,{"$f":"COUNTIF('یکسان سازی برند'!K:K,'موجودی خام اولیه با برندمتفاوت'!K:K)","v":0},"کالای جدید، لطفا در شیت نقطه سفارش کد و نام کالا کپی شود"]
[{"$f":"IFERROR(INDEX('موجودی خام اولیه با برندمتفاوت'!A:A,MATCH(C:C,'موجودی خام اولیه با برندمتفاوت'!C:C,0)),0)","v":0},null,null,null,null,0,0,0,null,null,null,{"$f":"COUNTIF('یکسان سازی برند'!K:K,'موجودی خام اولیه با برندمتفاوت'!K:K)","v":0},"کالای جدید، لطفا در شیت نقطه سفارش کد و نام کالا کپی شود"]
[{"$f":"IFERROR(INDEX('موجودی خام اولیه با برندمتفاوت'!A:A,MATCH(C:C,'موجودی خام اولیه با برندمتفاوت'!C:C,0)),0)","v":0},null,null,null,null,0,0,0,null,null,null,{"$f":"COUNTIF('یکسان سازی برند'!K:K,'موجودی خام اولیه با برندمتفاوت'!K:K)","v":0},"کالای جدید، لطفا در شیت نقطه سفارش کد و نام کالا کپی شود"]
[{"$f":"IFERROR(INDEX('موجودی خام اولیه با برندمتفاوت'!A:A,MATCH(C:C,'موجودی خام اولیه با برندمتفاوت'!C:C,0)),0)","v":0},null,null,null,null,0,0,0,null,null,null,{"$f":"COUNTIF('یکسان سازی برند'!K:K,'موجودی خام اولیه با برندمتفاوت'!K:K)","v":0},"کالای جدید، لطفا در شیت نقطه سفارش کد و نام کالا کپی شود"]
[{"$f":"IFERROR(INDEX('موجودی خام اولیه با برندمتفاوت'!A:A,MATCH(C:C,'موجودی خام اولیه با برندمتفاوت'!C:C,0)),0)","v":0},null,null,null,null,0,0,0,null,null,null,{"$f":"COUNTIF('یکسان سازی برند'!K:K,'موجودی خام اولیه با برندمتفاوت'!K:K)","v":0},"کالای جدید، لطفا در شیت نقطه سفارش کد و نام کالا کپی شود"]
[{"$f":"IFERROR(INDEX('موجودی خام اولیه با برندمتفاوت'!A:A,MATCH(C:C,'موجودی خام اولیه با برندمتفاوت'!C:C,0)),0)","v":0},null,null,null,null,0,0,0,null,null,null,{"$f":"COUNTIF('یکسان سازی برند'!K:K,'موجودی خام اولیه با برندمتفاوت'!K:K)","v":0},"کالای جدید، لطفا در شیت نقطه سفارش کد و نام کالا کپی شود"]
[{"$f":"IFERROR(INDEX('موجودی خام اولیه با برندمتفاوت'!A:A,MATCH(C:C,'موجودی خام اولیه با برندمتفاوت'!C:C,0)),0)","v":0},null,null,null,null,0,0,0,null,null,null,{"$f":"COUNTIF('یکسان سازی برند'!K:K,'موجودی خام اولیه با برندمتفاوت'!K:K)","v":0},"کالای جدید، لطفا در شیت نقطه سفارش کد و نام کالا کپی شود"]
[{"$f":"IFERROR(INDEX('موجودی خام اولیه با برندمتفاوت'!A:A,MATCH(C:C,'موجودی خام اولیه با برندمتفاوت'!C:C,0)),0)","v":0},null,null,null,null,0,0,0,null,null,null,{"$f":"COUNTIF('یکسان سازی برند'!K:K,'موجودی خام اولیه با برندمتفاوت'!K:K)","v":0},"کالای جدید، لطفا در شیت نقطه سفارش کد و نام کالا کپی شود"]
[{"$f":"IFERROR(INDEX('موجودی خام اولیه با برندمتفاوت'!A:A,MATCH(C:C,'موجودی خام اولیه با برندمتفاوت'!C:C,0)),0)","v":0},null,null,null,null,0,0,0,null,null,null,{"$f":"COUNTIF('یکسان سازی برند'!K:K,'موجودی خام اولیه با برندمتفاوت'!K:K)","v":0},"کالای جدید، لطفا در شیت نقطه سفارش کد و نام کالا کپی شود"]
[{"$f":"IFERROR(INDEX('موجودی خام اولیه با برندمتفاوت'!A:A,MATCH(C:C,'موجودی خام اولیه با برندمتفاوت'!C:C,0)),0)","v":0},null,null,null,null,0,0,0,null,null,null,{"$f":"COUNTIF('یکسان سازی برند'!K:K,'موجودی خام اولیه با برندمتفاوت'!K:K)","v":0},"کالای جدید، لطفا در شیت نقطه سفارش کد و نام کالا کپی شود"]
[{"$f":"IFERROR(INDEX('موجودی خام اولیه با برندمتفاوت'!A:A,MATCH(C:C,'موجودی خام اولیه با برندمتفاوت'!C:C,0)),0)","v":0},null,null,null,null,0,0,0,null,null,null,{"$f":"COUNTIF('یکسان سازی برند'!K:K,'موجودی خام اولیه با برندمتفاوت'!K:K)","v":0},"کالای جدید، لطفا در شیت نقطه سفارش کد و نام کالا کپی شود"]
[{"$f":"IFERROR(INDEX('موجودی خام اولیه با برندمتفاوت'!A:A,MATCH(C:C,'موجودی خام اولیه با برندمتفاوت'!C:C,0)),0)","v":0},null,null,null,null,0,0,0,null,null,null,{"$f":"COUNTIF('یکسان سازی برند'!K:K,'موجودی خام اولیه با برندمتفاوت'!K:K)","v":0},"کالای جدید، لطفا در شیت نقطه سفارش کد و نام کالا کپی شود"]
[{"$f":"IFERROR(INDEX('موجودی خام اولیه با برندمتفاوت'!A:A,MATCH(C:C,'موجودی خام اولیه با برندمتفاوت'!C:C,0)),0)","v":0},null,null,null,null,0,0,0,null,null,null,{"$f":"COUNTIF('یکسان سازی برند'!K:K,'موجودی خام اولیه با برندمتفاوت'!K:K)","v":0},"کالای جدید، لطفا در شیت نقطه سفارش کد و نام کالا کپی شود"]
[{"$f":"IFERROR(INDEX('موجودی خام اولیه با برندمتفاوت'!A:A,MATCH(C:C,'موجودی خام اولیه با برندمتفاوت'!C:C,0)),0)","v":0},null,null,null,null,0,0,0,null,null,null,{"$f":"COUNTIF('یکسان سازی برند'!K:K,'موجودی خام اولیه با برندمتفاوت'!K:K)","v":0},"کالای جدید، لطفا در شیت نقطه سفارش کد و نام کالا کپی شود"]
[{"$f":"IFERROR(INDEX('موجودی خام اولیه با برندمتفاوت'!A:A,MATCH(C:C,'موجودی خام اولیه با برندمتفاوت'!C:C,0)),0)","v":0},null,null,null,null,0,0,0,null,null,null,{"$f":"COUNTIF('یکسان سازی برند'!K:K,'موجودی خام اولیه با برندمتفاوت'!K:K)","v":0},"کالای جدید، لطفا در شیت نقطه سفارش کد و نام کالا کپی شود"]
[{"$f":"IFERROR(INDEX('موجودی خام اولیه با برندمتفاوت'!A:A,MATCH(C:C,'موجودی خام اولیه با برندمتفاوت'!C:C,0)),0)","v":0},null,null,null,null,0,0,0,null,null,null,{"$f":"COUNTIF('یکسان سازی برند'!K:K,'موجودی خام اولیه با برندمتفاوت'!K:K)","v":0},"کالای جدید، لطفا در شیت نقطه سفارش کد و نام کالا کپی شود"]
[{"$f":"IFERROR(INDEX('موجودی خام اولیه با برندمتفاوت'!A:A,MATCH(C:C,'موجودی خام اولیه با برندمتفاوت'!C:C,0)),0)","v":0},null,null,null,null,0,0,0,null,null,null,{"$f":"COUNTIF('یکسان سازی برند'!K:K,'موجودی خام اولیه با برندمتفاوت'!K:K)","v":0},"کالای جدید، لطفا در شیت نقطه سفارش کد و نام کالا کپی شود"]
[{"$f":"IFERROR(INDEX('موجودی خام اولیه با برندمتفاوت'!A:A,MATCH(C:C,'موجودی خام اولیه با برندمتفاوت'!C:C,0)),0)","v":0},null,null,null,null,0,0,0,null,null,null,{"$f":"COUNTIF('یکسان سازی برند'!K:K,'موجودی خام اولیه با برندمتفاوت'!K:K)","v":0},"کالای جدید، لطفا در شیت نقطه سفارش کد و نام کالا کپی شود"]
[{"$f":"IFERROR(INDEX('موجودی خام اولیه با برندمتفاوت'!A:A,MATCH(C:C,'موجودی خام اولیه با برندمتفاوت'!C:C,0)),0)","v":0},null,null,null,null,0,0,0,null,null,null,{"$f":"COUNTIF('یکسان سازی برند'!K:K,'موجودی خام اولیه با برندمتفاوت'!K:K)","v":0},"کالای جدید، لطفا در شیت نقطه سفارش کد و نام کالا کپی شود"]
[{"$f":"IFERROR(INDEX('موجودی خام اولیه با برندمتفاوت'!A:A,MATCH(C:C,'موجودی خام اولیه با برندمتفاوت'!C:C,0)),0)","v":0},null,null,null,null,0,0,0,null,null,null,{"$f":"COUNTIF('یکسان سازی برند'!K:K,'موجودی خام اولیه با برندمتفاوت'!K:K)","v":0},"کالای جدید، لطفا در شیت نقطه سفارش کد و نام کالا کپی شود"]
[{"$f":"IFERROR(INDEX('موجودی خام اولیه با برندمتفاوت'!A:A,MATCH(C:C,'موجودی خام اولیه با برندمتفاوت'!C:C,0)),0)","v":0},null,null,null,null,0,0,0,null,null,null,{"$f":"COUNTIF('یکسان سازی برند'!K:K,'موجودی خام اولیه با برندمتفاوت'!K:K)","v":0},"کالای جدید، لطفا در شیت نقطه سفارش کد و نام کالا کپی شود"]
[{"$f":"IFERROR(INDEX('موجودی خام اولیه با برندمتفاوت'!A:A,MATCH(C:C,'موجودی خام اولیه با برندمتفاوت'!C:C,0)),0)","v":0},null,null,null,null,0,0,0,null,null,null,{"$f":"COUNTIF('یکسان سازی برند'!K:K,'موجودی خام اولیه با برندمتفاوت'!K:K)","v":0},"کالای جدید، لطفا در شیت نقطه سفارش کد و نام کالا کپی شود"]
[{"$f":"IFERROR(INDEX('موجودی خام اولیه با برندمتفاوت'!A:A,MATCH(C:C,'موجودی خام اولیه با برندمتفاوت'!C:C,0)),0)","v":0},null,null,null,null,0,0,0,null,null,null,{"$f":"COUNTIF('یکسان سازی برند'!K:K,'موجودی خام اولیه با برندمتفاوت'!K:K)","v":0},"کالای جدید، لطفا در شیت نقطه سفارش کد و نام کالا کپی شود"]
[{"$f":"IFERROR(INDEX('موجودی خام اولیه با برندمتفاوت'!A:A,MATCH(C:C,'موجودی خام اولیه با برندمتفاوت'!C:C,0)),0)","v":0},null,null,null,null,0,0,0,null,null,null,{"$f":"COUNTIF('یکسان سازی برند'!K:K,'موجودی خام اولیه با برندمتفاوت'!K:K)","v":0},"کالای جدید، لطفا در شیت نقطه سفارش کد و نام کالا کپی شود"]
[{"$f":"IFERROR(INDEX('موجودی خام اولیه با برندمتفاوت'!A:A,MATCH(C:C,'موجودی خام اولیه با برندمتفاوت'!C:C,0)),0)","v":0},null,null,null,null,0,0,0,null,null,null,{"$f":"COUNTIF('یکسان سازی برند'!K:K,'موجودی خام اولیه با برندمتفاوت'!K:K)","v":0},"کالای جدید، لطفا در شیت نقطه سفارش کد و نام کالا کپی شود"]
[{"$f":"IFERROR(INDEX('موجودی خام اولیه با برندمتفاوت'!A:A,MATCH(C:C,'موجودی خام اولیه با برندمتفاوت'!C:C,0)),0)","v":0},null,null,null,null,0,0,0,null,null,null,{"$f":"COUNTIF('یکسان سازی برند'!K:K,'موجودی خام اولیه با برندمتفاوت'!K:K)","v":0},"کالای جدید، لطفا در شیت نقطه سفارش کد و نام کالا کپی شود"]
[{"$f":"IFERROR(INDEX('موجودی خام اولیه با برندمتفاوت'!A:A,MATCH(C:C,'موجودی خام اولیه با برندمتفاوت'!C:C,0)),0)","v":0},null,null,null,null,{"$f":"IF(E451=\"\",A451,SUMIF(E:E,E451,A:A))","v":0},{"$f":"IF(E451=\"\",B451,D451)","v":0},{"$f":"IF(E451=\"\",C451,E451)","v":0},null,null,null,{"$f":"COUNTIF('یکسان سازی برند'!K:K,'موجودی خام اولیه با برندمتفاوت'!K:K)","v":0},"کالای جدید، لطفا در شیت نقطه سفارش کد و نام کالا کپی شود"]
[{"$f":"IFERROR(INDEX('موجودی خام اولیه با برندمتفاوت'!A:A,MATCH(C:C,'موجودی خام اولیه با برندمتفاوت'!C:C,0)),0)","v":0},null,null,null,null,0,0,0,null,null,null,{"$f":"COUNTIF('یکسان سازی برند'!K:K,'موجودی خام اولیه با برندمتفاوت'!K:K)","v":0},{"$f":"IF(L:L=0,\"کالای جدید، لطفا در شیت نقطه سفارش کد و نام کالا کپی شود\",\"\")","v":"کالای جدید، لطفا در شیت نقطه سفارش کد و نام کالا کپی شود"}]
[{"$f":"IFERROR(INDEX('موجودی خام اولیه با برندمتفاوت'!A:A,MATCH(C:C,'موجودی خام اولیه با برندمتفاوت'!C:C,0)),0)","v":0},null,null,null,null,0,0,0,null,null,null,{"$f":"COUNTIF('یکسان سازی برند'!K:K,'موجودی خام اولیه با برندمتفاوت'!K:K)","v":0},"کالای جدید، لطفا در شیت نقطه سفارش کد و نام کالا کپی شود"]
[{"$f":"IFERROR(INDEX('موجودی خام اولیه با برندمتفاوت'!A:A,MATCH(C:C,'موجودی خام اولیه با برندمتفاوت'!C:C,0)),0)","v":0},null,null,null,null,0,0,0,null,null,null,{"$f":"COUNTIF('یکسان سازی برند'!K:K,'موجودی خام اولیه با برندمتفاوت'!K:K)","v":0},"کالای جدید، لطفا در شیت نقطه سفارش کد و نام کالا کپی شود"]
[{"$f":"IFERROR(INDEX('موجودی خام اولیه با برندمتفاوت'!A:A,MATCH(C:C,'موجودی خام اولیه با برندمتفاوت'!C:C,0)),0)","v":0},null,null,null,null,0,0,0,null,null,null,{"$f":"COUNTIF('یکسان سازی برند'!K:K,'موجودی خام اولیه با برندمتفاوت'!K:K)","v":0},"کالای جدید، لطفا در شیت نقطه سفارش کد و نام کالا کپی شود"]
[{"$f":"IFERROR(INDEX('موجودی خام اولیه با برندمتفاوت'!A:A,MATCH(C:C,'موجودی خام اولیه با برندمتفاوت'!C:C,0)),0)","v":0},null,null,null,null,0,0,0,null,null,null,{"$f":"COUNTIF('یکسان سازی برند'!K:K,'موجودی خام اولیه با برندمتفاوت'!K:K)","v":0},"کالای جدید، لطفا در شیت نقطه سفارش کد و نام کالا کپی شود"]
[{"$f":"IFERROR(INDEX('موجودی خام اولیه با برندمتفاوت'!A:A,MATCH(C:C,'موجودی خام اولیه با برندمتفاوت'!C:C,0)),0)","v":0},null,null,null,null,0,0,0,null,null,null,{"$f":"COUNTIF('یکسان سازی برند'!K:K,'موجودی خام اولیه با برندمتفاوت'!K:K)","v":0},"کالای جدید، لطفا در شیت نقطه سفارش کد و نام کالا کپی شود"]
[{"$f":"IFERROR(INDEX('موجودی خام اولیه با برندمتفاوت'!A:A,MATCH(C:C,'موجودی خام اولیه با برندمتفاوت'!C:C,0)),0)","v":0},null,null,null,null,0,0,0,null,null,null,{"$f":"COUNTIF('یکسان سازی برند'!K:K,'موجودی خام اولیه با برندمتفاوت'!K:K)","v":0},"کالای جدید، لطفا در شیت نقطه سفارش کد و نام کالا کپی شود"]
[{"$f":"IFERROR(INDEX('موجودی خام اولیه با برندمتفاوت'!A:A,MATCH(C:C,'موجودی خام اولیه با برندمتفاوت'!C:C,0)),0)","v":0},null,null,null,null,0,0,0,null,null,null,{"$f":"COUNTIF('یکسان سازی برند'!K:K,'موجودی خام اولیه با برندمتفاوت'!K:K)","v":0},"کالای جدید، لطفا در شیت نقطه سفارش کد و نام کالا کپی شود"]
[{"$f":"IFERROR(INDEX('موجودی خام اولیه با برندمتفاوت'!A:A,MATCH(C:C,'موجودی خام اولیه با برندمتفاوت'!C:C,0)),0)","v":0},null,null,null,null,0,0,0,null,null,null,{"$f":"COUNTIF('یکسان سازی برند'!K:K,'موجودی خام اولیه با برندمتفاوت'!K:K)","v":0},"کالای جدید، لطفا در شیت نقطه سفارش کد و نام کالا کپی شود"]
[{"$f":"IFERROR(INDEX('موجودی خام اولیه با برندمتفاوت'!A:A,MATCH(C:C,'موجودی خام اولیه با برندمتفاوت'!C:C,0)),0)","v":0},null,null,null,null,0,0,0,null,null,null,{"$f":"COUNTIF('یکسان سازی برند'!K:K,'موجودی خام اولیه با برندمتفاوت'!K:K)","v":0},"کالای جدید، لطفا در شیت نقطه سفارش کد و نام کالا کپی شود"]
[{"$f":"IFERROR(INDEX('موجودی خام اولیه با برندمتفاوت'!A:A,MATCH(C:C,'موجودی خام اولیه با برندمتفاوت'!C:C,0)),0)","v":0},null,null,null,null,0,0,0,null,null,null,{"$f":"COUNTIF('یکسان سازی برند'!K:K,'موجودی خام اولیه با برندمتفاوت'!K:K)","v":0},"کالای جدید، لطفا در شیت نقطه سفارش کد و نام کالا کپی شود"]
[{"$f":"IFERROR(INDEX('موجودی خام اولیه با برندمتفاوت'!A:A,MATCH(C:C,'موجودی خام اولیه با برندمتفاوت'!C:C,0)),0)","v":0},null,null,null,null,0,0,0,null,null,null,{"$f":"COUNTIF('یکسان سازی برند'!K:K,'موجودی خام اولیه با برندمتفاوت'!K:K)","v":0},"کالای جدید، لطفا در شیت نقطه سفارش کد و نام کالا کپی شود"]
[{"$f":"IFERROR(INDEX('موجودی خام اولیه با برندمتفاوت'!A:A,MATCH(C:C,'موجودی خام اولیه با برندمتفاوت'!C:C,0)),0)","v":0},null,null,null,null,0,0,0,null,null,null,{"$f":"COUNTIF('یکسان سازی برند'!K:K,'موجودی خام اولیه با برندمتفاوت'!K:K)","v":0},"کالای جدید، لطفا در شیت نقطه سفارش کد و نام کالا کپی شود"]
[{"$f":"IFERROR(INDEX('موجودی خام اولیه با برندمتفاوت'!A:A,MATCH(C:C,'موجودی خام اولیه با برندمتفاوت'!C:C,0)),0)","v":0},null,null,null,null,0,0,0,null,null,null,{"$f":"COUNTIF('یکسان سازی برند'!K:K,'موجودی خام اولیه با برندمتفاوت'!K:K)","v":0},"کالای جدید، لطفا در شیت نقطه سفارش کد و نام کالا کپی شود"]
[{"$f":"IFERROR(INDEX('موجودی خام اولیه با برندمتفاوت'!A:A,MATCH(C:C,'موجودی خام اولیه با برندمتفاوت'!C:C,0)),0)","v":0},null,null,null,null,0,0,0,null,null,null,{"$f":"COUNTIF('یکسان سازی برند'!K:K,'موجودی خام اولیه با برندمتفاوت'!K:K)","v":0},"کالای جدید، لطفا در شیت نقطه سفارش کد و نام کالا کپی شود"]
[{"$f":"IFERROR(INDEX('موجودی خام اولیه با برندمتفاوت'!A:A,MATCH(C:C,'موجودی خام اولیه با برندمتفاوت'!C:C,0)),0)","v":0},null,null,null,null,0,0,0,null,null,null,{"$f":"COUNTIF('یکسان سازی برند'!K:K,'موجودی خام اولیه با برندمتفاوت'!K:K)","v":0},"کالای جدید، لطفا در شیت نقطه سفارش کد و نام کالا کپی شود"]
[{"$f":"IFERROR(INDEX('موجودی خام اولیه با برندمتفاوت'!A:A,MATCH(C:C,'موجودی خام اولیه با برندمتفاوت'!C:C,0)),0)","v":0},null,null,null,null,0,0,0,null,null,null,{"$f":"COUNTIF('یکسان سازی برند'!K:K,'موجودی خام اولیه با برندمتفاوت'!K:K)","v":0},"کالای جدید، لطفا در شیت نقطه سفارش کد و نام کالا کپی شود"]
[{"$f":"IFERROR(INDEX('موجودی خام اولیه با برندمتفاوت'!A:A,MATCH(C:C,'موجودی خام اولیه با برندمتفاوت'!C:C,0)),0)","v":0},null,null,null,null,0,0,0,null,null,null,{"$f":"COUNTIF('یکسان سازی برند'!K:K,'موجودی خام اولیه با برندمتفاوت'!K:K)","v":0},"کالای جدید، لطفا در شیت نقطه سفارش کد و نام کالا کپی شود"]
[{"$f":"IFERROR(INDEX('موجودی خام اولیه با برندمتفاوت'!A:A,MATCH(C:C,'موجودی خام اولیه با برندمتفاوت'!C:C,0)),0)","v":0},null,null,null,null,0,0,0,null,null,null,{"$f":"COUNTIF('یکسان سازی برند'!K:K,'موجودی خام اولیه با برندمتفاوت'!K:K)","v":0},"کالای جدید، لطفا در شیت نقطه سفارش کد و نام کالا کپی شود"]
[{"$f":"IFERROR(INDEX('موجودی خام اولیه با برندمتفاوت'!A:A,MATCH(C:C,'موجودی خام اولیه با برندمتفاوت'!C:C,0)),0)","v":0},null,null,null,null,0,0,0,null,null,null,{"$f":"COUNTIF('یکسان سازی برند'!K:K,'موجودی خام اولیه با برندمتفاوت'!K:K)","v":0},"کالای جدید، لطفا در شیت نقطه سفارش کد و نام کالا کپی شود"]
[{"$f":"IFERROR(INDEX('موجودی خام اولیه با برندمتفاوت'!A:A,MATCH(C:C,'موجودی خام اولیه با برندمتفاوت'!C:C,0)),0)","v":0},null,null,null,null,0,0,0,null,null,null,{"$f":"COUNTIF('یکسان سازی برند'!K:K,'موجودی خام اولیه با برندمتفاوت'!K:K)","v":0},"کالای جدید، لطفا در شیت نقطه سفارش کد و نام کالا کپی شود"]
[{"$f":"IFERROR(INDEX('موجودی خام اولیه با برندمتفاوت'!A:A,MATCH(C:C,'موجودی خام اولیه با برندمتفاوت'!C:C,0)),0)","v":0},null,null,null,null,0,0,0,null,null,null,{"$f":"COUNTIF('یکسان سازی برند'!K:K,'موجودی خام اولیه با برندمتفاوت'!K:K)","v":0},"کالای جدید، لطفا در شیت نقطه سفارش کد و نام کالا کپی شود"]
[{"$f":"IFERROR(INDEX('موجودی خام اولیه با برندمتفاوت'!A:A,MATCH(C:C,'موجودی خام اولیه با برندمتفاوت'!C:C,0)),0)","v":0},null,null,null,null,0,0,0,null,null,null,{"$f":"COUNTIF('یکسان سازی برند'!K:K,'موجودی خام اولیه با برندمتفاوت'!K:K)","v":0},"کالای جدید، لطفا در شیت نقطه سفارش کد و نام کالا کپی شود"]
[{"$f":"IFERROR(INDEX('موجودی خام اولیه با برندمتفاوت'!A:A,MATCH(C:C,'موجودی خام اولیه با برندمتفاوت'!C:C,0)),0)","v":0},null,null,null,null,0,0,0,null,null,null,{"$f":"COUNTIF('یکسان سازی برند'!K:K,'موجودی خام اولیه با برندمتفاوت'!K:K)","v":0},"کالای جدید، لطفا در شیت نقطه سفارش کد و نام کالا کپی شود"]
[{"$f":"IFERROR(INDEX('موجودی خام اولیه با برندمتفاوت'!A:A,MATCH(C:C,'موجودی خام اولیه با برندمتفاوت'!C:C,0)),0)","v":0},null,null,null,null,0,0,0,null,null,null,{"$f":"COUNTIF('یکسان سازی برند'!K:K,'موجودی خام اولیه با برندمتفاوت'!K:K)","v":0},"کالای جدید، لطفا در شیت نقطه سفارش کد و نام کالا کپی شود"]
[{"$f":"IFERROR(INDEX('موجودی خام اولیه با برندمتفاوت'!A:A,MATCH(C:C,'موجودی خام اولیه با برندمتفاوت'!C:C,0)),0)","v":0},null,null,null,null,0,0,0,null,null,null,{"$f":"COUNTIF('یکسان سازی برند'!K:K,'موجودی خام اولیه با برندمتفاوت'!K:K)","v":0},"کالای جدید، لطفا در شیت نقطه سفارش کد و نام کالا کپی شود"]
[{"$f":"IFERROR(INDEX('موجودی خام اولیه با برندمتفاوت'!A:A,MATCH(C:C,'موجودی خام اولیه با برندمتفاوت'!C:C,0)),0)","v":0},null,null,null,null,0,0,0,null,null,null,{"$f":"COUNTIF('یکسان سازی برند'!K:K,'موجودی خام اولیه با برندمتفاوت'!K:K)","v":0},"کالای جدید، لطفا در شیت نقطه سفارش کد و نام کالا کپی شود"]
[{"$f":"IFERROR(INDEX('موجودی خام اولیه با برندمتفاوت'!A:A,MATCH(C:C,'موجودی خام اولیه با برندمتفاوت'!C:C,0)),0)","v":0},null,null,null,null,0,0,0,null,null,null,{"$f":"COUNTIF('یکسان سازی برند'!K:K,'موجودی خام اولیه با برندمتفاوت'!K:K)","v":0},"کالای جدید، لطفا در شیت نقطه سفارش کد و نام کالا کپی شود"]
[{"$f":"IFERROR(INDEX('موجودی خام اولیه با برندمتفاوت'!A:A,MATCH(C:C,'موجودی خام اولیه با برندمتفاوت'!C:C,0)),0)","v":0},null,null,null,null,0,0,0,null,null,null,{"$f":"COUNTIF('یکسان سازی برند'!K:K,'موجودی خام اولیه با برندمتفاوت'!K:K)","v":0},"کالای جدید، لطفا در شیت نقطه سفارش کد و نام کالا کپی شود"]
[{"$f":"IFERROR(INDEX('موجودی خام اولیه با برندمتفاوت'!A:A,MATCH(C:C,'موجودی خام اولیه با برندمتفاوت'!C:C,0)),0)","v":0},null,null,null,null,0,0,0,null,null,null,{"$f":"COUNTIF('یکسان سازی برند'!K:K,'موجودی خام اولیه با برندمتفاوت'!K:K)","v":0},"کالای جدید، لطفا در شیت نقطه سفارش کد و نام کالا کپی شود"]
[{"$f":"IFERROR(INDEX('موجودی خام اولیه با برندمتفاوت'!A:A,MATCH(C:C,'موجودی خام اولیه با برندمتفاوت'!C:C,0)),0)","v":0},null,null,null,null,0,0,0,null,null,null,{"$f":"COUNTIF('یکسان سازی برند'!K:K,'موجودی خام اولیه با برندمتفاوت'!K:K)","v":0},"کالای جدید، لطفا در شیت نقطه سفارش کد و نام کالا کپی شود"]
[{"$f":"IFERROR(INDEX('موجودی خام اولیه با برندمتفاوت'!A:A,MATCH(C:C,'موجودی خام اولیه با برندمتفاوت'!C:C,0)),0)","v":0},null,null,null,null,0,0,0,null,null,null,{"$f":"COUNTIF('یکسان سازی برند'!K:K,'موجودی خام اولیه با برندمتفاوت'!K:K)","v":0},"کالای جدید، لطفا در شیت نقطه سفارش کد و نام کالا کپی شود"]
[{"$f":"IFERROR(INDEX('موجودی خام اولیه با برندمتفاوت'!A:A,MATCH(C:C,'موجودی خام اولیه با برندمتفاوت'!C:C,0)),0)","v":0},null,null,null,null,0,0,0,null,null,null,{"$f":"COUNTIF('یکسان سازی برند'!K:K,'موجودی خام اولیه با برندمتفاوت'!K:K)","v":0},"کالای جدید، لطفا در شیت نقطه سفارش کد و نام کالا کپی شود"]
[{"$f":"IFERROR(INDEX('موجودی خام اولیه با برندمتفاوت'!A:A,MATCH(C:C,'موجودی خام اولیه با برندمتفاوت'!C:C,0)),0)","v":0},null,null,null,null,0,0,0,null,null,null,{"$f":"COUNTIF('یکسان سازی برند'!K:K,'موجودی خام اولیه با برندمتفاوت'!K:K)","v":0},"کالای جدید، لطفا در شیت نقطه سفارش کد و نام کالا کپی شود"]
[{"$f":"IFERROR(INDEX('موجودی خام اولیه با برندمتفاوت'!A:A,MATCH(C:C,'موجودی خام اولیه با برندمتفاوت'!C:C,0)),0)","v":0},null,null,null,null,0,0,0,null,null,null,{"$f":"COUNTIF('یکسان سازی برند'!K:K,'موجودی خام اولیه با برندمتفاوت'!K:K)","v":0},"کالای جدید، لطفا در شیت نقطه سفارش کد و نام کالا کپی شود"]
[{"$f":"IFERROR(INDEX('موجودی خام اولیه با برندمتفاوت'!A:A,MATCH(C:C,'موجودی خام اولیه با برندمتفاوت'!C:C,0)),0)","v":0},null,null,null,null,0,0,0,null,null,null,{"$f":"COUNTIF('یکسان سازی برند'!K:K,'موجودی خام اولیه با برندمتفاوت'!K:K)","v":0},"کالای جدید، لطفا در شیت نقطه سفارش کد و نام کالا کپی شود"]
[{"$f":"IFERROR(INDEX('موجودی خام اولیه با برندمتفاوت'!A:A,MATCH(C:C,'موجودی خام اولیه با برندمتفاوت'!C:C,0)),0)","v":0},null,null,null,null,0,0,0,null,null,null,{"$f":"COUNTIF('یکسان سازی برند'!K:K,'موجودی خام اولیه با برندمتفاوت'!K:K)","v":0},"کالای جدید، لطفا در شیت نقطه سفارش کد و نام کالا کپی شود"]
[{"$f":"IFERROR(INDEX('موجودی خام اولیه با برندمتفاوت'!A:A,MATCH(C:C,'موجودی خام اولیه با برندمتفاوت'!C:C,0)),0)","v":0},null,null,null,null,0,0,0,null,null,null,{"$f":"COUNTIF('یکسان سازی برند'!K:K,'موجودی خام اولیه با برندمتفاوت'!K:K)","v":0},"کالای جدید، لطفا در شیت نقطه سفارش کد و نام کالا کپی شود"]
[{"$f":"IFERROR(INDEX('موجودی خام اولیه با برندمتفاوت'!A:A,MATCH(C:C,'موجودی خام اولیه با برندمتفاوت'!C:C,0)),0)","v":0},null,null,null,null,0,0,0,null,null,null,{"$f":"COUNTIF('یکسان سازی برند'!K:K,'موجودی خام اولیه با برندمتفاوت'!K:K)","v":0},"کالای جدید، لطفا در شیت نقطه سفارش کد و نام کالا کپی شود"]
[{"$f":"IFERROR(INDEX('موجودی خام اولیه با برندمتفاوت'!A:A,MATCH(C:C,'موجودی خام اولیه با برندمتفاوت'!C:C,0)),0)","v":0},null,null,null,null,0,0,0,null,null,null,{"$f":"COUNTIF('یکسان سازی برند'!K:K,'موجودی خام اولیه با برندمتفاوت'!K:K)","v":0},"کالای جدید، لطفا در شیت نقطه سفارش کد و نام کالا کپی شود"]
[{"$f":"IFERROR(INDEX('موجودی خام اولیه با برندمتفاوت'!A:A,MATCH(C:C,'موجودی خام اولیه با برندمتفاوت'!C:C,0)),0)","v":0},null,null,null,null,0,0,0,null,null,null,{"$f":"COUNTIF('یکسان سازی برند'!K:K,'موجودی خام اولیه با برندمتفاوت'!K:K)","v":0},"کالای جدید، لطفا در شیت نقطه سفارش کد و نام کالا کپی شود"]
[{"$f":"IFERROR(INDEX('موجودی خام اولیه با برندمتفاوت'!A:A,MATCH(C:C,'موجودی خام اولیه با برندمتفاوت'!C:C,0)),0)","v":0},null,null,null,null,0,0,0,null,null,null,{"$f":"COUNTIF('یکسان سازی برند'!K:K,'موجودی خام اولیه با برندمتفاوت'!K:K)","v":0},"کالای جدید، لطفا در شیت نقطه سفارش کد و نام کالا کپی شود"]
[{"$f":"IFERROR(INDEX('موجودی خام اولیه با برندمتفاوت'!A:A,MATCH(C:C,'موجودی خام اولیه با برندمتفاوت'!C:C,0)),0)","v":0},null,null,null,null,0,0,0,null,null,null,{"$f":"COUNTIF('یکسان سازی برند'!K:K,'موجودی خام اولیه با برندمتفاوت'!K:K)","v":0},"کالای جدید، لطفا در شیت نقطه سفارش کد و نام کالا کپی شود"]
[{"$f":"IFERROR(INDEX('موجودی خام اولیه با برندمتفاوت'!A:A,MATCH(C:C,'موجودی خام اولیه با برندمتفاوت'!C:C,0)),0)","v":0},null,null,null,null,0,0,0,null,null,null,{"$f":"COUNTIF('یکسان سازی برند'!K:K,'موجودی خام اولیه با برندمتفاوت'!K:K)","v":0},"کالای جدید، لطفا در شیت نقطه سفارش کد و نام کالا کپی شود"]
[{"$f":"IFERROR(INDEX('موجودی خام اولیه با برندمتفاوت'!A:A,MATCH(C:C,'موجودی خام اولیه با برندمتفاوت'!C:C,0)),0)","v":0},null,null,null,null,0,0,0,null,null,null,{"$f":"COUNTIF('یکسان سازی برند'!K:K,'موجودی خام اولیه با برندمتفاوت'!K:K)","v":0},"کالای جدید، لطفا در شیت نقطه سفارش کد و نام کالا کپی شود"]
[{"$f":"IFERROR(INDEX('موجودی خام اولیه با برندمتفاوت'!A:A,MATCH(C:C,'موجودی خام اولیه با برندمتفاوت'!C:C,0)),0)","v":0},null,null,null,null,0,0,0,null,null,null,{"$f":"COUNTIF('یکسان سازی برند'!K:K,'موجودی خام اولیه با برندمتفاوت'!K:K)","v":0},"کالای جدید، لطفا در شیت نقطه سفارش کد و نام کالا کپی شود"]
[{"$f":"IFERROR(INDEX('موجودی خام اولیه با برندمتفاوت'!A:A,MATCH(C:C,'موجودی خام اولیه با برندمتفاوت'!C:C,0)),0)","v":0},null,null,null,null,0,0,0,null,null,null,{"$f":"COUNTIF('یکسان سازی برند'!K:K,'موجودی خام اولیه با برندمتفاوت'!K:K)","v":0},"کالای جدید، لطفا در شیت نقطه سفارش کد و نام کالا کپی شود"]
[{"$f":"IFERROR(INDEX('موجودی خام اولیه با برندمتفاوت'!A:A,MATCH(C:C,'موجودی خام اولیه با برندمتفاوت'!C:C,0)),0)","v":0},null,null,null,null,0,0,0,null,null,null,{"$f":"COUNTIF('یکسان سازی برند'!K:K,'موجودی خام اولیه با برندمتفاوت'!K:K)","v":0},"کالای جدید، لطفا در شیت نقطه سفارش کد و نام کالا کپی شود"]
[{"$f":"IFERROR(INDEX('موجودی خام اولیه با برندمتفاوت'!A:A,MATCH(C:C,'موجودی خام اولیه با برندمتفاوت'!C:C,0)),0)","v":0},null,null,null,null,0,0,0,null,null,null,{"$f":"COUNTIF('یکسان سازی برند'!K:K,'موجودی خام اولیه با برندمتفاوت'!K:K)","v":0},"کالای جدید، لطفا در شیت نقطه سفارش کد و نام کالا کپی شود"]
[{"$f":"IFERROR(INDEX('موجودی خام اولیه با برندمتفاوت'!A:A,MATCH(C:C,'موجودی خام اولیه با برندمتفاوت'!C:C,0)),0)","v":0},null,null,null,null,0,0,0,null,null,null,{"$f":"COUNTIF('یکسان سازی برند'!K:K,'موجودی خام اولیه با برندمتفاوت'!K:K)","v":0},"کالای جدید، لطفا در شیت نقطه سفارش کد و نام کالا کپی شود"]
[{"$f":"IFERROR(INDEX('موجودی خام اولیه با برندمتفاوت'!A:A,MATCH(C:C,'موجودی خام اولیه با برندمتفاوت'!C:C,0)),0)","v":0},null,null,null,null,0,0,0,null,null,null,{"$f":"COUNTIF('یکسان سازی برند'!K:K,'موجودی خام اولیه با برندمتفاوت'!K:K)","v":0},"کالای جدید، لطفا در شیت نقطه سفارش کد و نام کالا کپی شود"]
[{"$f":"IFERROR(INDEX('موجودی خام اولیه با برندمتفاوت'!A:A,MATCH(C:C,'موجودی خام اولیه با برندمتفاوت'!C:C,0)),0)","v":0},null,null,null,null,0,0,0,null,null,null,{"$f":"COUNTIF('یکسان سازی برند'!K:K,'موجودی خام اولیه با برندمتفاوت'!K:K)","v":0},"کالای جدید، لطفا در شیت نقطه سفارش کد و نام کالا کپی شود"]
[{"$f":"IFERROR(INDEX('موجودی خام اولیه با برندمتفاوت'!A:A,MATCH(C:C,'موجودی خام اولیه با برندمتفاوت'!C:C,0)),0)","v":0},null,null,null,null,0,0,0,null,null,null,{"$f":"COUNTIF('یکسان سازی برند'!K:K,'موجودی خام اولیه با برندمتفاوت'!K:K)","v":0},"کالای جدید، لطفا در شیت نقطه سفارش کد و نام کالا کپی شود"]
[{"$f":"IFERROR(INDEX('موجودی خام اولیه با برندمتفاوت'!A:A,MATCH(C:C,'موجودی خام اولیه با برندمتفاوت'!C:C,0)),0)","v":0},null,null,null,null,0,0,0,null,null,null,{"$f":"COUNTIF('یکسان سازی برند'!K:K,'موجودی خام اولیه با برندمتفاوت'!K:K)","v":0},"کالای جدید، لطفا در شیت نقطه سفارش کد و نام کالا کپی شود"]
[{"$f":"IFERROR(INDEX('موجودی خام اولیه با برندمتفاوت'!A:A,MATCH(C:C,'موجودی خام اولیه با برندمتفاوت'!C:C,0)),0)","v":0},null,null,null,null,0,0,0,null,null,null,{"$f":"COUNTIF('یکسان سازی برند'!K:K,'موجودی خام اولیه با برندمتفاوت'!K:K)","v":0},"کالای جدید، لطفا در شیت نقطه سفارش کد و نام کالا کپی شود"]
[{"$f":"IFERROR(INDEX('موجودی خام اولیه با برندمتفاوت'!A:A,MATCH(C:C,'موجودی خام اولیه با برندمتفاوت'!C:C,0)),0)","v":0},null,null,null,null,0,0,0,null,null,null,{"$f":"COUNTIF('یکسان سازی برند'!K:K,'موجودی خام اولیه با برندمتفاوت'!K:K)","v":0},"کالای جدید، لطفا در شیت نقطه سفارش کد و نام کالا کپی شود"]
[{"$f":"IFERROR(INDEX('موجودی خام اولیه با برندمتفاوت'!A:A,MATCH(C:C,'موجودی خام اولیه با برندمتفاوت'!C:C,0)),0)","v":0},null,null,null,null,0,0,0,null,null,null,{"$f":"COUNTIF('یکسان سازی برند'!K:K,'موجودی خام اولیه با برندمتفاوت'!K:K)","v":0},"کالای جدید، لطفا در شیت نقطه سفارش کد و نام کالا کپی شود"]
[{"$f":"IFERROR(INDEX('موجودی خام اولیه با برندمتفاوت'!A:A,MATCH(C:C,'موجودی خام اولیه با برندمتفاوت'!C:C,0)),0)","v":0},null,null,null,null,0,0,0,null,null,null,{"$f":"COUNTIF('یکسان سازی برند'!K:K,'موجودی خام اولیه با برندمتفاوت'!K:K)","v":0},"کالای جدید، لطفا در شیت نقطه سفارش کد و نام کالا کپی شود"]
[{"$f":"IFERROR(INDEX('موجودی خام اولیه با برندمتفاوت'!A:A,MATCH(C:C,'موجودی خام اولیه با برندمتفاوت'!C:C,0)),0)","v":0},null,null,null,null,0,0,0,null,null,null,{"$f":"COUNTIF('یکسان سازی برند'!K:K,'موجودی خام اولیه با برندمتفاوت'!K:K)","v":0},"کالای جدید، لطفا در شیت نقطه سفارش کد و نام کالا کپی شود"]
[{"$f":"IFERROR(INDEX('موجودی خام اولیه با برندمتفاوت'!A:A,MATCH(C:C,'موجودی خام اولیه با برندمتفاوت'!C:C,0)),0)","v":0},null,null,null,null,0,0,0,null,null,null,{"$f":"COUNTIF('یکسان سازی برند'!K:K,'موجودی خام اولیه با برندمتفاوت'!K:K)","v":0},"کالای جدید، لطفا در شیت نقطه سفارش کد و نام کالا کپی شود"]
[{"$f":"IFERROR(INDEX('موجودی خام اولیه با برندمتفاوت'!A:A,MATCH(C:C,'موجودی خام اولیه با برندمتفاوت'!C:C,0)),0)","v":0},null,null,null,null,0,0,0,null,null,null,{"$f":"COUNTIF('یکسان سازی برند'!K:K,'موجودی خام اولیه با برندمتفاوت'!K:K)","v":0},"کالای جدید، لطفا در شیت نقطه سفارش کد و نام کالا کپی شود"]
[{"$f":"IFERROR(INDEX('موجودی خام اولیه با برندمتفاوت'!A:A,MATCH(C:C,'موجودی خام اولیه با برندمتفاوت'!C:C,0)),0)","v":0},null,null,null,null,0,0,0,null,null,null,{"$f":"COUNTIF('یکسان سازی برند'!K:K,'موجودی خام اولیه با برندمتفاوت'!K:K)","v":0},"کالای جدید، لطفا در شیت نقطه سفارش کد و نام کالا کپی شود"]
[{"$f":"IFERROR(INDEX('موجودی خام اولیه با برندمتفاوت'!A:A,MATCH(C:C,'موجودی خام اولیه با برندمتفاوت'!C:C,0)),0)","v":0},null,null,null,null,0,0,0,null,null,null,{"$f":"COUNTIF('یکسان سازی برند'!K:K,'موجودی خام اولیه با برندمتفاوت'!K:K)","v":0},"کالای جدید، لطفا در شیت نقطه سفارش کد و نام کالا کپی شود"]
[{"$f":"IFERROR(INDEX('موجودی خام اولیه با برندمتفاوت'!A:A,MATCH(C:C,'موجودی خام اولیه با برندمتفاوت'!C:C,0)),0)","v":0},null,null,null,null,{"$f":"IF(E515=\"\",A515,SUMIF(E:E,E515,A:A))","v":0},{"$f":"IF(E515=\"\",B515,D515)","v":0},{"$f":"IF(E515=\"\",C515,E515)","v":0},null,null,null,{"$f":"COUNTIF('یکسان سازی برند'!K:K,'موجودی خام اولیه با برندمتفاوت'!K:K)","v":0},"کالای جدید، لطفا در شیت نقطه سفارش کد و نام کالا کپی شود"]
[{"$f":"IFERROR(INDEX('موجودی خام اولیه با برندمتفاوت'!A:A,MATCH(C:C,'موجودی خام اولیه با برندمتفاوت'!C:C,0)),0)","v":0},null,null,null,null,0,0,0,null,null,null,{"$f":"COUNTIF('یکسان سازی برند'!K:K,'موجودی خام اولیه با برندمتفاوت'!K:K)","v":0},{"$f":"IF(L:L=0,\"کالای جدید، لطفا در شیت نقطه سفارش کد و نام کالا کپی شود\",\"\")","v":"کالای جدید، لطفا در شیت نقطه سفارش کد و نام کالا کپی شود"}]
[{"$f":"IFERROR(INDEX('موجودی خام اولیه با برندمتفاوت'!A:A,MATCH(C:C,'موجودی خام اولیه با برندمتفاوت'!C:C,0)),0)","v":0},null,null,null,null,0,0,0,null,null,null,{"$f":"COUNTIF('یکسان سازی برند'!K:K,'موجودی خام اولیه با برندمتفاوت'!K:K)","v":0},"کالای جدید، لطفا در شیت نقطه سفارش کد و نام کالا کپی شود"]
[{"$f":"IFERROR(INDEX('موجودی خام اولیه با برندمتفاوت'!A:A,MATCH(C:C,'موجودی خام اولیه با برندمتفاوت'!C:C,0)),0)","v":0},null,null,null,null,0,0,0,null,null,null,{"$f":"COUNTIF('یکسان سازی برند'!K:K,'موجودی خام اولیه با برندمتفاوت'!K:K)","v":0},"کالای جدید، لطفا در شیت نقطه سفارش کد و نام کالا کپی شود"]
[{"$f":"IFERROR(INDEX('موجودی خام اولیه با برندمتفاوت'!A:A,MATCH(C:C,'موجودی خام اولیه با برندمتفاوت'!C:C,0)),0)","v":0},null,null,null,null,0,0,0,null,null,null,{"$f":"COUNTIF('یکسان سازی برند'!K:K,'موجودی خام اولیه با برندمتفاوت'!K:K)","v":0},"کالای جدید، لطفا در شیت نقطه سفارش کد و نام کالا کپی شود"]
[{"$f":"IFERROR(INDEX('موجودی خام اولیه با برندمتفاوت'!A:A,MATCH(C:C,'موجودی خام اولیه با برندمتفاوت'!C:C,0)),0)","v":0},null,null,null,null,0,0,0,null,null,null,{"$f":"COUNTIF('یکسان سازی برند'!K:K,'موجودی خام اولیه با برندمتفاوت'!K:K)","v":0},"کالای جدید، لطفا در شیت نقطه سفارش کد و نام کالا کپی شود"]
[{"$f":"IFERROR(INDEX('موجودی خام اولیه با برندمتفاوت'!A:A,MATCH(C:C,'موجودی خام اولیه با برندمتفاوت'!C:C,0)),0)","v":0},null,null,null,null,0,0,0,null,null,null,{"$f":"COUNTIF('یکسان سازی برند'!K:K,'موجودی خام اولیه با برندمتفاوت'!K:K)","v":0},"کالای جدید، لطفا در شیت نقطه سفارش کد و نام کالا کپی شود"]
[{"$f":"IFERROR(INDEX('موجودی خام اولیه با برندمتفاوت'!A:A,MATCH(C:C,'موجودی خام اولیه با برندمتفاوت'!C:C,0)),0)","v":0},null,null,null,null,0,0,0,null,null,null,{"$f":"COUNTIF('یکسان سازی برند'!K:K,'موجودی خام اولیه با برندمتفاوت'!K:K)","v":0},"کالای جدید، لطفا در شیت نقطه سفارش کد و نام کالا کپی شود"]
[{"$f":"IFERROR(INDEX('موجودی خام اولیه با برندمتفاوت'!A:A,MATCH(C:C,'موجودی خام اولیه با برندمتفاوت'!C:C,0)),0)","v":0},null,null,null,null,0,0,0,null,null,null,{"$f":"COUNTIF('یکسان سازی برند'!K:K,'موجودی خام اولیه با برندمتفاوت'!K:K)","v":0},"کالای جدید، لطفا در شیت نقطه سفارش کد و نام کالا کپی شود"]
[{"$f":"IFERROR(INDEX('موجودی خام اولیه با برندمتفاوت'!A:A,MATCH(C:C,'موجودی خام اولیه با برندمتفاوت'!C:C,0)),0)","v":0},null,null,null,null,0,0,0,null,null,null,{"$f":"COUNTIF('یکسان سازی برند'!K:K,'موجودی خام اولیه با برندمتفاوت'!K:K)","v":0},"کالای جدید، لطفا در شیت نقطه سفارش کد و نام کالا کپی شود"]
[{"$f":"IFERROR(INDEX('موجودی خام اولیه با برندمتفاوت'!A:A,MATCH(C:C,'موجودی خام اولیه با برندمتفاوت'!C:C,0)),0)","v":0},null,null,null,null,0,0,0,null,null,null,{"$f":"COUNTIF('یکسان سازی برند'!K:K,'موجودی خام اولیه با برندمتفاوت'!K:K)","v":0},"کالای جدید، لطفا در شیت نقطه سفارش کد و نام کالا کپی شود"]
[{"$f":"IFERROR(INDEX('موجودی خام اولیه با برندمتفاوت'!A:A,MATCH(C:C,'موجودی خام اولیه با برندمتفاوت'!C:C,0)),0)","v":0},null,null,null,null,0,0,0,null,null,null,{"$f":"COUNTIF('یکسان سازی برند'!K:K,'موجودی خام اولیه با برندمتفاوت'!K:K)","v":0},"کالای جدید، لطفا در شیت نقطه سفارش کد و نام کالا کپی شود"]
[{"$f":"IFERROR(INDEX('موجودی خام اولیه با برندمتفاوت'!A:A,MATCH(C:C,'موجودی خام اولیه با برندمتفاوت'!C:C,0)),0)","v":0},null,null,null,null,0,0,0,null,null,null,{"$f":"COUNTIF('یکسان سازی برند'!K:K,'موجودی خام اولیه با برندمتفاوت'!K:K)","v":0},"کالای جدید، لطفا در شیت نقطه سفارش کد و نام کالا کپی شود"]
[{"$f":"IFERROR(INDEX('موجودی خام اولیه با برندمتفاوت'!A:A,MATCH(C:C,'موجودی خام اولیه با برندمتفاوت'!C:C,0)),0)","v":0},null,null,null,null,0,0,0,null,null,null,{"$f":"COUNTIF('یکسان سازی برند'!K:K,'موجودی خام اولیه با برندمتفاوت'!K:K)","v":0},"کالای جدید، لطفا در شیت نقطه سفارش کد و نام کالا کپی شود"]
[{"$f":"IFERROR(INDEX('موجودی خام اولیه با برندمتفاوت'!A:A,MATCH(C:C,'موجودی خام اولیه با برندمتفاوت'!C:C,0)),0)","v":0},null,null,null,null,0,0,0,null,null,null,{"$f":"COUNTIF('یکسان سازی برند'!K:K,'موجودی خام اولیه با برندمتفاوت'!K:K)","v":0},"کالای جدید، لطفا در شیت نقطه سفارش کد و نام کالا کپی شود"]
[{"$f":"IFERROR(INDEX('موجودی خام اولیه با برندمتفاوت'!A:A,MATCH(C:C,'موجودی خام اولیه با برندمتفاوت'!C:C,0)),0)","v":0},null,null,null,null,0,0,0,null,null,null,{"$f":"COUNTIF('یکسان سازی برند'!K:K,'موجودی خام اولیه با برندمتفاوت'!K:K)","v":0},"کالای جدید، لطفا در شیت نقطه سفارش کد و نام کالا کپی شود"]
[{"$f":"IFERROR(INDEX('موجودی خام اولیه با برندمتفاوت'!A:A,MATCH(C:C,'موجودی خام اولیه با برندمتفاوت'!C:C,0)),0)","v":0},null,null,null,null,0,0,0,null,null,null,{"$f":"COUNTIF('یکسان سازی برند'!K:K,'موجودی خام اولیه با برندمتفاوت'!K:K)","v":0},"کالای جدید، لطفا در شیت نقطه سفارش کد و نام کالا کپی شود"]
[{"$f":"IFERROR(INDEX('موجودی خام اولیه با برندمتفاوت'!A:A,MATCH(C:C,'موجودی خام اولیه با برندمتفاوت'!C:C,0)),0)","v":0},null,null,null,null,0,0,0,null,null,null,{"$f":"COUNTIF('یکسان سازی برند'!K:K,'موجودی خام اولیه با برندمتفاوت'!K:K)","v":0},"کالای جدید، لطفا در شیت نقطه سفارش کد و نام کالا کپی شود"]
[{"$f":"IFERROR(INDEX('موجودی خام اولیه با برندمتفاوت'!A:A,MATCH(C:C,'موجودی خام اولیه با برندمتفاوت'!C:C,0)),0)","v":0},null,null,null,null,0,0,0,null,null,null,{"$f":"COUNTIF('یکسان سازی برند'!K:K,'موجودی خام اولیه با برندمتفاوت'!K:K)","v":0},"کالای جدید، لطفا در شیت نقطه سفارش کد و نام کالا کپی شود"]
[{"$f":"IFERROR(INDEX('موجودی خام اولیه با برندمتفاوت'!A:A,MATCH(C:C,'موجودی خام اولیه با برندمتفاوت'!C:C,0)),0)","v":0},null,null,null,null,0,0,0,null,null,null,{"$f":"COUNTIF('یکسان سازی برند'!K:K,'موجودی خام اولیه با برندمتفاوت'!K:K)","v":0},"کالای جدید، لطفا در شیت نقطه سفارش کد و نام کالا کپی شود"]
[{"$f":"IFERROR(INDEX('موجودی خام اولیه با برندمتفاوت'!A:A,MATCH(C:C,'موجودی خام اولیه با برندمتفاوت'!C:C,0)),0)","v":0},null,null,null,null,0,0,0,null,null,null,{"$f":"COUNTIF('یکسان سازی برند'!K:K,'موجودی خام اولیه با برندمتفاوت'!K:K)","v":0},"کالای جدید، لطفا در شیت نقطه سفارش کد و نام کالا کپی شود"]
[{"$f":"IFERROR(INDEX('موجودی خام اولیه با برندمتفاوت'!A:A,MATCH(C:C,'موجودی خام اولیه با برندمتفاوت'!C:C,0)),0)","v":0},null,null,null,null,0,0,0,null,null,null,{"$f":"COUNTIF('یکسان سازی برند'!K:K,'موجودی خام اولیه با برندمتفاوت'!K:K)","v":0},"کالای جدید، لطفا در شیت نقطه سفارش کد و نام کالا کپی شود"]
[{"$f":"IFERROR(INDEX('موجودی خام اولیه با برندمتفاوت'!A:A,MATCH(C:C,'موجودی خام اولیه با برندمتفاوت'!C:C,0)),0)","v":0},null,null,null,null,0,0,0,null,null,null,{"$f":"COUNTIF('یکسان سازی برند'!K:K,'موجودی خام اولیه با برندمتفاوت'!K:K)","v":0},"کالای جدید، لطفا در شیت نقطه سفارش کد و نام کالا کپی شود"]
[{"$f":"IFERROR(INDEX('موجودی خام اولیه با برندمتفاوت'!A:A,MATCH(C:C,'موجودی خام اولیه با برندمتفاوت'!C:C,0)),0)","v":0},null,null,null,null,0,0,0,null,null,null,{"$f":"COUNTIF('یکسان سازی برند'!K:K,'موجودی خام اولیه با برندمتفاوت'!K:K)","v":0},"کالای جدید، لطفا در شیت نقطه سفارش کد و نام کالا کپی شود"]
[{"$f":"IFERROR(INDEX('موجودی خام اولیه با برندمتفاوت'!A:A,MATCH(C:C,'موجودی خام اولیه با برندمتفاوت'!C:C,0)),0)","v":0},null,null,null,null,0,0,0,null,null,null,{"$f":"COUNTIF('یکسان سازی برند'!K:K,'موجودی خام اولیه با برندمتفاوت'!K:K)","v":0},"کالای جدید، لطفا در شیت نقطه سفارش کد و نام کالا کپی شود"]
[{"$f":"IFERROR(INDEX('موجودی خام اولیه با برندمتفاوت'!A:A,MATCH(C:C,'موجودی خام اولیه با برندمتفاوت'!C:C,0)),0)","v":0},null,null,null,null,0,0,0,null,null,null,{"$f":"COUNTIF('یکسان سازی برند'!K:K,'موجودی خام اولیه با برندمتفاوت'!K:K)","v":0},"کالای جدید، لطفا در شیت نقطه سفارش کد و نام کالا کپی شود"]
[{"$f":"IFERROR(INDEX('موجودی خام اولیه با برندمتفاوت'!A:A,MATCH(C:C,'موجودی خام اولیه با برندمتفاوت'!C:C,0)),0)","v":0},null,null,null,null,0,0,0,null,null,null,{"$f":"COUNTIF('یکسان سازی برند'!K:K,'موجودی خام اولیه با برندمتفاوت'!K:K)","v":0},"کالای جدید، لطفا در شیت نقطه سفارش کد و نام کالا کپی شود"]
[{"$f":"IFERROR(INDEX('موجودی خام اولیه با برندمتفاوت'!A:A,MATCH(C:C,'موجودی خام اولیه با برندمتفاوت'!C:C,0)),0)","v":0},null,null,null,null,0,0,0,null,null,null,{"$f":"COUNTIF('یکسان سازی برند'!K:K,'موجودی خام اولیه با برندمتفاوت'!K:K)","v":0},"کالای جدید، لطفا در شیت نقطه سفارش کد و نام کالا کپی شود"]
[{"$f":"IFERROR(INDEX('موجودی خام اولیه با برندمتفاوت'!A:A,MATCH(C:C,'موجودی خام اولیه با برندمتفاوت'!C:C,0)),0)","v":0},null,null,null,null,0,0,0,null,null,null,{"$f":"COUNTIF('یکسان سازی برند'!K:K,'موجودی خام اولیه با برندمتفاوت'!K:K)","v":0},"کالای جدید، لطفا در شیت نقطه سفارش کد و نام کالا کپی شود"]
[{"$f":"IFERROR(INDEX('موجودی خام اولیه با برندمتفاوت'!A:A,MATCH(C:C,'موجودی خام اولیه با برندمتفاوت'!C:C,0)),0)","v":0},null,null,null,null,0,0,0,null,null,null,{"$f":"COUNTIF('یکسان سازی برند'!K:K,'موجودی خام اولیه با برندمتفاوت'!K:K)","v":0},"کالای جدید، لطفا در شیت نقطه سفارش کد و نام کالا کپی شود"]
[{"$f":"IFERROR(INDEX('موجودی خام اولیه با برندمتفاوت'!A:A,MATCH(C:C,'موجودی خام اولیه با برندمتفاوت'!C:C,0)),0)","v":0},null,null,null,null,0,0,0,null,null,null,{"$f":"COUNTIF('یکسان سازی برند'!K:K,'موجودی خام اولیه با برندمتفاوت'!K:K)","v":0},"کالای جدید، لطفا در شیت نقطه سفارش کد و نام کالا کپی شود"]
[{"$f":"IFERROR(INDEX('موجودی خام اولیه با برندمتفاوت'!A:A,MATCH(C:C,'موجودی خام اولیه با برندمتفاوت'!C:C,0)),0)","v":0},null,null,null,null,0,0,0,null,null,null,{"$f":"COUNTIF('یکسان سازی برند'!K:K,'موجودی خام اولیه با برندمتفاوت'!K:K)","v":0},"کالای جدید، لطفا در شیت نقطه سفارش کد و نام کالا کپی شود"]
[{"$f":"IFERROR(INDEX('موجودی خام اولیه با برندمتفاوت'!A:A,MATCH(C:C,'موجودی خام اولیه با برندمتفاوت'!C:C,0)),0)","v":0},null,null,null,null,0,0,0,null,null,null,{"$f":"COUNTIF('یکسان سازی برند'!K:K,'موجودی خام اولیه با برندمتفاوت'!K:K)","v":0},"کالای جدید، لطفا در شیت نقطه سفارش کد و نام کالا کپی شود"]
[{"$f":"IFERROR(INDEX('موجودی خام اولیه با برندمتفاوت'!A:A,MATCH(C:C,'موجودی خام اولیه با برندمتفاوت'!C:C,0)),0)","v":0},null,null,null,null,0,0,0,null,null,null,{"$f":"COUNTIF('یکسان سازی برند'!K:K,'موجودی خام اولیه با برندمتفاوت'!K:K)","v":0},"کالای جدید، لطفا در شیت نقطه سفارش کد و نام کالا کپی شود"]
[{"$f":"IFERROR(INDEX('موجودی خام اولیه با برندمتفاوت'!A:A,MATCH(C:C,'موجودی خام اولیه با برندمتفاوت'!C:C,0)),0)","v":0},null,null,null,null,0,0,0,null,null,null,{"$f":"COUNTIF('یکسان سازی برند'!K:K,'موجودی خام اولیه با برندمتفاوت'!K:K)","v":0},"کالای جدید، لطفا در شیت نقطه سفارش کد و نام کالا کپی شود"]
[{"$f":"IFERROR(INDEX('موجودی خام اولیه با برندمتفاوت'!A:A,MATCH(C:C,'موجودی خام اولیه با برندمتفاوت'!C:C,0)),0)","v":0},null,null,null,null,0,0,0,null,null,null,{"$f":"COUNTIF('یکسان سازی برند'!K:K,'موجودی خام اولیه با برندمتفاوت'!K:K)","v":0},"کالای جدید، لطفا در شیت نقطه سفارش کد و نام کالا کپی شود"]
[{"$f":"IFERROR(INDEX('موجودی خام اولیه با برندمتفاوت'!A:A,MATCH(C:C,'موجودی خام اولیه با برندمتفاوت'!C:C,0)),0)","v":0},null,null,null,null,0,0,0,null,null,null,{"$f":"COUNTIF('یکسان سازی برند'!K:K,'موجودی خام اولیه با برندمتفاوت'!K:K)","v":0},"کالای جدید، لطفا در شیت نقطه سفارش کد و نام کالا کپی شود"]
[{"$f":"IFERROR(INDEX('موجودی خام اولیه با برندمتفاوت'!A:A,MATCH(C:C,'موجودی خام اولیه با برندمتفاوت'!C:C,0)),0)","v":0},null,null,null,null,0,0,0,null,null,null,{"$f":"COUNTIF('یکسان سازی برند'!K:K,'موجودی خام اولیه با برندمتفاوت'!K:K)","v":0},"کالای جدید، لطفا در شیت نقطه سفارش کد و نام کالا کپی شود"]
[{"$f":"IFERROR(INDEX('موجودی خام اولیه با برندمتفاوت'!A:A,MATCH(C:C,'موجودی خام اولیه با برندمتفاوت'!C:C,0)),0)","v":0},null,null,null,null,0,0,0,null,null,null,{"$f":"COUNTIF('یکسان سازی برند'!K:K,'موجودی خام اولیه با برندمتفاوت'!K:K)","v":0},"کالای جدید، لطفا در شیت نقطه سفارش کد و نام کالا کپی شود"]
[{"$f":"IFERROR(INDEX('موجودی خام اولیه با برندمتفاوت'!A:A,MATCH(C:C,'موجودی خام اولیه با برندمتفاوت'!C:C,0)),0)","v":0},null,null,null,null,0,0,0,null,null,null,{"$f":"COUNTIF('یکسان سازی برند'!K:K,'موجودی خام اولیه با برندمتفاوت'!K:K)","v":0},"کالای جدید، لطفا در شیت نقطه سفارش کد و نام کالا کپی شود"]
[{"$f":"IFERROR(INDEX('موجودی خام اولیه با برندمتفاوت'!A:A,MATCH(C:C,'موجودی خام اولیه با برندمتفاوت'!C:C,0)),0)","v":0},null,null,null,null,0,0,0,null,null,null,{"$f":"COUNTIF('یکسان سازی برند'!K:K,'موجودی خام اولیه با برندمتفاوت'!K:K)","v":0},"کالای جدید، لطفا در شیت نقطه سفارش کد و نام کالا کپی شود"]
[{"$f":"IFERROR(INDEX('موجودی خام اولیه با برندمتفاوت'!A:A,MATCH(C:C,'موجودی خام اولیه با برندمتفاوت'!C:C,0)),0)","v":0},null,null,null,null,0,0,0,null,null,null,{"$f":"COUNTIF('یکسان سازی برند'!K:K,'موجودی خام اولیه با برندمتفاوت'!K:K)","v":0},"کالای جدید، لطفا در شیت نقطه سفارش کد و نام کالا کپی شود"]
[{"$f":"IFERROR(INDEX('موجودی خام اولیه با برندمتفاوت'!A:A,MATCH(C:C,'موجودی خام اولیه با برندمتفاوت'!C:C,0)),0)","v":0},null,null,null,null,0,0,0,null,null,null,{"$f":"COUNTIF('یکسان سازی برند'!K:K,'موجودی خام اولیه با برندمتفاوت'!K:K)","v":0},"کالای جدید، لطفا در شیت نقطه سفارش کد و نام کالا کپی شود"]
[{"$f":"IFERROR(INDEX('موجودی خام اولیه با برندمتفاوت'!A:A,MATCH(C:C,'موجودی خام اولیه با برندمتفاوت'!C:C,0)),0)","v":0},null,null,null,null,0,0,0,null,null,null,{"$f":"COUNTIF('یکسان سازی برند'!K:K,'موجودی خام اولیه با برندمتفاوت'!K:K)","v":0},"کالای جدید، لطفا در شیت نقطه سفارش کد و نام کالا کپی شود"]
[{"$f":"IFERROR(INDEX('موجودی خام اولیه با برندمتفاوت'!A:A,MATCH(C:C,'موجودی خام اولیه با برندمتفاوت'!C:C,0)),0)","v":0},null,null,null,null,0,0,0,null,null,null,{"$f":"COUNTIF('یکسان سازی برند'!K:K,'موجودی خام اولیه با برندمتفاوت'!K:K)","v":0},"کالای جدید، لطفا در شیت نقطه سفارش کد و نام کالا کپی شود"]
[{"$f":"IFERROR(INDEX('موجودی خام اولیه با برندمتفاوت'!A:A,MATCH(C:C,'موجودی خام اولیه با برندمتفاوت'!C:C,0)),0)","v":0},null,null,null,null,0,0,0,null,null,null,{"$f":"COUNTIF('یکسان سازی برند'!K:K,'موجودی خام اولیه با برندمتفاوت'!K:K)","v":0},"کالای جدید، لطفا در شیت نقطه سفارش کد و نام کالا کپی شود"]
[{"$f":"IFERROR(INDEX('موجودی خام اولیه با برندمتفاوت'!A:A,MATCH(C:C,'موجودی خام اولیه با برندمتفاوت'!C:C,0)),0)","v":0},null,null,null,null,0,0,0,null,null,null,{"$f":"COUNTIF('یکسان سازی برند'!K:K,'موجودی خام اولیه با برندمتفاوت'!K:K)","v":0},"کالای جدید، لطفا در شیت نقطه سفارش کد و نام کالا کپی شود"]
[{"$f":"IFERROR(INDEX('موجودی خام اولیه با برندمتفاوت'!A:A,MATCH(C:C,'موجودی خام اولیه با برندمتفاوت'!C:C,0)),0)","v":0},null,null,null,null,0,0,0,null,null,null,{"$f":"COUNTIF('یکسان سازی برند'!K:K,'موجودی خام اولیه با برندمتفاوت'!K:K)","v":0},"کالای جدید، لطفا در شیت نقطه سفارش کد و نام کالا کپی شود"]
[{"$f":"IFERROR(INDEX('موجودی خام اولیه با برندمتفاوت'!A:A,MATCH(C:C,'موجودی خام اولیه با برندمتفاوت'!C:C,0)),0)","v":0},null,null,null,null,0,0,0,null,null,null,{"$f":"COUNTIF('یکسان سازی برند'!K:K,'موجودی خام اولیه با برندمتفاوت'!K:K)","v":0},"کالای جدید، لطفا در شیت نقطه سفارش کد و نام کالا کپی شود"]
[{"$f":"IFERROR(INDEX('موجودی خام اولیه با برندمتفاوت'!A:A,MATCH(C:C,'موجودی خام اولیه با برندمتفاوت'!C:C,0)),0)","v":0},null,null,null,null,0,0,0,null,null,null,{"$f":"COUNTIF('یکسان سازی برند'!K:K,'موجودی خام اولیه با برندمتفاوت'!K:K)","v":0},"کالای جدید، لطفا در شیت نقطه سفارش کد و نام کالا کپی شود"]
[{"$f":"IFERROR(INDEX('موجودی خام اولیه با برندمتفاوت'!A:A,MATCH(C:C,'موجودی خام اولیه با برندمتفاوت'!C:C,0)),0)","v":0},null,null,null,null,0,0,0,null,null,null,{"$f":"COUNTIF('یکسان سازی برند'!K:K,'موجودی خام اولیه با برندمتفاوت'!K:K)","v":0},"کالای جدید، لطفا در شیت نقطه سفارش کد و نام کالا کپی شود"]
[{"$f":"IFERROR(INDEX('موجودی خام اولیه با برندمتفاوت'!A:A,MATCH(C:C,'موجودی خام اولیه با برندمتفاوت'!C:C,0)),0)","v":0},null,null,null,null,0,0,0,null,null,null,{"$f":"COUNTIF('یکسان سازی برند'!K:K,'موجودی خام اولیه با برندمتفاوت'!K:K)","v":0},"کالای جدید، لطفا در شیت نقطه سفارش کد و نام کالا کپی شود"]
[{"$f":"IFERROR(INDEX('موجودی خام اولیه با برندمتفاوت'!A:A,MATCH(C:C,'موجودی خام اولیه با برندمتفاوت'!C:C,0)),0)","v":0},null,null,null,null,0,0,0,null,null,null,{"$f":"COUNTIF('یکسان سازی برند'!K:K,'موجودی خام اولیه با برندمتفاوت'!K:K)","v":0},"کالای جدید، لطفا در شیت نقطه سفارش کد و نام کالا کپی شود"]
[{"$f":"IFERROR(INDEX('موجودی خام اولیه با برندمتفاوت'!A:A,MATCH(C:C,'موجودی خام اولیه با برندمتفاوت'!C:C,0)),0)","v":0},null,null,null,null,0,0,0,null,null,null,{"$f":"COUNTIF('یکسان سازی برند'!K:K,'موجودی خام اولیه با برندمتفاوت'!K:K)","v":0},"کالای جدید، لطفا در شیت نقطه سفارش کد و نام کالا کپی شود"]
[{"$f":"IFERROR(INDEX('موجودی خام اولیه با برندمتفاوت'!A:A,MATCH(C:C,'موجودی خام اولیه با برندمتفاوت'!C:C,0)),0)","v":0},null,null,null,null,0,0,0,null,null,null,{"$f":"COUNTIF('یکسان سازی برند'!K:K,'موجودی خام اولیه با برندمتفاوت'!K:K)","v":0},"کالای جدید، لطفا در شیت نقطه سفارش کد و نام کالا کپی شود"]
[{"$f":"IFERROR(INDEX('موجودی خام اولیه با برندمتفاوت'!A:A,MATCH(C:C,'موجودی خام اولیه با برندمتفاوت'!C:C,0)),0)","v":0},null,null,null,null,0,0,0,null,null,null,{"$f":"COUNTIF('یکسان سازی برند'!K:K,'موجودی خام اولیه با برندمتفاوت'!K:K)","v":0},"کالای جدید، لطفا در شیت نقطه سفارش کد و نام کالا کپی شود"]
[{"$f":"IFERROR(INDEX('موجودی خام اولیه با برندمتفاوت'!A:A,MATCH(C:C,'موجودی خام اولیه با برندمتفاوت'!C:C,0)),0)","v":0},null,null,null,null,0,0,0,null,null,null,{"$f":"COUNTIF('یکسان سازی برند'!K:K,'موجودی خام اولیه با برندمتفاوت'!K:K)","v":0},"کالای جدید، لطفا در شیت نقطه سفارش کد و نام کالا کپی شود"]
[{"$f":"IFERROR(INDEX('موجودی خام اولیه با برندمتفاوت'!A:A,MATCH(C:C,'موجودی خام اولیه با برندمتفاوت'!C:C,0)),0)","v":0},null,null,null,null,0,0,0,null,null,null,{"$f":"COUNTIF('یکسان سازی برند'!K:K,'موجودی خام اولیه با برندمتفاوت'!K:K)","v":0},"کالای جدید، لطفا در شیت نقطه سفارش کد و نام کالا کپی شود"]
[{"$f":"IFERROR(INDEX('موجودی خام اولیه با برندمتفاوت'!A:A,MATCH(C:C,'موجودی خام اولیه با برندمتفاوت'!C:C,0)),0)","v":0},null,null,null,null,0,0,0,null,null,null,{"$f":"COUNTIF('یکسان سازی برند'!K:K,'موجودی خام اولیه با برندمتفاوت'!K:K)","v":0},"کالای جدید، لطفا در شیت نقطه سفارش کد و نام کالا کپی شود"]
[{"$f":"IFERROR(INDEX('موجودی خام اولیه با برندمتفاوت'!A:A,MATCH(C:C,'موجودی خام اولیه با برندمتفاوت'!C:C,0)),0)","v":0},null,null,null,null,0,0,0,null,null,null,{"$f":"COUNTIF('یکسان سازی برند'!K:K,'موجودی خام اولیه با برندمتفاوت'!K:K)","v":0},"کالای جدید، لطفا در شیت نقطه سفارش کد و نام کالا کپی شود"]
[{"$f":"IFERROR(INDEX('موجودی خام اولیه با برندمتفاوت'!A:A,MATCH(C:C,'موجودی خام اولیه با برندمتفاوت'!C:C,0)),0)","v":0},null,null,null,null,0,0,0,null,null,null,{"$f":"COUNTIF('یکسان سازی برند'!K:K,'موجودی خام اولیه با برندمتفاوت'!K:K)","v":0},"کالای جدید، لطفا در شیت نقطه سفارش کد و نام کالا کپی شود"]
[{"$f":"IFERROR(INDEX('موجودی خام اولیه با برندمتفاوت'!A:A,MATCH(C:C,'موجودی خام اولیه با برندمتفاوت'!C:C,0)),0)","v":0},null,null,null,null,0,0,0,null,null,null,{"$f":"COUNTIF('یکسان سازی برند'!K:K,'موجودی خام اولیه با برندمتفاوت'!K:K)","v":0},"کالای جدید، لطفا در شیت نقطه سفارش کد و نام کالا کپی شود"]
[{"$f":"IFERROR(INDEX('موجودی خام اولیه با برندمتفاوت'!A:A,MATCH(C:C,'موجودی خام اولیه با برندمتفاوت'!C:C,0)),0)","v":0},null,null,null,null,0,0,0,null,null,null,{"$f":"COUNTIF('یکسان سازی برند'!K:K,'موجودی خام اولیه با برندمتفاوت'!K:K)","v":0},"کالای جدید، لطفا در شیت نقطه سفارش کد و نام کالا کپی شود"]
[{"$f":"IFERROR(INDEX('موجودی خام اولیه با برندمتفاوت'!A:A,MATCH(C:C,'موجودی خام اولیه با برندمتفاوت'!C:C,0)),0)","v":0},null,null,null,null,0,0,0,null,null,null,{"$f":"COUNTIF('یکسان سازی برند'!K:K,'موجودی خام اولیه با برندمتفاوت'!K:K)","v":0},"کالای جدید، لطفا در شیت نقطه سفارش کد و نام کالا کپی شود"]
[{"$f":"IFERROR(INDEX('موجودی خام اولیه با برندمتفاوت'!A:A,MATCH(C:C,'موجودی خام اولیه با برندمتفاوت'!C:C,0)),0)","v":0},null,null,null,null,{"$f":"IF(E579=\"\",A579,SUMIF(E:E,E579,A:A))","v":0},{"$f":"IF(E579=\"\",B579,D579)","v":0},{"$f":"IF(E579=\"\",C579,E579)","v":0},null,null,null,{"$f":"COUNTIF('یکسان سازی برند'!K:K,'موجودی خام اولیه با برندمتفاوت'!K:K)","v":0},"کالای جدید، لطفا در شیت نقطه سفارش کد و نام کالا کپی شود"]
[{"$f":"IFERROR(INDEX('موجودی خام اولیه با برندمتفاوت'!A:A,MATCH(C:C,'موجودی خام اولیه با برندمتفاوت'!C:C,0)),0)","v":0},null,null,null,null,0,0,0,null,null,null,{"$f":"COUNTIF('یکسان سازی برند'!K:K,'موجودی خام اولیه با برندمتفاوت'!K:K)","v":0},{"$f":"IF(L:L=0,\"کالای جدید، لطفا در شیت نقطه سفارش کد و نام کالا کپی شود\",\"\")","v":"کالای جدید، لطفا در شیت نقطه سفارش کد و نام کالا کپی شود"}]
[{"$f":"IFERROR(INDEX('موجودی خام اولیه با برندمتفاوت'!A:A,MATCH(C:C,'موجودی خام اولیه با برندمتفاوت'!C:C,0)),0)","v":0},null,null,null,null,0,0,0,null,null,null,{"$f":"COUNTIF('یکسان سازی برند'!K:K,'موجودی خام اولیه با برندمتفاوت'!K:K)","v":0},"کالای جدید، لطفا در شیت نقطه سفارش کد و نام کالا کپی شود"]
[{"$f":"IFERROR(INDEX('موجودی خام اولیه با برندمتفاوت'!A:A,MATCH(C:C,'موجودی خام اولیه با برندمتفاوت'!C:C,0)),0)","v":0},null,null,null,null,0,0,0,null,null,null,{"$f":"COUNTIF('یکسان سازی برند'!K:K,'موجودی خام اولیه با برندمتفاوت'!K:K)","v":0},"کالای جدید، لطفا در شیت نقطه سفارش کد و نام کالا کپی شود"]
[{"$f":"IFERROR(INDEX('موجودی خام اولیه با برندمتفاوت'!A:A,MATCH(C:C,'موجودی خام اولیه با برندمتفاوت'!C:C,0)),0)","v":0},null,null,null,null,0,0,0,null,null,null,{"$f":"COUNTIF('یکسان سازی برند'!K:K,'موجودی خام اولیه با برندمتفاوت'!K:K)","v":0},"کالای جدید، لطفا در شیت نقطه سفارش کد و نام کالا کپی شود"]
[{"$f":"IFERROR(INDEX('موجودی خام اولیه با برندمتفاوت'!A:A,MATCH(C:C,'موجودی خام اولیه با برندمتفاوت'!C:C,0)),0)","v":0},null,null,null,null,0,0,0,null,null,null,{"$f":"COUNTIF('یکسان سازی برند'!K:K,'موجودی خام اولیه با برندمتفاوت'!K:K)","v":0},"کالای جدید، لطفا در شیت نقطه سفارش کد و نام کالا کپی شود"]
[{"$f":"IFERROR(INDEX('موجودی خام اولیه با برندمتفاوت'!A:A,MATCH(C:C,'موجودی خام اولیه با برندمتفاوت'!C:C,0)),0)","v":0},null,null,null,null,0,0,0,null,null,null,{"$f":"COUNTIF('یکسان سازی برند'!K:K,'موجودی خام اولیه با برندمتفاوت'!K:K)","v":0},"کالای جدید، لطفا در شیت نقطه سفارش کد و نام کالا کپی شود"]
[{"$f":"IFERROR(INDEX('موجودی خام اولیه با برندمتفاوت'!A:A,MATCH(C:C,'موجودی خام اولیه با برندمتفاوت'!C:C,0)),0)","v":0},null,null,null,null,0,0,0,null,null,null,{"$f":"COUNTIF('یکسان سازی برند'!K:K,'موجودی خام اولیه با برندمتفاوت'!K:K)","v":0},"کالای جدید، لطفا در شیت نقطه سفارش کد و نام کالا کپی شود"]
[{"$f":"IFERROR(INDEX('موجودی خام اولیه با برندمتفاوت'!A:A,MATCH(C:C,'موجودی خام اولیه با برندمتفاوت'!C:C,0)),0)","v":0},null,null,null,null,0,0,0,null,null,null,{"$f":"COUNTIF('یکسان سازی برند'!K:K,'موجودی خام اولیه با برندمتفاوت'!K:K)","v":0},"کالای جدید، لطفا در شیت نقطه سفارش کد و نام کالا کپی شود"]
[{"$f":"IFERROR(INDEX('موجودی خام اولیه با برندمتفاوت'!A:A,MATCH(C:C,'موجودی خام اولیه با برندمتفاوت'!C:C,0)),0)","v":0},null,null,null,null,0,0,0,null,null,null,{"$f":"COUNTIF('یکسان سازی برند'!K:K,'موجودی خام اولیه با برندمتفاوت'!K:K)","v":0},"کالای جدید، لطفا در شیت نقطه سفارش کد و نام کالا کپی شود"]
[{"$f":"IFERROR(INDEX('موجودی خام اولیه با برندمتفاوت'!A:A,MATCH(C:C,'موجودی خام اولیه با برندمتفاوت'!C:C,0)),0)","v":0},null,null,null,null,0,0,0,null,null,null,{"$f":"COUNTIF('یکسان سازی برند'!K:K,'موجودی خام اولیه با برندمتفاوت'!K:K)","v":0},"کالای جدید، لطفا در شیت نقطه سفارش کد و نام کالا کپی شود"]
[{"$f":"IFERROR(INDEX('موجودی خام اولیه با برندمتفاوت'!A:A,MATCH(C:C,'موجودی خام اولیه با برندمتفاوت'!C:C,0)),0)","v":0},null,null,null,null,0,0,0,null,null,null,{"$f":"COUNTIF('یکسان سازی برند'!K:K,'موجودی خام اولیه با برندمتفاوت'!K:K)","v":0},"کالای جدید، لطفا در شیت نقطه سفارش کد و نام کالا کپی شود"]
[{"$f":"IFERROR(INDEX('موجودی خام اولیه با برندمتفاوت'!A:A,MATCH(C:C,'موجودی خام اولیه با برندمتفاوت'!C:C,0)),0)","v":0},null,null,null,null,0,0,0,null,null,null,{"$f":"COUNTIF('یکسان سازی برند'!K:K,'موجودی خام اولیه با برندمتفاوت'!K:K)","v":0},"کالای جدید، لطفا در شیت نقطه سفارش کد و نام کالا کپی شود"]
[{"$f":"IFERROR(INDEX('موجودی خام اولیه با برندمتفاوت'!A:A,MATCH(C:C,'موجودی خام اولیه با برندمتفاوت'!C:C,0)),0)","v":0},null,null,null,null,0,0,0,null,null,null,{"$f":"COUNTIF('یکسان سازی برند'!K:K,'موجودی خام اولیه با برندمتفاوت'!K:K)","v":0},"کالای جدید، لطفا در شیت نقطه سفارش کد و نام کالا کپی شود"]
[{"$f":"IFERROR(INDEX('موجودی خام اولیه با برندمتفاوت'!A:A,MATCH(C:C,'موجودی خام اولیه با برندمتفاوت'!C:C,0)),0)","v":0},null,null,null,null,0,0,0,null,null,null,{"$f":"COUNTIF('یکسان سازی برند'!K:K,'موجودی خام اولیه با برندمتفاوت'!K:K)","v":0},"کالای جدید، لطفا در شیت نقطه سفارش کد و نام کالا کپی شود"]
[{"$f":"IFERROR(INDEX('موجودی خام اولیه با برندمتفاوت'!A:A,MATCH(C:C,'موجودی خام اولیه با برندمتفاوت'!C:C,0)),0)","v":0},null,null,null,null,0,0,0,null,null,null,{"$f":"COUNTIF('یکسان سازی برند'!K:K,'موجودی خام اولیه با برندمتفاوت'!K:K)","v":0},"کالای جدید، لطفا در شیت نقطه سفارش کد و نام کالا کپی شود"]
[{"$f":"IFERROR(INDEX('موجودی خام اولیه با برندمتفاوت'!A:A,MATCH(C:C,'موجودی خام اولیه با برندمتفاوت'!C:C,0)),0)","v":0},null,null,null,null,0,0,0,null,null,null,{"$f":"COUNTIF('یکسان سازی برند'!K:K,'موجودی خام اولیه با برندمتفاوت'!K:K)","v":0},"کالای جدید، لطفا در شیت نقطه سفارش کد و نام کالا کپی شود"]
[{"$f":"IFERROR(INDEX('موجودی خام اولیه با برندمتفاوت'!A:A,MATCH(C:C,'موجودی خام اولیه با برندمتفاوت'!C:C,0)),0)","v":0},null,null,null,null,0,0,0,null,null,null,{"$f":"COUNTIF('یکسان سازی برند'!K:K,'موجودی خام اولیه با برندمتفاوت'!K:K)","v":0},"کالای جدید، لطفا در شیت نقطه سفارش کد و نام کالا کپی شود"]
[{"$f":"IFERROR(INDEX('موجودی خام اولیه با برندمتفاوت'!A:A,MATCH(C:C,'موجودی خام اولیه با برندمتفاوت'!C:C,0)),0)","v":0},null,null,null,null,0,0,0,null,null,null,{"$f":"COUNTIF('یکسان سازی برند'!K:K,'موجودی خام اولیه با برندمتفاوت'!K:K)","v":0},"کالای جدید، لطفا در شیت نقطه سفارش کد و نام کالا کپی شود"]
[{"$f":"IFERROR(INDEX('موجودی خام اولیه با برندمتفاوت'!A:A,MATCH(C:C,'موجودی خام اولیه با برندمتفاوت'!C:C,0)),0)","v":0},null,null,null,null,0,0,0,null,null,null,{"$f":"COUNTIF('یکسان سازی برند'!K:K,'موجودی خام اولیه با برندمتفاوت'!K:K)","v":0},"کالای جدید، لطفا در شیت نقطه سفارش کد و نام کالا کپی شود"]
[{"$f":"IFERROR(INDEX('موجودی خام اولیه با برندمتفاوت'!A:A,MATCH(C:C,'موجودی خام اولیه با برندمتفاوت'!C:C,0)),0)","v":0},null,null,null,null,0,0,0,null,null,null,{"$f":"COUNTIF('یکسان سازی برند'!K:K,'موجودی خام اولیه با برندمتفاوت'!K:K)","v":0},"کالای جدید، لطفا در شیت نقطه سفارش کد و نام کالا کپی شود"]
[{"$f":"IFERROR(INDEX('موجودی خام اولیه با برندمتفاوت'!A:A,MATCH(C:C,'موجودی خام اولیه با برندمتفاوت'!C:C,0)),0)","v":0},null,null,null,null,0,0,0,null,null,null,{"$f":"COUNTIF('یکسان سازی برند'!K:K,'موجودی خام اولیه با برندمتفاوت'!K:K)","v":0},"کالای جدید، لطفا در شیت نقطه سفارش کد و نام کالا کپی شود"]
[{"$f":"IFERROR(INDEX('موجودی خام اولیه با برندمتفاوت'!A:A,MATCH(C:C,'موجودی خام اولیه با برندمتفاوت'!C:C,0)),0)","v":0},null,null,null,null,0,0,0,null,null,null,{"$f":"COUNTIF('یکسان سازی برند'!K:K,'موجودی خام اولیه با برندمتفاوت'!K:K)","v":0},"کالای جدید، لطفا در شیت نقطه سفارش کد و نام کالا کپی شود"]
[{"$f":"IFERROR(INDEX('موجودی خام اولیه با برندمتفاوت'!A:A,MATCH(C:C,'موجودی خام اولیه با برندمتفاوت'!C:C,0)),0)","v":0},null,null,null,null,0,0,0,null,null,null,{"$f":"COUNTIF('یکسان سازی برند'!K:K,'موجودی خام اولیه با برندمتفاوت'!K:K)","v":0},"کالای جدید، لطفا در شیت نقطه سفارش کد و نام کالا کپی شود"]
[{"$f":"IFERROR(INDEX('موجودی خام اولیه با برندمتفاوت'!A:A,MATCH(C:C,'موجودی خام اولیه با برندمتفاوت'!C:C,0)),0)","v":0},null,null,null,null,0,0,0,null,null,null,{"$f":"COUNTIF('یکسان سازی برند'!K:K,'موجودی خام اولیه با برندمتفاوت'!K:K)","v":0},"کالای جدید، لطفا در شیت نقطه سفارش کد و نام کالا کپی شود"]
[{"$f":"IFERROR(INDEX('موجودی خام اولیه با برندمتفاوت'!A:A,MATCH(C:C,'موجودی خام اولیه با برندمتفاوت'!C:C,0)),0)","v":0},null,null,null,null,0,0,0,null,null,null,{"$f":"COUNTIF('یکسان سازی برند'!K:K,'موجودی خام اولیه با برندمتفاوت'!K:K)","v":0},"کالای جدید، لطفا در شیت نقطه سفارش کد و نام کالا کپی شود"]
[{"$f":"IFERROR(INDEX('موجودی خام اولیه با برندمتفاوت'!A:A,MATCH(C:C,'موجودی خام اولیه با برندمتفاوت'!C:C,0)),0)","v":0},null,null,null,null,0,0,0,null,null,null,{"$f":"COUNTIF('یکسان سازی برند'!K:K,'موجودی خام اولیه با برندمتفاوت'!K:K)","v":0},"کالای جدید، لطفا در شیت نقطه سفارش کد و نام کالا کپی شود"]
[{"$f":"IFERROR(INDEX('موجودی خام اولیه با برندمتفاوت'!A:A,MATCH(C:C,'موجودی خام اولیه با برندمتفاوت'!C:C,0)),0)","v":0},null,null,null,null,0,0,0,null,null,null,{"$f":"COUNTIF('یکسان سازی برند'!K:K,'موجودی خام اولیه با برندمتفاوت'!K:K)","v":0},"کالای جدید، لطفا در شیت نقطه سفارش کد و نام کالا کپی شود"]
[{"$f":"IFERROR(INDEX('موجودی خام اولیه با برندمتفاوت'!A:A,MATCH(C:C,'موجودی خام اولیه با برندمتفاوت'!C:C,0)),0)","v":0},null,null,null,null,0,0,0,null,null,null,{"$f":"COUNTIF('یکسان سازی برند'!K:K,'موجودی خام اولیه با برندمتفاوت'!K:K)","v":0},"کالای جدید، لطفا در شیت نقطه سفارش کد و نام کالا کپی شود"]
[{"$f":"IFERROR(INDEX('موجودی خام اولیه با برندمتفاوت'!A:A,MATCH(C:C,'موجودی خام اولیه با برندمتفاوت'!C:C,0)),0)","v":0},null,null,null,null,0,0,0,null,null,null,{"$f":"COUNTIF('یکسان سازی برند'!K:K,'موجودی خام اولیه با برندمتفاوت'!K:K)","v":0},"کالای جدید، لطفا در شیت نقطه سفارش کد و نام کالا کپی شود"]
[{"$f":"IFERROR(INDEX('موجودی خام اولیه با برندمتفاوت'!A:A,MATCH(C:C,'موجودی خام اولیه با برندمتفاوت'!C:C,0)),0)","v":0},null,null,null,null,0,0,0,null,null,null,{"$f":"COUNTIF('یکسان سازی برند'!K:K,'موجودی خام اولیه با برندمتفاوت'!K:K)","v":0},"کالای جدید، لطفا در شیت نقطه سفارش کد و نام کالا کپی شود"]
[{"$f":"IFERROR(INDEX('موجودی خام اولیه با برندمتفاوت'!A:A,MATCH(C:C,'موجودی خام اولیه با برندمتفاوت'!C:C,0)),0)","v":0},null,null,null,null,0,0,0,null,null,null,{"$f":"COUNTIF('یکسان سازی برند'!K:K,'موجودی خام اولیه با برندمتفاوت'!K:K)","v":0},"کالای جدید، لطفا در شیت نقطه سفارش کد و نام کالا کپی شود"]
[{"$f":"IFERROR(INDEX('موجودی خام اولیه با برندمتفاوت'!A:A,MATCH(C:C,'موجودی خام اولیه با برندمتفاوت'!C:C,0)),0)","v":0},null,null,null,null,0,0,0,null,null,null,{"$f":"COUNTIF('یکسان سازی برند'!K:K,'موجودی خام اولیه با برندمتفاوت'!K:K)","v":0},"کالای جدید، لطفا در شیت نقطه سفارش کد و نام کالا کپی شود"]
[{"$f":"IFERROR(INDEX('موجودی خام اولیه با برندمتفاوت'!A:A,MATCH(C:C,'موجودی خام اولیه با برندمتفاوت'!C:C,0)),0)","v":0},null,null,null,null,0,0,0,null,null,null,{"$f":"COUNTIF('یکسان سازی برند'!K:K,'موجودی خام اولیه با برندمتفاوت'!K:K)","v":0},"کالای جدید، لطفا در شیت نقطه سفارش کد و نام کالا کپی شود"]
[{"$f":"IFERROR(INDEX('موجودی خام اولیه با برندمتفاوت'!A:A,MATCH(C:C,'موجودی خام اولیه با برندمتفاوت'!C:C,0)),0)","v":0},null,null,null,null,0,0,0,null,null,null,{"$f":"COUNTIF('یکسان سازی برند'!K:K,'موجودی خام اولیه با برندمتفاوت'!K:K)","v":0},"کالای جدید، لطفا در شیت نقطه سفارش کد و نام کالا کپی شود"]
[{"$f":"IFERROR(INDEX('موجودی خام اولیه با برندمتفاوت'!A:A,MATCH(C:C,'موجودی خام اولیه با برندمتفاوت'!C:C,0)),0)","v":0},null,null,null,null,0,0,0,null,null,null,{"$f":"COUNTIF('یکسان سازی برند'!K:K,'موجودی خام اولیه با برندمتفاوت'!K:K)","v":0},"کالای جدید، لطفا در شیت نقطه سفارش کد و نام کالا کپی شود"]
[{"$f":"IFERROR(INDEX('موجودی خام اولیه با برندمتفاوت'!A:A,MATCH(C:C,'موجودی خام اولیه با برندمتفاوت'!C:C,0)),0)","v":0},null,null,null,null,0,0,0,null,null,null,{"$f":"COUNTIF('یکسان سازی برند'!K:K,'موجودی خام اولیه با برندمتفاوت'!K:K)","v":0},"کالای جدید، لطفا در شیت نقطه سفارش کد و نام کالا کپی شود"]
[{"$f":"IFERROR(INDEX('موجودی خام اولیه با برندمتفاوت'!A:A,MATCH(C:C,'موجودی خام اولیه با برندمتفاوت'!C:C,0)),0)","v":0},null,null,null,null,0,0,0,null,null,null,{"$f":"COUNTIF('یکسان سازی برند'!K:K,'موجودی خام اولیه با برندمتفاوت'!K:K)","v":0},"کالای جدید، لطفا در شیت نقطه سفارش کد و نام کالا کپی شود"]
[{"$f":"IFERROR(INDEX('موجودی خام اولیه با برندمتفاوت'!A:A,MATCH(C:C,'موجودی خام اولیه با برندمتفاوت'!C:C,0)),0)","v":0},null,null,null,null,0,0,0,null,null,null,{"$f":"COUNTIF('یکسان سازی برند'!K:K,'موجودی خام اولیه با برندمتفاوت'!K:K)","v":0},"کالای جدید، لطفا در شیت نقطه سفارش کد و نام کالا کپی شود"]
[{"$f":"IFERROR(INDEX('موجودی خام اولیه با برندمتفاوت'!A:A,MATCH(C:C,'موجودی خام اولیه با برندمتفاوت'!C:C,0)),0)","v":0},null,null,null,null,0,0,0,null,null,null,{"$f":"COUNTIF('یکسان سازی برند'!K:K,'موجودی خام اولیه با برندمتفاوت'!K:K)","v":0},"کالای جدید، لطفا در شیت نقطه سفارش کد و نام کالا کپی شود"]
[{"$f":"IFERROR(INDEX('موجودی خام اولیه با برندمتفاوت'!A:A,MATCH(C:C,'موجودی خام اولیه با برندمتفاوت'!C:C,0)),0)","v":0},null,null,null,null,0,0,0,null,null,null,{"$f":"COUNTIF('یکسان سازی برند'!K:K,'موجودی خام اولیه با برندمتفاوت'!K:K)","v":0},"کالای جدید، لطفا در شیت نقطه سفارش کد و نام کالا کپی شود"]
[{"$f":"IFERROR(INDEX('موجودی خام اولیه با برندمتفاوت'!A:A,MATCH(C:C,'موجودی خام اولیه با برندمتفاوت'!C:C,0)),0)","v":0},null,null,null,null,0,0,0,null,null,null,{"$f":"COUNTIF('یکسان سازی برند'!K:K,'موجودی خام اولیه با برندمتفاوت'!K:K)","v":0},"کالای جدید، لطفا در شیت نقطه سفارش کد و نام کالا کپی شود"]
[{"$f":"IFERROR(INDEX('موجودی خام اولیه با برندمتفاوت'!A:A,MATCH(C:C,'موجودی خام اولیه با برندمتفاوت'!C:C,0)),0)","v":0},null,null,null,null,0,0,0,null,null,null,{"$f":"COUNTIF('یکسان سازی برند'!K:K,'موجودی خام اولیه با برندمتفاوت'!K:K)","v":0},"کالای جدید، لطفا در شیت نقطه سفارش کد و نام کالا کپی شود"]
[{"$f":"IFERROR(INDEX('موجودی خام اولیه با برندمتفاوت'!A:A,MATCH(C:C,'موجودی خام اولیه با برندمتفاوت'!C:C,0)),0)","v":0},null,null,null,null,0,0,0,null,null,null,{"$f":"COUNTIF('یکسان سازی برند'!K:K,'موجودی خام اولیه با برندمتفاوت'!K:K)","v":0},"کالای جدید، لطفا در شیت نقطه سفارش کد و نام کالا کپی شود"]
[{"$f":"IFERROR(INDEX('موجودی خام اولیه با برندمتفاوت'!A:A,MATCH(C:C,'موجودی خام اولیه با برندمتفاوت'!C:C,0)),0)","v":0},null,null,null,null,0,0,0,null,null,null,{"$f":"COUNTIF('یکسان سازی برند'!K:K,'موجودی خام اولیه با برندمتفاوت'!K:K)","v":0},"کالای جدید، لطفا در شیت نقطه سفارش کد و نام کالا کپی شود"]
[{"$f":"IFERROR(INDEX('موجودی خام اولیه با برندمتفاوت'!A:A,MATCH(C:C,'موجودی خام اولیه با برندمتفاوت'!C:C,0)),0)","v":0},null,null,null,null,0,0,0,null,null,null,{"$f":"COUNTIF('یکسان سازی برند'!K:K,'موجودی خام اولیه با برندمتفاوت'!K:K)","v":0},"کالای جدید، لطفا در شیت نقطه سفارش کد و نام کالا کپی شود"]
[{"$f":"IFERROR(INDEX('موجودی خام اولیه با برندمتفاوت'!A:A,MATCH(C:C,'موجودی خام اولیه با برندمتفاوت'!C:C,0)),0)","v":0},null,null,null,null,0,0,0,null,null,null,{"$f":"COUNTIF('یکسان سازی برند'!K:K,'موجودی خام اولیه با برندمتفاوت'!K:K)","v":0},"کالای جدید، لطفا در شیت نقطه سفارش کد و نام کالا کپی شود"]
[{"$f":"IFERROR(INDEX('موجودی خام اولیه با برندمتفاوت'!A:A,MATCH(C:C,'موجودی خام اولیه با برندمتفاوت'!C:C,0)),0)","v":0},null,null,null,null,0,0,0,null,null,null,{"$f":"COUNTIF('یکسان سازی برند'!K:K,'موجودی خام اولیه با برندمتفاوت'!K:K)","v":0},"کالای جدید، لطفا در شیت نقطه سفارش کد و نام کالا کپی شود"]
[{"$f":"IFERROR(INDEX('موجودی خام اولیه با برندمتفاوت'!A:A,MATCH(C:C,'موجودی خام اولیه با برندمتفاوت'!C:C,0)),0)","v":0},null,null,null,null,0,0,0,null,null,null,{"$f":"COUNTIF('یکسان سازی برند'!K:K,'موجودی خام اولیه با برندمتفاوت'!K:K)","v":0},"کالای جدید، لطفا در شیت نقطه سفارش کد و نام کالا کپی شود"]
[{"$f":"IFERROR(INDEX('موجودی خام اولیه با برندمتفاوت'!A:A,MATCH(C:C,'موجودی خام اولیه با برندمتفاوت'!C:C,0)),0)","v":0},null,null,null,null,0,0,0,null,null,null,{"$f":"COUNTIF('یکسان سازی برند'!K:K,'موجودی خام اولیه با برندمتفاوت'!K:K)","v":0},"کالای جدید، لطفا در شیت نقطه سفارش کد و نام کالا کپی شود"]
[{"$f":"IFERROR(INDEX('موجودی خام اولیه با برندمتفاوت'!A:A,MATCH(C:C,'موجودی خام اولیه با برندمتفاوت'!C:C,0)),0)","v":0},null,null,null,null,0,0,0,null,null,null,{"$f":"COUNTIF('یکسان سازی برند'!K:K,'موجودی خام اولیه با برندمتفاوت'!K:K)","v":0},"کالای جدید، لطفا در شیت نقطه سفارش کد و نام کالا کپی شود"]
[{"$f":"IFERROR(INDEX('موجودی خام اولیه با برندمتفاوت'!A:A,MATCH(C:C,'موجودی خام اولیه با برندمتفاوت'!C:C,0)),0)","v":0},null,null,null,null,0,0,0,null,null,null,{"$f":"COUNTIF('یکسان سازی برند'!K:K,'موجودی خام اولیه با برندمتفاوت'!K:K)","v":0},"کالای جدید، لطفا در شیت نقطه سفارش کد و نام کالا کپی شود"]
[{"$f":"IFERROR(INDEX('موجودی خام اولیه با برندمتفاوت'!A:A,MATCH(C:C,'موجودی خام اولیه با برندمتفاوت'!C:C,0)),0)","v":0},null,null,null,null,0,0,0,null,null,null,{"$f":"COUNTIF('یکسان سازی برند'!K:K,'موجودی خام اولیه با برندمتفاوت'!K:K)","v":0},"کالای جدید، لطفا در شیت نقطه سفارش کد و نام کالا کپی شود"]
[{"$f":"IFERROR(INDEX('موجودی خام اولیه با برندمتفاوت'!A:A,MATCH(C:C,'موجودی خام اولیه با برندمتفاوت'!C:C,0)),0)","v":0},null,null,null,null,0,0,0,null,null,null,{"$f":"COUNTIF('یکسان سازی برند'!K:K,'موجودی خام اولیه با برندمتفاوت'!K:K)","v":0},"کالای جدید، لطفا در شیت نقطه سفارش کد و نام کالا کپی شود"]
[{"$f":"IFERROR(INDEX('موجودی خام اولیه با برندمتفاوت'!A:A,MATCH(C:C,'موجودی خام اولیه با برندمتفاوت'!C:C,0)),0)","v":0},null,null,null,null,0,0,0,null,null,null,{"$f":"COUNTIF('یکسان سازی برند'!K:K,'موجودی خام اولیه با برندمتفاوت'!K:K)","v":0},"کالای جدید، لطفا در شیت نقطه سفارش کد و نام کالا کپی شود"]
[{"$f":"IFERROR(INDEX('موجودی خام اولیه با برندمتفاوت'!A:A,MATCH(C:C,'موجودی خام اولیه با برندمتفاوت'!C:C,0)),0)","v":0},null,null,null,null,0,0,0,null,null,null,{"$f":"COUNTIF('یکسان سازی برند'!K:K,'موجودی خام اولیه با برندمتفاوت'!K:K)","v":0},"کالای جدید، لطفا در شیت نقطه سفارش کد و نام کالا کپی شود"]
[{"$f":"IFERROR(INDEX('موجودی خام اولیه با برندمتفاوت'!A:A,MATCH(C:C,'موجودی خام اولیه با برندمتفاوت'!C:C,0)),0)","v":0},null,null,null,null,0,0,0,null,null,null,{"$f":"COUNTIF('یکسان سازی برند'!K:K,'موجودی خام اولیه با برندمتفاوت'!K:K)","v":0},"کالای جدید، لطفا در شیت نقطه سفارش کد و نام کالا کپی شود"]
[{"$f":"IFERROR(INDEX('موجودی خام اولیه با برندمتفاوت'!A:A,MATCH(C:C,'موجودی خام اولیه با برندمتفاوت'!C:C,0)),0)","v":0},null,null,null,null,0,0,0,null,null,null,{"$f":"COUNTIF('یکسان سازی برند'!K:K,'موجودی خام اولیه با برندمتفاوت'!K:K)","v":0},"کالای جدید، لطفا در شیت نقطه سفارش کد و نام کالا کپی شود"]
[{"$f":"IFERROR(INDEX('موجودی خام اولیه با برندمتفاوت'!A:A,MATCH(C:C,'موجودی خام اولیه با برندمتفاوت'!C:C,0)),0)","v":0},null,null,null,null,0,0,0,null,null,null,{"$f":"COUNTIF('یکسان سازی برند'!K:K,'موجودی خام اولیه با برندمتفاوت'!K:K)","v":0},"کالای جدید، لطفا در شیت نقطه سفارش کد و نام کالا کپی شود"]
[{"$f":"IFERROR(INDEX('موجودی خام اولیه با برندمتفاوت'!A:A,MATCH(C:C,'موجودی خام اولیه با برندمتفاوت'!C:C,0)),0)","v":0},null,null,null,null,0,0,0,null,null,null,{"$f":"COUNTIF('یکسان سازی برند'!K:K,'موجودی خام اولیه با برندمتفاوت'!K:K)","v":0},"کالای جدید، لطفا در شیت نقطه سفارش کد و نام کالا کپی شود"]
[{"$f":"IFERROR(INDEX('موجودی خام اولیه با برندمتفاوت'!A:A,MATCH(C:C,'موجودی خام اولیه با برندمتفاوت'!C:C,0)),0)","v":0},null,null,null,null,0,0,0,null,null,null,{"$f":"COUNTIF('یکسان سازی برند'!K:K,'موجودی خام اولیه با برندمتفاوت'!K:K)","v":0},"کالای جدید، لطفا در شیت نقطه سفارش کد و نام کالا کپی شود"]
[{"$f":"IFERROR(INDEX('موجودی خام اولیه با برندمتفاوت'!A:A,MATCH(C:C,'موجودی خام اولیه با برندمتفاوت'!C:C,0)),0)","v":0},null,null,null,null,0,0,0,null,null,null,{"$f":"COUNTIF('یکسان سازی برند'!K:K,'موجودی خام اولیه با برندمتفاوت'!K:K)","v":0},"کالای جدید، لطفا در شیت نقطه سفارش کد و نام کالا کپی شود"]
[{"$f":"IFERROR(INDEX('موجودی خام اولیه با برندمتفاوت'!A:A,MATCH(C:C,'موجودی خام اولیه با برندمتفاوت'!C:C,0)),0)","v":0},null,null,null,null,0,0,0,null,null,null,{"$f":"COUNTIF('یکسان سازی برند'!K:K,'موجودی خام اولیه با برندمتفاوت'!K:K)","v":0},"کالای جدید، لطفا در شیت نقطه سفارش کد و نام کالا کپی شود"]
[{"$f":"IFERROR(INDEX('موجودی خام اولیه با برندمتفاوت'!A:A,MATCH(C:C,'موجودی خام اولیه با برندمتفاوت'!C:C,0)),0)","v":0},null,null,null,null,0,0,0,null,null,null,{"$f":"COUNTIF('یکسان سازی برند'!K:K,'موجودی خام اولیه با برندمتفاوت'!K:K)","v":0},"کالای جدید، لطفا در شیت نقطه سفارش کد و نام کالا کپی شود"]
[{"$f":"IFERROR(INDEX('موجودی خام اولیه با برندمتفاوت'!A:A,MATCH(C:C,'موجودی خام اولیه با برندمتفاوت'!C:C,0)),0)","v":0},null,null,null,null,{"$f":"IF(E643=\"\",A643,SUMIF(E:E,E643,A:A))","v":0},{"$f":"IF(E643=\"\",B643,D643)","v":0},{"$f":"IF(E643=\"\",C643,E643)","v":0},null,null,null,{"$f":"COUNTIF('یکسان سازی برند'!K:K,'موجودی خام اولیه با برندمتفاوت'!K:K)","v":0},"کالای جدید، لطفا در شیت نقطه سفارش کد و نام کالا کپی شود"]
[{"$f":"IFERROR(INDEX('موجودی خام اولیه با برندمتفاوت'!A:A,MATCH(C:C,'موجودی خام اولیه با برندمتفاوت'!C:C,0)),0)","v":0},null,null,null,null,0,0,0,null,null,null,{"$f":"COUNTIF('یکسان سازی برند'!K:K,'موجودی خام اولیه با برندمتفاوت'!K:K)","v":0},{"$f":"IF(L:L=0,\"کالای جدید، لطفا در شیت نقطه سفارش کد و نام کالا کپی شود\",\"\")","v":"کالای جدید، لطفا در شیت نقطه سفارش کد و نام کالا کپی شود"}]
[{"$f":"IFERROR(INDEX('موجودی خام اولیه با برندمتفاوت'!A:A,MATCH(C:C,'موجودی خام اولیه با برندمتفاوت'!C:C,0)),0)","v":0},null,null,null,null,0,0,0,null,null,null,{"$f":"COUNTIF('یکسان سازی برند'!K:K,'موجودی خام اولیه با برندمتفاوت'!K:K)","v":0},"کالای جدید، لطفا در شیت نقطه سفارش کد و نام کالا کپی شود"]
[{"$f":"IFERROR(INDEX('موجودی خام اولیه با برندمتفاوت'!A:A,MATCH(C:C,'موجودی خام اولیه با برندمتفاوت'!C:C,0)),0)","v":0},null,null,null,null,0,0,0,null,null,null,{"$f":"COUNTIF('یکسان سازی برند'!K:K,'موجودی خام اولیه با برندمتفاوت'!K:K)","v":0},"کالای جدید، لطفا در شیت نقطه سفارش کد و نام کالا کپی شود"]
[{"$f":"IFERROR(INDEX('موجودی خام اولیه با برندمتفاوت'!A:A,MATCH(C:C,'موجودی خام اولیه با برندمتفاوت'!C:C,0)),0)","v":0},null,null,null,null,0,0,0,null,null,null,{"$f":"COUNTIF('یکسان سازی برند'!K:K,'موجودی خام اولیه با برندمتفاوت'!K:K)","v":0},"کالای جدید، لطفا در شیت نقطه سفارش کد و نام کالا کپی شود"]
[{"$f":"IFERROR(INDEX('موجودی خام اولیه با برندمتفاوت'!A:A,MATCH(C:C,'موجودی خام اولیه با برندمتفاوت'!C:C,0)),0)","v":0},null,null,null,null,0,0,0,null,null,null,{"$f":"COUNTIF('یکسان سازی برند'!K:K,'موجودی خام اولیه با برندمتفاوت'!K:K)","v":0},"کالای جدید، لطفا در شیت نقطه سفارش کد و نام کالا کپی شود"]
[{"$f":"IFERROR(INDEX('موجودی خام اولیه با برندمتفاوت'!A:A,MATCH(C:C,'موجودی خام اولیه با برندمتفاوت'!C:C,0)),0)","v":0},null,null,null,null,0,0,0,null,null,null,{"$f":"COUNTIF('یکسان سازی برند'!K:K,'موجودی خام اولیه با برندمتفاوت'!K:K)","v":0},"کالای جدید، لطفا در شیت نقطه سفارش کد و نام کالا کپی شود"]
[{"$f":"IFERROR(INDEX('موجودی خام اولیه با برندمتفاوت'!A:A,MATCH(C:C,'موجودی خام اولیه با برندمتفاوت'!C:C,0)),0)","v":0},null,null,null,null,0,0,0,null,null,null,{"$f":"COUNTIF('یکسان سازی برند'!K:K,'موجودی خام اولیه با برندمتفاوت'!K:K)","v":0},"کالای جدید، لطفا در شیت نقطه سفارش کد و نام کالا کپی شود"]
[{"$f":"IFERROR(INDEX('موجودی خام اولیه با برندمتفاوت'!A:A,MATCH(C:C,'موجودی خام اولیه با برندمتفاوت'!C:C,0)),0)","v":0},null,null,null,null,0,0,0,null,null,null,{"$f":"COUNTIF('یکسان سازی برند'!K:K,'موجودی خام اولیه با برندمتفاوت'!K:K)","v":0},"کالای جدید، لطفا در شیت نقطه سفارش کد و نام کالا کپی شود"]
[{"$f":"IFERROR(INDEX('موجودی خام اولیه با برندمتفاوت'!A:A,MATCH(C:C,'موجودی خام اولیه با برندمتفاوت'!C:C,0)),0)","v":0},null,null,null,null,0,0,0,null,null,null,{"$f":"COUNTIF('یکسان سازی برند'!K:K,'موجودی خام اولیه با برندمتفاوت'!K:K)","v":0},"کالای جدید، لطفا در شیت نقطه سفارش کد و نام کالا کپی شود"]
[{"$f":"IFERROR(INDEX('موجودی خام اولیه با برندمتفاوت'!A:A,MATCH(C:C,'موجودی خام اولیه با برندمتفاوت'!C:C,0)),0)","v":0},null,null,null,null,0,0,0,null,null,null,{"$f":"COUNTIF('یکسان سازی برند'!K:K,'موجودی خام اولیه با برندمتفاوت'!K:K)","v":0},"کالای جدید، لطفا در شیت نقطه سفارش کد و نام کالا کپی شود"]
[{"$f":"IFERROR(INDEX('موجودی خام اولیه با برندمتفاوت'!A:A,MATCH(C:C,'موجودی خام اولیه با برندمتفاوت'!C:C,0)),0)","v":0},null,null,null,null,0,0,0,null,null,null,{"$f":"COUNTIF('یکسان سازی برند'!K:K,'موجودی خام اولیه با برندمتفاوت'!K:K)","v":0},"کالای جدید، لطفا در شیت نقطه سفارش کد و نام کالا کپی شود"]
[{"$f":"IFERROR(INDEX('موجودی خام اولیه با برندمتفاوت'!A:A,MATCH(C:C,'موجودی خام اولیه با برندمتفاوت'!C:C,0)),0)","v":0},null,null,null,null,0,0,0,null,null,null,{"$f":"COUNTIF('یکسان سازی برند'!K:K,'موجودی خام اولیه با برندمتفاوت'!K:K)","v":0},"کالای جدید، لطفا در شیت نقطه سفارش کد و نام کالا کپی شود"]
[{"$f":"IFERROR(INDEX('موجودی خام اولیه با برندمتفاوت'!A:A,MATCH(C:C,'موجودی خام اولیه با برندمتفاوت'!C:C,0)),0)","v":0},null,null,null,null,0,0,0,null,null,null,{"$f":"COUNTIF('یکسان سازی برند'!K:K,'موجودی خام اولیه با برندمتفاوت'!K:K)","v":0},"کالای جدید، لطفا در شیت نقطه سفارش کد و نام کالا کپی شود"]
[{"$f":"IFERROR(INDEX('موجودی خام اولیه با برندمتفاوت'!A:A,MATCH(C:C,'موجودی خام اولیه با برندمتفاوت'!C:C,0)),0)","v":0},null,null,null,null,0,0,0,null,null,null,{"$f":"COUNTIF('یکسان سازی برند'!K:K,'موجودی خام اولیه با برندمتفاوت'!K:K)","v":0},"کالای جدید، لطفا در شیت نقطه سفارش کد و نام کالا کپی شود"]
[{"$f":"IFERROR(INDEX('موجودی خام اولیه با برندمتفاوت'!A:A,MATCH(C:C,'موجودی خام اولیه با برندمتفاوت'!C:C,0)),0)","v":0},null,null,null,null,0,0,0,null,null,null,{"$f":"COUNTIF('یکسان سازی برند'!K:K,'موجودی خام اولیه با برندمتفاوت'!K:K)","v":0},"کالای جدید، لطفا در شیت نقطه سفارش کد و نام کالا کپی شود"]
[{"$f":"IFERROR(INDEX('موجودی خام اولیه با برندمتفاوت'!A:A,MATCH(C:C,'موجودی خام اولیه با برندمتفاوت'!C:C,0)),0)","v":0},null,null,null,null,0,0,0,null,null,null,{"$f":"COUNTIF('یکسان سازی برند'!K:K,'موجودی خام اولیه با برندمتفاوت'!K:K)","v":0},"کالای جدید، لطفا در شیت نقطه سفارش کد و نام کالا کپی شود"]
[{"$f":"IFERROR(INDEX('موجودی خام اولیه با برندمتفاوت'!A:A,MATCH(C:C,'موجودی خام اولیه با برندمتفاوت'!C:C,0)),0)","v":0},null,null,null,null,0,0,0,null,null,null,{"$f":"COUNTIF('یکسان سازی برند'!K:K,'موجودی خام اولیه با برندمتفاوت'!K:K)","v":0},"کالای جدید، لطفا در شیت نقطه سفارش کد و نام کالا کپی شود"]
[{"$f":"IFERROR(INDEX('موجودی خام اولیه با برندمتفاوت'!A:A,MATCH(C:C,'موجودی خام اولیه با برندمتفاوت'!C:C,0)),0)","v":0},null,null,null,null,0,0,0,null,null,null,{"$f":"COUNTIF('یکسان سازی برند'!K:K,'موجودی خام اولیه با برندمتفاوت'!K:K)","v":0},"کالای جدید، لطفا در شیت نقطه سفارش کد و نام کالا کپی شود"]
[{"$f":"IFERROR(INDEX('موجودی خام اولیه با برندمتفاوت'!A:A,MATCH(C:C,'موجودی خام اولیه با برندمتفاوت'!C:C,0)),0)","v":0},null,null,null,null,0,0,0,null,null,null,{"$f":"COUNTIF('یکسان سازی برند'!K:K,'موجودی خام اولیه با برندمتفاوت'!K:K)","v":0},"کالای جدید، لطفا در شیت نقطه سفارش کد و نام کالا کپی شود"]
[{"$f":"IFERROR(INDEX('موجودی خام اولیه با برندمتفاوت'!A:A,MATCH(C:C,'موجودی خام اولیه با برندمتفاوت'!C:C,0)),0)","v":0},null,null,null,null,0,0,0,null,null,null,{"$f":"COUNTIF('یکسان سازی برند'!K:K,'موجودی خام اولیه با برندمتفاوت'!K:K)","v":0},"کالای جدید، لطفا در شیت نقطه سفارش کد و نام کالا کپی شود"]
[{"$f":"IFERROR(INDEX('موجودی خام اولیه با برندمتفاوت'!A:A,MATCH(C:C,'موجودی خام اولیه با برندمتفاوت'!C:C,0)),0)","v":0},null,null,null,null,0,0,0,null,null,null,{"$f":"COUNTIF('یکسان سازی برند'!K:K,'موجودی خام اولیه با برندمتفاوت'!K:K)","v":0},"کالای جدید، لطفا در شیت نقطه سفارش کد و نام کالا کپی شود"]
[{"$f":"IFERROR(INDEX('موجودی خام اولیه با برندمتفاوت'!A:A,MATCH(C:C,'موجودی خام اولیه با برندمتفاوت'!C:C,0)),0)","v":0},null,null,null,null,0,0,0,null,null,null,{"$f":"COUNTIF('یکسان سازی برند'!K:K,'موجودی خام اولیه با برندمتفاوت'!K:K)","v":0},"کالای جدید، لطفا در شیت نقطه سفارش کد و نام کالا کپی شود"]
[{"$f":"IFERROR(INDEX('موجودی خام اولیه با برندمتفاوت'!A:A,MATCH(C:C,'موجودی خام اولیه با برندمتفاوت'!C:C,0)),0)","v":0},null,null,null,null,0,0,0,null,null,null,{"$f":"COUNTIF('یکسان سازی برند'!K:K,'موجودی خام اولیه با برندمتفاوت'!K:K)","v":0},"کالای جدید، لطفا در شیت نقطه سفارش کد و نام کالا کپی شود"]
[{"$f":"IFERROR(INDEX('موجودی خام اولیه با برندمتفاوت'!A:A,MATCH(C:C,'موجودی خام اولیه با برندمتفاوت'!C:C,0)),0)","v":0},null,null,null,null,0,0,0,null,null,null,{"$f":"COUNTIF('یکسان سازی برند'!K:K,'موجودی خام اولیه با برندمتفاوت'!K:K)","v":0},"کالای جدید، لطفا در شیت نقطه سفارش کد و نام کالا کپی شود"]
[{"$f":"IFERROR(INDEX('موجودی خام اولیه با برندمتفاوت'!A:A,MATCH(C:C,'موجودی خام اولیه با برندمتفاوت'!C:C,0)),0)","v":0},null,null,null,null,0,0,0,null,null,null,{"$f":"COUNTIF('یکسان سازی برند'!K:K,'موجودی خام اولیه با برندمتفاوت'!K:K)","v":0},"کالای جدید، لطفا در شیت نقطه سفارش کد و نام کالا کپی شود"]
[{"$f":"IFERROR(INDEX('موجودی خام اولیه با برندمتفاوت'!A:A,MATCH(C:C,'موجودی خام اولیه با برندمتفاوت'!C:C,0)),0)","v":0},null,null,null,null,0,0,0,null,null,null,{"$f":"COUNTIF('یکسان سازی برند'!K:K,'موجودی خام اولیه با برندمتفاوت'!K:K)","v":0},"کالای جدید، لطفا در شیت نقطه سفارش کد و نام کالا کپی شود"]
[{"$f":"IFERROR(INDEX('موجودی خام اولیه با برندمتفاوت'!A:A,MATCH(C:C,'موجودی خام اولیه با برندمتفاوت'!C:C,0)),0)","v":0},null,null,null,null,0,0,0,null,null,null,{"$f":"COUNTIF('یکسان سازی برند'!K:K,'موجودی خام اولیه با برندمتفاوت'!K:K)","v":0},"کالای جدید، لطفا در شیت نقطه سفارش کد و نام کالا کپی شود"]
[{"$f":"IFERROR(INDEX('موجودی خام اولیه با برندمتفاوت'!A:A,MATCH(C:C,'موجودی خام اولیه با برندمتفاوت'!C:C,0)),0)","v":0},null,null,null,null,0,0,0,null,null,null,{"$f":"COUNTIF('یکسان سازی برند'!K:K,'موجودی خام اولیه با برندمتفاوت'!K:K)","v":0},"کالای جدید، لطفا در شیت نقطه سفارش کد و نام کالا کپی شود"]
[{"$f":"IFERROR(INDEX('موجودی خام اولیه با برندمتفاوت'!A:A,MATCH(C:C,'موجودی خام اولیه با برندمتفاوت'!C:C,0)),0)","v":0},null,null,null,null,0,0,0,null,null,null,{"$f":"COUNTIF('یکسان سازی برند'!K:K,'موجودی خام اولیه با برندمتفاوت'!K:K)","v":0},"کالای جدید، لطفا در شیت نقطه سفارش کد و نام کالا کپی شود"]
[{"$f":"IFERROR(INDEX('موجودی خام اولیه با برندمتفاوت'!A:A,MATCH(C:C,'موجودی خام اولیه با برندمتفاوت'!C:C,0)),0)","v":0},null,null,null,null,0,0,0,null,null,null,{"$f":"COUNTIF('یکسان سازی برند'!K:K,'موجودی خام اولیه با برندمتفاوت'!K:K)","v":0},"کالای جدید، لطفا در شیت نقطه سفارش کد و نام کالا کپی شود"]
[{"$f":"IFERROR(INDEX('موجودی خام اولیه با برندمتفاوت'!A:A,MATCH(C:C,'موجودی خام اولیه با برندمتفاوت'!C:C,0)),0)","v":0},null,null,null,null,null,0,0,null,null,null,{"$f":"COUNTIF('یکسان سازی برند'!K:K,'موجودی خام اولیه با برندمتفاوت'!K:K)","v":0},"کالای جدید، لطفا در شیت نقطه سفارش کد و نام کالا کپی شود"]
[{"$f":"IFERROR(INDEX('موجودی خام اولیه با برندمتفاوت'!A:A,MATCH(C:C,'موجودی خام اولیه با برندمتفاوت'!C:C,0)),0)","v":0},null,null,null,null,null,0,0,null,null,null,{"$f":"COUNTIF('یکسان سازی برند'!K:K,'موجودی خام اولیه با برندمتفاوت'!K:K)","v":0},"کالای جدید، لطفا در شیت نقطه سفارش کد و نام کالا کپی شود"]
[{"$f":"IFERROR(INDEX('موجودی خام اولیه با برندمتفاوت'!A:A,MATCH(C:C,'موجودی خام اولیه با برندمتفاوت'!C:C,0)),0)","v":0},null,null,null,null,null,0,0,null,null,null,{"$f":"COUNTIF('یکسان سازی برند'!K:K,'موجودی خام اولیه با برندمتفاوت'!K:K)","v":0},"کالای جدید، لطفا در شیت نقطه سفارش کد و نام کالا کپی شود"]
[{"$f":"IFERROR(INDEX('موجودی خام اولیه با برندمتفاوت'!A:A,MATCH(C:C,'موجودی خام اولیه با برندمتفاوت'!C:C,0)),0)","v":0},null,null,null,null,null,0,0,null,null,null,{"$f":"COUNTIF('یکسان سازی برند'!K:K,'موجودی خام اولیه با برندمتفاوت'!K:K)","v":0},"کالای جدید، لطفا در شیت نقطه سفارش کد و نام کالا کپی شود"]
[{"$f":"IFERROR(INDEX('موجودی خام اولیه با برندمتفاوت'!A:A,MATCH(C:C,'موجودی خام اولیه با برندمتفاوت'!C:C,0)),0)","v":0},null,null,null,null,null,0,0,null,null,null,{"$f":"COUNTIF('یکسان سازی برند'!K:K,'موجودی خام اولیه با برندمتفاوت'!K:K)","v":0},"کالای جدید، لطفا در شیت نقطه سفارش کد و نام کالا کپی شود"]
[{"$f":"IFERROR(INDEX('موجودی خام اولیه با برندمتفاوت'!A:A,MATCH(C:C,'موجودی خام اولیه با برندمتفاوت'!C:C,0)),0)","v":0},null,null,null,null,null,0,0,null,null,null,{"$f":"COUNTIF('یکسان سازی برند'!K:K,'موجودی خام اولیه با برندمتفاوت'!K:K)","v":0},"کالای جدید، لطفا در شیت نقطه سفارش کد و نام کالا کپی شود"]
[{"$f":"IFERROR(INDEX('موجودی خام اولیه با برندمتفاوت'!A:A,MATCH(C:C,'موجودی خام اولیه با برندمتفاوت'!C:C,0)),0)","v":0},null,null,null,null,null,0,0,null,null,null,{"$f":"COUNTIF('یکسان سازی برند'!K:K,'موجودی خام اولیه با برندمتفاوت'!K:K)","v":0},"کالای جدید، لطفا در شیت نقطه سفارش کد و نام کالا کپی شود"]
[{"$f":"IFERROR(INDEX('موجودی خام اولیه با برندمتفاوت'!A:A,MATCH(C:C,'موجودی خام اولیه با برندمتفاوت'!C:C,0)),0)","v":0},null,null,null,null,null,0,0,null,null,null,{"$f":"COUNTIF('یکسان سازی برند'!K:K,'موجودی خام اولیه با برندمتفاوت'!K:K)","v":0},"کالای جدید، لطفا در شیت نقطه سفارش کد و نام کالا کپی شود"]
[{"$f":"IFERROR(INDEX('موجودی خام اولیه با برندمتفاوت'!A:A,MATCH(C:C,'موجودی خام اولیه با برندمتفاوت'!C:C,0)),0)","v":0},null,null,null,null,null,0,0,null,null,null,{"$f":"COUNTIF('یکسان سازی برند'!K:K,'موجودی خام اولیه با برندمتفاوت'!K:K)","v":0},"کالای جدید، لطفا در شیت نقطه سفارش کد و نام کالا کپی شود"]
[{"$f":"IFERROR(INDEX('موجودی خام اولیه با برندمتفاوت'!A:A,MATCH(C:C,'موجودی خام اولیه با برندمتفاوت'!C:C,0)),0)","v":0},null,null,null,null,null,0,0,null,null,null,{"$f":"COUNTIF('یکسان سازی برند'!K:K,'موجودی خام اولیه با برندمتفاوت'!K:K)","v":0},"کالای جدید، لطفا در شیت نقطه سفارش کد و نام کالا کپی شود"]
[{"$f":"IFERROR(INDEX('موجودی خام اولیه با برندمتفاوت'!A:A,MATCH(C:C,'موجودی خام اولیه با برندمتفاوت'!C:C,0)),0)","v":0},null,null,null,null,null,0,0,null,null,null,{"$f":"COUNTIF('یکسان سازی برند'!K:K,'موجودی خام اولیه با برندمتفاوت'!K:K)","v":0},"کالای جدید، لطفا در شیت نقطه سفارش کد و نام کالا کپی شود"]
[{"$f":"IFERROR(INDEX('موجودی خام اولیه با برندمتفاوت'!A:A,MATCH(C:C,'موجودی خام اولیه با برندمتفاوت'!C:C,0)),0)","v":0},null,null,null,null,null,0,0,null,null,null,{"$f":"COUNTIF('یکسان سازی برند'!K:K,'موجودی خام اولیه با برندمتفاوت'!K:K)","v":0},"کالای جدید، لطفا در شیت نقطه سفارش کد و نام کالا کپی شود"]
[{"$f":"IFERROR(INDEX('موجودی خام اولیه با برندمتفاوت'!A:A,MATCH(C:C,'موجودی خام اولیه با برندمتفاوت'!C:C,0)),0)","v":0},null,null,null,null,null,0,0,null,null,null,{"$f":"COUNTIF('یکسان سازی برند'!K:K,'موجودی خام اولیه با برندمتفاوت'!K:K)","v":0},"کالای جدید، لطفا در شیت نقطه سفارش کد و نام کالا کپی شود"]
[{"$f":"IFERROR(INDEX('موجودی خام اولیه با برندمتفاوت'!A:A,MATCH(C:C,'موجودی خام اولیه با برندمتفاوت'!C:C,0)),0)","v":0},null,null,null,null,null,0,0,null,null,null,{"$f":"COUNTIF('یکسان سازی برند'!K:K,'موجودی خام اولیه با برندمتفاوت'!K:K)","v":0},"کالای جدید، لطفا در شیت نقطه سفارش کد و نام کالا کپی شود"]
[{"$f":"IFERROR(INDEX('موجودی خام اولیه با برندمتفاوت'!A:A,MATCH(C:C,'موجودی خام اولیه با برندمتفاوت'!C:C,0)),0)","v":0},null,null,null,null,null,0,0,null,null,null,{"$f":"COUNTIF('یکسان سازی برند'!K:K,'موجودی خام اولیه با برندمتفاوت'!K:K)","v":0},"کالای جدید، لطفا در شیت نقطه سفارش کد و نام کالا کپی شود"]
[{"$f":"IFERROR(INDEX('موجودی خام اولیه با برندمتفاوت'!A:A,MATCH(C:C,'موجودی خام اولیه با برندمتفاوت'!C:C,0)),0)","v":0},null,null,null,null,null,0,0,null,null,null,{"$f":"COUNTIF('یکسان سازی برند'!K:K,'موجودی خام اولیه با برندمتفاوت'!K:K)","v":0},"کالای جدید، لطفا در شیت نقطه سفارش کد و نام کالا کپی شود"]
[{"$f":"IFERROR(INDEX('موجودی خام اولیه با برندمتفاوت'!A:A,MATCH(C:C,'موجودی خام اولیه با برندمتفاوت'!C:C,0)),0)","v":0},null,null,null,null,null,0,0,null,null,null,{"$f":"COUNTIF('یکسان سازی برند'!K:K,'موجودی خام اولیه با برندمتفاوت'!K:K)","v":0},"کالای جدید، لطفا در شیت نقطه سفارش کد و نام کالا کپی شود"]
[{"$f":"IFERROR(INDEX('موجودی خام اولیه با برندمتفاوت'!A:A,MATCH(C:C,'موجودی خام اولیه با برندمتفاوت'!C:C,0)),0)","v":0},null,null,null,null,null,0,0,null,null,null,{"$f":"COUNTIF('یکسان سازی برند'!K:K,'موجودی خام اولیه با برندمتفاوت'!K:K)","v":0},"کالای جدید، لطفا در شیت نقطه سفارش کد و نام کالا کپی شود"]
[{"$f":"IFERROR(INDEX('موجودی خام اولیه با برندمتفاوت'!A:A,MATCH(C:C,'موجودی خام اولیه با برندمتفاوت'!C:C,0)),0)","v":0},null,null,null,null,null,0,0,null,null,null,{"$f":"COUNTIF('یکسان سازی برند'!K:K,'موجودی خام اولیه با برندمتفاوت'!K:K)","v":0},"کالای جدید، لطفا در شیت نقطه سفارش کد و نام کالا کپی شود"]
[{"$f":"IFERROR(INDEX('موجودی خام اولیه با برندمتفاوت'!A:A,MATCH(C:C,'موجودی خام اولیه با برندمتفاوت'!C:C,0)),0)","v":0},null,null,null,null,null,0,0,null,null,null,{"$f":"COUNTIF('یکسان سازی برند'!K:K,'موجودی خام اولیه با برندمتفاوت'!K:K)","v":0},"کالای جدید، لطفا در شیت نقطه سفارش کد و نام کالا کپی شود"]
[{"$f":"IFERROR(INDEX('موجودی خام اولیه با برندمتفاوت'!A:A,MATCH(C:C,'موجودی خام اولیه با برندمتفاوت'!C:C,0)),0)","v":0},null,null,null,null,null,0,0,null,null,null,{"$f":"COUNTIF('یکسان سازی برند'!K:K,'موجودی خام اولیه با برندمتفاوت'!K:K)","v":0},"کالای جدید، لطفا در شیت نقطه سفارش کد و نام کالا کپی شود"]
[{"$f":"IFERROR(INDEX('موجودی خام اولیه با برندمتفاوت'!A:A,MATCH(C:C,'موجودی خام اولیه با برندمتفاوت'!C:C,0)),0)","v":0},null,null,null,null,null,0,0,null,null,null,{"$f":"COUNTIF('یکسان سازی برند'!K:K,'موجودی خام اولیه با برندمتفاوت'!K:K)","v":0},"کالای جدید، لطفا در شیت نقطه سفارش کد و نام کالا کپی شود"]
[{"$f":"IFERROR(INDEX('موجودی خام اولیه با برندمتفاوت'!A:A,MATCH(C:C,'موجودی خام اولیه با برندمتفاوت'!C:C,0)),0)","v":0},null,null,null,null,null,0,0,null,null,null,{"$f":"COUNTIF('یکسان سازی برند'!K:K,'موجودی خام اولیه با برندمتفاوت'!K:K)","v":0},"کالای جدید، لطفا در شیت نقطه سفارش کد و نام کالا کپی شود"]
[{"$f":"IFERROR(INDEX('موجودی خام اولیه با برندمتفاوت'!A:A,MATCH(C:C,'موجودی خام اولیه با برندمتفاوت'!C:C,0)),0)","v":0},null,null,null,null,null,0,0,null,null,null,{"$f":"COUNTIF('یکسان سازی برند'!K:K,'موجودی خام اولیه با برندمتفاوت'!K:K)","v":0},"کالای جدید، لطفا در شیت نقطه سفارش کد و نام کالا کپی شود"]
[{"$f":"IFERROR(INDEX('موجودی خام اولیه با برندمتفاوت'!A:A,MATCH(C:C,'موجودی خام اولیه با برندمتفاوت'!C:C,0)),0)","v":0},null,null,null,null,null,0,0,null,null,null,{"$f":"COUNTIF('یکسان سازی برند'!K:K,'موجودی خام اولیه با برندمتفاوت'!K:K)","v":0},"کالای جدید، لطفا در شیت نقطه سفارش کد و نام کالا کپی شود"]
[{"$f":"IFERROR(INDEX('موجودی خام اولیه با برندمتفاوت'!A:A,MATCH(C:C,'موجودی خام اولیه با برندمتفاوت'!C:C,0)),0)","v":0},null,null,null,null,null,0,0,null,null,null,{"$f":"COUNTIF('یکسان سازی برند'!K:K,'موجودی خام اولیه با برندمتفاوت'!K:K)","v":0},"کالای جدید، لطفا در شیت نقطه سفارش کد و نام کالا کپی شود"]
[{"$f":"IFERROR(INDEX('موجودی خام اولیه با برندمتفاوت'!A:A,MATCH(C:C,'موجودی خام اولیه با برندمتفاوت'!C:C,0)),0)","v":0},null,null,null,null,null,0,0,null,null,null,{"$f":"COUNTIF('یکسان سازی برند'!K:K,'موجودی خام اولیه با برندمتفاوت'!K:K)","v":0},"کالای جدید، لطفا در شیت نقطه سفارش کد و نام کالا کپی شود"]
[{"$f":"IFERROR(INDEX('موجودی خام اولیه با برندمتفاوت'!A:A,MATCH(C:C,'موجودی خام اولیه با برندمتفاوت'!C:C,0)),0)","v":0},null,null,null,null,null,0,0,null,null,null,{"$f":"COUNTIF('یکسان سازی برند'!K:K,'موجودی خام اولیه با برندمتفاوت'!K:K)","v":0},"کالای جدید، لطفا در شیت نقطه سفارش کد و نام کالا کپی شود"]
[{"$f":"IFERROR(INDEX('موجودی خام اولیه با برندمتفاوت'!A:A,MATCH(C:C,'موجودی خام اولیه با برندمتفاوت'!C:C,0)),0)","v":0},null,null,null,null,null,0,0,null,null,null,{"$f":"COUNTIF('یکسان سازی برند'!K:K,'موجودی خام اولیه با برندمتفاوت'!K:K)","v":0},"کالای جدید، لطفا در شیت نقطه سفارش کد و نام کالا کپی شود"]
[{"$f":"IFERROR(INDEX('موجودی خام اولیه با برندمتفاوت'!A:A,MATCH(C:C,'موجودی خام اولیه با برندمتفاوت'!C:C,0)),0)","v":0},null,null,null,null,null,0,0,null,null,null,{"$f":"COUNTIF('یکسان سازی برند'!K:K,'موجودی خام اولیه با برندمتفاوت'!K:K)","v":0},"کالای جدید، لطفا در شیت نقطه سفارش کد و نام کالا کپی شود"]
[{"$f":"IFERROR(INDEX('موجودی خام اولیه با برندمتفاوت'!A:A,MATCH(C:C,'موجودی خام اولیه با برندمتفاوت'!C:C,0)),0)","v":0},null,null,null,null,null,0,0,null,null,null,{"$f":"COUNTIF('یکسان سازی برند'!K:K,'موجودی خام اولیه با برندمتفاوت'!K:K)","v":0},"کالای جدید، لطفا در شیت نقطه سفارش کد و نام کالا کپی شود"]
[{"$f":"IFERROR(INDEX('موجودی خام اولیه با برندمتفاوت'!A:A,MATCH(C:C,'موجودی خام اولیه با برندمتفاوت'!C:C,0)),0)","v":0},null,null,null,null,null,0,0,null,null,null,{"$f":"COUNTIF('یکسان سازی برند'!K:K,'موجودی خام اولیه با برندمتفاوت'!K:K)","v":0},"کالای جدید، لطفا در شیت نقطه سفارش کد و نام کالا کپی شود"]
[{"$f":"IFERROR(INDEX('موجودی خام اولیه با برندمتفاوت'!A:A,MATCH(C:C,'موجودی خام اولیه با برندمتفاوت'!C:C,0)),0)","v":0},null,null,null,null,null,0,0,null,null,null,{"$f":"COUNTIF('یکسان سازی برند'!K:K,'موجودی خام اولیه با برندمتفاوت'!K:K)","v":0},"کالای جدید، لطفا در شیت نقطه سفارش کد و نام کالا کپی شود"]
[{"$f":"IFERROR(INDEX('موجودی خام اولیه با برندمتفاوت'!A:A,MATCH(C:C,'موجودی خام اولیه با برندمتفاوت'!C:C,0)),0)","v":0},null,null,null,null,null,{"$f":"IF(E707=\"\",B707,D707)","v":0},{"$f":"IF(E707=\"\",C707,E707)","v":0},null,null,null,{"$f":"COUNTIF('یکسان سازی برند'!K:K,'موجودی خام اولیه با برندمتفاوت'!K:K)","v":0},"کالای جدید، لطفا در شیت نقطه سفارش کد و نام کالا کپی شود"]
[{"$f":"IFERROR(INDEX('موجودی خام اولیه با برندمتفاوت'!A:A,MATCH(C:C,'موجودی خام اولیه با برندمتفاوت'!C:C,0)),0)","v":0},null,null,null,null,null,0,0,null,null,null,{"$f":"COUNTIF('یکسان سازی برند'!K:K,'موجودی خام اولیه با برندمتفاوت'!K:K)","v":0},{"$f":"IF(L:L=0,\"کالای جدید، لطفا در شیت نقطه سفارش کد و نام کالا کپی شود\",\"\")","v":"کالای جدید، لطفا در شیت نقطه سفارش کد و نام کالا کپی شود"}]
[{"$f":"IFERROR(INDEX('موجودی خام اولیه با برندمتفاوت'!A:A,MATCH(C:C,'موجودی خام اولیه با برندمتفاوت'!C:C,0)),0)","v":0},null,null,null,null,null,0,0,null,null,null,{"$f":"COUNTIF('یکسان سازی برند'!K:K,'موجودی خام اولیه با برندمتفاوت'!K:K)","v":0},"کالای جدید، لطفا در شیت نقطه سفارش کد و نام کالا کپی شود"]
[{"$f":"IFERROR(INDEX('موجودی خام اولیه با برندمتفاوت'!A:A,MATCH(C:C,'موجودی خام اولیه با برندمتفاوت'!C:C,0)),0)","v":0},null,null,null,null,null,0,0,null,null,null,{"$f":"COUNTIF('یکسان سازی برند'!K:K,'موجودی خام اولیه با برندمتفاوت'!K:K)","v":0},"کالای جدید، لطفا در شیت نقطه سفارش کد و نام کالا کپی شود"]
[{"$f":"IFERROR(INDEX('موجودی خام اولیه با برندمتفاوت'!A:A,MATCH(C:C,'موجودی خام اولیه با برندمتفاوت'!C:C,0)),0)","v":0},null,null,null,null,null,0,0,null,null,null,{"$f":"COUNTIF('یکسان سازی برند'!K:K,'موجودی خام اولیه با برندمتفاوت'!K:K)","v":0},"کالای جدید، لطفا در شیت نقطه سفارش کد و نام کالا کپی شود"]
[{"$f":"IFERROR(INDEX('موجودی خام اولیه با برندمتفاوت'!A:A,MATCH(C:C,'موجودی خام اولیه با برندمتفاوت'!C:C,0)),0)","v":0},null,null,null,null,null,0,0,null,null,null,{"$f":"COUNTIF('یکسان سازی برند'!K:K,'موجودی خام اولیه با برندمتفاوت'!K:K)","v":0},"کالای جدید، لطفا در شیت نقطه سفارش کد و نام کالا کپی شود"]
[{"$f":"IFERROR(INDEX('موجودی خام اولیه با برندمتفاوت'!A:A,MATCH(C:C,'موجودی خام اولیه با برندمتفاوت'!C:C,0)),0)","v":0},null,null,null,null,null,0,0,null,null,null,{"$f":"COUNTIF('یکسان سازی برند'!K:K,'موجودی خام اولیه با برندمتفاوت'!K:K)","v":0},"کالای جدید، لطفا در شیت نقطه سفارش کد و نام کالا کپی شود"]
[{"$f":"IFERROR(INDEX('موجودی خام اولیه با برندمتفاوت'!A:A,MATCH(C:C,'موجودی خام اولیه با برندمتفاوت'!C:C,0)),0)","v":0},null,null,null,null,null,0,0,null,null,null,{"$f":"COUNTIF('یکسان سازی برند'!K:K,'موجودی خام اولیه با برندمتفاوت'!K:K)","v":0},"کالای جدید، لطفا در شیت نقطه سفارش کد و نام کالا کپی شود"]
[{"$f":"IFERROR(INDEX('موجودی خام اولیه با برندمتفاوت'!A:A,MATCH(C:C,'موجودی خام اولیه با برندمتفاوت'!C:C,0)),0)","v":0},null,null,null,null,null,0,0,null,null,null,{"$f":"COUNTIF('یکسان سازی برند'!K:K,'موجودی خام اولیه با برندمتفاوت'!K:K)","v":0},"کالای جدید، لطفا در شیت نقطه سفارش کد و نام کالا کپی شود"]
[{"$f":"IFERROR(INDEX('موجودی خام اولیه با برندمتفاوت'!A:A,MATCH(C:C,'موجودی خام اولیه با برندمتفاوت'!C:C,0)),0)","v":0},null,null,null,null,null,0,0,null,null,null,{"$f":"COUNTIF('یکسان سازی برند'!K:K,'موجودی خام اولیه با برندمتفاوت'!K:K)","v":0},"کالای جدید، لطفا در شیت نقطه سفارش کد و نام کالا کپی شود"]
[{"$f":"IFERROR(INDEX('موجودی خام اولیه با برندمتفاوت'!A:A,MATCH(C:C,'موجودی خام اولیه با برندمتفاوت'!C:C,0)),0)","v":0},null,null,null,null,null,0,0,null,null,null,{"$f":"COUNTIF('یکسان سازی برند'!K:K,'موجودی خام اولیه با برندمتفاوت'!K:K)","v":0},"کالای جدید، لطفا در شیت نقطه سفارش کد و نام کالا کپی شود"]
[{"$f":"IFERROR(INDEX('موجودی خام اولیه با برندمتفاوت'!A:A,MATCH(C:C,'موجودی خام اولیه با برندمتفاوت'!C:C,0)),0)","v":0},null,null,null,null,null,0,0,null,null,null,{"$f":"COUNTIF('یکسان سازی برند'!K:K,'موجودی خام اولیه با برندمتفاوت'!K:K)","v":0},"کالای جدید، لطفا در شیت نقطه سفارش کد و نام کالا کپی شود"]
[{"$f":"IFERROR(INDEX('موجودی خام اولیه با برندمتفاوت'!A:A,MATCH(C:C,'موجودی خام اولیه با برندمتفاوت'!C:C,0)),0)","v":0},null,null,null,null,null,0,0,null,null,null,{"$f":"COUNTIF('یکسان سازی برند'!K:K,'موجودی خام اولیه با برندمتفاوت'!K:K)","v":0},"کالای جدید، لطفا در شیت نقطه سفارش کد و نام کالا کپی شود"]
[{"$f":"IFERROR(INDEX('موجودی خام اولیه با برندمتفاوت'!A:A,MATCH(C:C,'موجودی خام اولیه با برندمتفاوت'!C:C,0)),0)","v":0},null,null,null,null,null,0,0,null,null,null,{"$f":"COUNTIF('یکسان سازی برند'!K:K,'موجودی خام اولیه با برندمتفاوت'!K:K)","v":0},"کالای جدید، لطفا در شیت نقطه سفارش کد و نام کالا کپی شود"]
[{"$f":"IFERROR(INDEX('موجودی خام اولیه با برندمتفاوت'!A:A,MATCH(C:C,'موجودی خام اولیه با برندمتفاوت'!C:C,0)),0)","v":0},null,null,null,null,null,0,0,null,null,null,{"$f":"COUNTIF('یکسان سازی برند'!K:K,'موجودی خام اولیه با برندمتفاوت'!K:K)","v":0},"کالای جدید، لطفا در شیت نقطه سفارش کد و نام کالا کپی شود"]
[{"$f":"IFERROR(INDEX('موجودی خام اولیه با برندمتفاوت'!A:A,MATCH(C:C,'موجودی خام اولیه با برندمتفاوت'!C:C,0)),0)","v":0},null,null,null,null,null,0,0,null,null,null,{"$f":"COUNTIF('یکسان سازی برند'!K:K,'موجودی خام اولیه با برندمتفاوت'!K:K)","v":0},"کالای جدید، لطفا در شیت نقطه سفارش کد و نام کالا کپی شود"]
[{"$f":"IFERROR(INDEX('موجودی خام اولیه با برندمتفاوت'!A:A,MATCH(C:C,'موجودی خام اولیه با برندمتفاوت'!C:C,0)),0)","v":0},null,null,null,null,null,0,0,null,null,null,{"$f":"COUNTIF('یکسان سازی برند'!K:K,'موجودی خام اولیه با برندمتفاوت'!K:K)","v":0},"کالای جدید، لطفا در شیت نقطه سفارش کد و نام کالا کپی شود"]
[{"$f":"IFERROR(INDEX('موجودی خام اولیه با برندمتفاوت'!A:A,MATCH(C:C,'موجودی خام اولیه با برندمتفاوت'!C:C,0)),0)","v":0},null,null,null,null,null,0,0,null,null,null,{"$f":"COUNTIF('یکسان سازی برند'!K:K,'موجودی خام اولیه با برندمتفاوت'!K:K)","v":0},"کالای جدید، لطفا در شیت نقطه سفارش کد و نام کالا کپی شود"]
[{"$f":"IFERROR(INDEX('موجودی خام اولیه با برندمتفاوت'!A:A,MATCH(C:C,'موجودی خام اولیه با برندمتفاوت'!C:C,0)),0)","v":0},null,null,null,null,null,0,0,null,null,null,{"$f":"COUNTIF('یکسان سازی برند'!K:K,'موجودی خام اولیه با برندمتفاوت'!K:K)","v":0},"کالای جدید، لطفا در شیت نقطه سفارش کد و نام کالا کپی شود"]
[{"$f":"IFERROR(INDEX('موجودی خام اولیه با برندمتفاوت'!A:A,MATCH(C:C,'موجودی خام اولیه با برندمتفاوت'!C:C,0)),0)","v":0},null,null,null,null,null,0,0,null,null,null,{"$f":"COUNTIF('یکسان سازی برند'!K:K,'موجودی خام اولیه با برندمتفاوت'!K:K)","v":0},"کالای جدید، لطفا در شیت نقطه سفارش کد و نام کالا کپی شود"]
[{"$f":"IFERROR(INDEX('موجودی خام اولیه با برندمتفاوت'!A:A,MATCH(C:C,'موجودی خام اولیه با برندمتفاوت'!C:C,0)),0)","v":0},null,null,null,null,null,0,0,null,null,null,{"$f":"COUNTIF('یکسان سازی برند'!K:K,'موجودی خام اولیه با برندمتفاوت'!K:K)","v":0},"کالای جدید، لطفا در شیت نقطه سفارش کد و نام کالا کپی شود"]
[{"$f":"IFERROR(INDEX('موجودی خام اولیه با برندمتفاوت'!A:A,MATCH(C:C,'موجودی خام اولیه با برندمتفاوت'!C:C,0)),0)","v":0},null,null,null,null,null,0,0,null,null,null,{"$f":"COUNTIF('یکسان سازی برند'!K:K,'موجودی خام اولیه با برندمتفاوت'!K:K)","v":0},"کالای جدید، لطفا در شیت نقطه سفارش کد و نام کالا کپی شود"]
[{"$f":"IFERROR(INDEX('موجودی خام اولیه با برندمتفاوت'!A:A,MATCH(C:C,'موجودی خام اولیه با برندمتفاوت'!C:C,0)),0)","v":0},null,null,null,null,null,0,0,null,null,null,{"$f":"COUNTIF('یکسان سازی برند'!K:K,'موجودی خام اولیه با برندمتفاوت'!K:K)","v":0},"کالای جدید، لطفا در شیت نقطه سفارش کد و نام کالا کپی شود"]
[{"$f":"IFERROR(INDEX('موجودی خام اولیه با برندمتفاوت'!A:A,MATCH(C:C,'موجودی خام اولیه با برندمتفاوت'!C:C,0)),0)","v":0},null,null,null,null,null,0,0,null,null,null,{"$f":"COUNTIF('یکسان سازی برند'!K:K,'موجودی خام اولیه با برندمتفاوت'!K:K)","v":0},"کالای جدید، لطفا در شیت نقطه سفارش کد و نام کالا کپی شود"]
[{"$f":"IFERROR(INDEX('موجودی خام اولیه با برندمتفاوت'!A:A,MATCH(C:C,'موجودی خام اولیه با برندمتفاوت'!C:C,0)),0)","v":0},null,null,null,null,null,0,0,null,null,null,{"$f":"COUNTIF('یکسان سازی برند'!K:K,'موجودی خام اولیه با برندمتفاوت'!K:K)","v":0},"کالای جدید، لطفا در شیت نقطه سفارش کد و نام کالا کپی شود"]
[{"$f":"IFERROR(INDEX('موجودی خام اولیه با برندمتفاوت'!A:A,MATCH(C:C,'موجودی خام اولیه با برندمتفاوت'!C:C,0)),0)","v":0},null,null,null,null,null,0,0,null,null,null,{"$f":"COUNTIF('یکسان سازی برند'!K:K,'موجودی خام اولیه با برندمتفاوت'!K:K)","v":0},"کالای جدید، لطفا در شیت نقطه سفارش کد و نام کالا کپی شود"]
[{"$f":"IFERROR(INDEX('موجودی خام اولیه با برندمتفاوت'!A:A,MATCH(C:C,'موجودی خام اولیه با برندمتفاوت'!C:C,0)),0)","v":0},null,null,null,null,null,0,0,null,null,null,{"$f":"COUNTIF('یکسان سازی برند'!K:K,'موجودی خام اولیه با برندمتفاوت'!K:K)","v":0},"کالای جدید، لطفا در شیت نقطه سفارش کد و نام کالا کپی شود"]
[{"$f":"IFERROR(INDEX('موجودی خام اولیه با برندمتفاوت'!A:A,MATCH(C:C,'موجودی خام اولیه با برندمتفاوت'!C:C,0)),0)","v":0},null,null,null,null,null,0,0,null,null,null,{"$f":"COUNTIF('یکسان سازی برند'!K:K,'موجودی خام اولیه با برندمتفاوت'!K:K)","v":0},"کالای جدید، لطفا در شیت نقطه سفارش کد و نام کالا کپی شود"]
[{"$f":"IFERROR(INDEX('موجودی خام اولیه با برندمتفاوت'!A:A,MATCH(C:C,'موجودی خام اولیه با برندمتفاوت'!C:C,0)),0)","v":0},null,null,null,null,null,0,0,null,null,null,{"$f":"COUNTIF('یکسان سازی برند'!K:K,'موجودی خام اولیه با برندمتفاوت'!K:K)","v":0},"کالای جدید، لطفا در شیت نقطه سفارش کد و نام کالا کپی شود"]
[{"$f":"IFERROR(INDEX('موجودی خام اولیه با برندمتفاوت'!A:A,MATCH(C:C,'موجودی خام اولیه با برندمتفاوت'!C:C,0)),0)","v":0},null,null,null,null,null,0,0,null,null,null,{"$f":"COUNTIF('یکسان سازی برند'!K:K,'موجودی خام اولیه با برندمتفاوت'!K:K)","v":0},"کالای جدید، لطفا در شیت نقطه سفارش کد و نام کالا کپی شود"]
[{"$f":"IFERROR(INDEX('موجودی خام اولیه با برندمتفاوت'!A:A,MATCH(C:C,'موجودی خام اولیه با برندمتفاوت'!C:C,0)),0)","v":0},null,null,null,null,null,0,0,null,null,null,{"$f":"COUNTIF('یکسان سازی برند'!K:K,'موجودی خام اولیه با برندمتفاوت'!K:K)","v":0},"کالای جدید، لطفا در شیت نقطه سفارش کد و نام کالا کپی شود"]
[{"$f":"IFERROR(INDEX('موجودی خام اولیه با برندمتفاوت'!A:A,MATCH(C:C,'موجودی خام اولیه با برندمتفاوت'!C:C,0)),0)","v":0},null,null,null,null,null,0,0,null,null,null,{"$f":"COUNTIF('یکسان سازی برند'!K:K,'موجودی خام اولیه با برندمتفاوت'!K:K)","v":0},"کالای جدید، لطفا در شیت نقطه سفارش کد و نام کالا کپی شود"]
[{"$f":"IFERROR(INDEX('موجودی خام اولیه با برندمتفاوت'!A:A,MATCH(C:C,'موجودی خام اولیه با برندمتفاوت'!C:C,0)),0)","v":0},null,null,null,null,null,0,0,null,null,null,{"$f":"COUNTIF('یکسان سازی برند'!K:K,'موجودی خام اولیه با برندمتفاوت'!K:K)","v":0},"کالای جدید، لطفا در شیت نقطه سفارش کد و نام کالا کپی شود"]
[{"$f":"IFERROR(INDEX('موجودی خام اولیه با برندمتفاوت'!A:A,MATCH(C:C,'موجودی خام اولیه با برندمتفاوت'!C:C,0)),0)","v":0},null,null,null,null,null,0,0,null,null,null,{"$f":"COUNTIF('یکسان سازی برند'!K:K,'موجودی خام اولیه با برندمتفاوت'!K:K)","v":0},"کالای جدید، لطفا در شیت نقطه سفارش کد و نام کالا کپی شود"]
[{"$f":"IFERROR(INDEX('موجودی خام اولیه با برندمتفاوت'!A:A,MATCH(C:C,'موجودی خام اولیه با برندمتفاوت'!C:C,0)),0)","v":0},null,null,null,null,null,0,0,null,null,null,{"$f":"COUNTIF('یکسان سازی برند'!K:K,'موجودی خام اولیه با برندمتفاوت'!K:K)","v":0},"کالای جدید، لطفا در شیت نقطه سفارش کد و نام کالا کپی شود"]
[{"$f":"IFERROR(INDEX('موجودی خام اولیه با برندمتفاوت'!A:A,MATCH(C:C,'موجودی خام اولیه با برندمتفاوت'!C:C,0)),0)","v":0},null,null,null,null,null,0,0,null,null,null,{"$f":"COUNTIF('یکسان سازی برند'!K:K,'موجودی خام اولیه با برندمتفاوت'!K:K)","v":0},"کالای جدید، لطفا در شیت نقطه سفارش کد و نام کالا کپی شود"]
[{"$f":"IFERROR(INDEX('موجودی خام اولیه با برندمتفاوت'!A:A,MATCH(C:C,'موجودی خام اولیه با برندمتفاوت'!C:C,0)),0)","v":0},null,null,null,null,null,0,0,null,null,null,{"$f":"COUNTIF('یکسان سازی برند'!K:K,'موجودی خام اولیه با برندمتفاوت'!K:K)","v":0},"کالای جدید، لطفا در شیت نقطه سفارش کد و نام کالا کپی شود"]
[{"$f":"IFERROR(INDEX('موجودی خام اولیه با برندمتفاوت'!A:A,MATCH(C:C,'موجودی خام اولیه با برندمتفاوت'!C:C,0)),0)","v":0},null,null,null,null,null,0,0,null,null,null,{"$f":"COUNTIF('یکسان سازی برند'!K:K,'موجودی خام اولیه با برندمتفاوت'!K:K)","v":0},"کالای جدید، لطفا در شیت نقطه سفارش کد و نام کالا کپی شود"]
[{"$f":"IFERROR(INDEX('موجودی خام اولیه با برندمتفاوت'!A:A,MATCH(C:C,'موجودی خام اولیه با برندمتفاوت'!C:C,0)),0)","v":0},null,null,null,null,null,0,0,null,null,null,{"$f":"COUNTIF('یکسان سازی برند'!K:K,'موجودی خام اولیه با برندمتفاوت'!K:K)","v":0},"کالای جدید، لطفا در شیت نقطه سفارش کد و نام کالا کپی شود"]
[{"$f":"IFERROR(INDEX('موجودی خام اولیه با برندمتفاوت'!A:A,MATCH(C:C,'موجودی خام اولیه با برندمتفاوت'!C:C,0)),0)","v":0},null,null,null,null,null,0,0,null,null,null,{"$f":"COUNTIF('یکسان سازی برند'!K:K,'موجودی خام اولیه با برندمتفاوت'!K:K)","v":0},"کالای جدید، لطفا در شیت نقطه سفارش کد و نام کالا کپی شود"]
[{"$f":"IFERROR(INDEX('موجودی خام اولیه با برندمتفاوت'!A:A,MATCH(C:C,'موجودی خام اولیه با برندمتفاوت'!C:C,0)),0)","v":0},null,null,null,null,null,0,0,null,null,null,{"$f":"COUNTIF('یکسان سازی برند'!K:K,'موجودی خام اولیه با برندمتفاوت'!K:K)","v":0},"کالای جدید، لطفا در شیت نقطه سفارش کد و نام کالا کپی شود"]
[{"$f":"IFERROR(INDEX('موجودی خام اولیه با برندمتفاوت'!A:A,MATCH(C:C,'موجودی خام اولیه با برندمتفاوت'!C:C,0)),0)","v":0},null,null,null,null,null,0,0,null,null,null,{"$f":"COUNTIF('یکسان سازی برند'!K:K,'موجودی خام اولیه با برندمتفاوت'!K:K)","v":0},"کالای جدید، لطفا در شیت نقطه سفارش کد و نام کالا کپی شود"]
[{"$f":"IFERROR(INDEX('موجودی خام اولیه با برندمتفاوت'!A:A,MATCH(C:C,'موجودی خام اولیه با برندمتفاوت'!C:C,0)),0)","v":0},null,null,null,null,null,0,0,null,null,null,{"$f":"COUNTIF('یکسان سازی برند'!K:K,'موجودی خام اولیه با برندمتفاوت'!K:K)","v":0},"کالای جدید، لطفا در شیت نقطه سفارش کد و نام کالا کپی شود"]
[{"$f":"IFERROR(INDEX('موجودی خام اولیه با برندمتفاوت'!A:A,MATCH(C:C,'موجودی خام اولیه با برندمتفاوت'!C:C,0)),0)","v":0},null,null,null,null,null,0,0,null,null,null,{"$f":"COUNTIF('یکسان سازی برند'!K:K,'موجودی خام اولیه با برندمتفاوت'!K:K)","v":0},"کالای جدید، لطفا در شیت نقطه سفارش کد و نام کالا کپی شود"]
[{"$f":"IFERROR(INDEX('موجودی خام اولیه با برندمتفاوت'!A:A,MATCH(C:C,'موجودی خام اولیه با برندمتفاوت'!C:C,0)),0)","v":0},null,null,null,null,null,0,0,null,null,null,{"$f":"COUNTIF('یکسان سازی برند'!K:K,'موجودی خام اولیه با برندمتفاوت'!K:K)","v":0},"کالای جدید، لطفا در شیت نقطه سفارش کد و نام کالا کپی شود"]
[{"$f":"IFERROR(INDEX('موجودی خام اولیه با برندمتفاوت'!A:A,MATCH(C:C,'موجودی خام اولیه با برندمتفاوت'!C:C,0)),0)","v":0},null,null,null,null,null,0,0,null,null,null,{"$f":"COUNTIF('یکسان سازی برند'!K:K,'موجودی خام اولیه با برندمتفاوت'!K:K)","v":0},"کالای جدید، لطفا در شیت نقطه سفارش کد و نام کالا کپی شود"]
[{"$f":"IFERROR(INDEX('موجودی خام اولیه با برندمتفاوت'!A:A,MATCH(C:C,'موجودی خام اولیه با برندمتفاوت'!C:C,0)),0)","v":0},null,null,null,null,null,0,0,null,null,null,{"$f":"COUNTIF('یکسان سازی برند'!K:K,'موجودی خام اولیه با برندمتفاوت'!K:K)","v":0},"کالای جدید، لطفا در شیت نقطه سفارش کد و نام کالا کپی شود"]
[{"$f":"IFERROR(INDEX('موجودی خام اولیه با برندمتفاوت'!A:A,MATCH(C:C,'موجودی خام اولیه با برندمتفاوت'!C:C,0)),0)","v":0},null,null,null,null,null,0,0,null,null,null,{"$f":"COUNTIF('یکسان سازی برند'!K:K,'موجودی خام اولیه با برندمتفاوت'!K:K)","v":0},"کالای جدید، لطفا در شیت نقطه سفارش کد و نام کالا کپی شود"]
[{"$f":"IFERROR(INDEX('موجودی خام اولیه با برندمتفاوت'!A:A,MATCH(C:C,'موجودی خام اولیه با برندمتفاوت'!C:C,0)),0)","v":0},null,null,null,null,null,0,0,null,null,null,{"$f":"COUNTIF('یکسان سازی برند'!K:K,'موجودی خام اولیه با برندمتفاوت'!K:K)","v":0},"کالای جدید، لطفا در شیت نقطه سفارش کد و نام کالا کپی شود"]
[{"$f":"IFERROR(INDEX('موجودی خام اولیه با برندمتفاوت'!A:A,MATCH(C:C,'موجودی خام اولیه با برندمتفاوت'!C:C,0)),0)","v":0},null,null,null,null,null,0,0,null,null,null,{"$f":"COUNTIF('یکسان سازی برند'!K:K,'موجودی خام اولیه با برندمتفاوت'!K:K)","v":0},"کالای جدید، لطفا در شیت نقطه سفارش کد و نام کالا کپی شود"]
[{"$f":"IFERROR(INDEX('موجودی خام اولیه با برندمتفاوت'!A:A,MATCH(C:C,'موجودی خام اولیه با برندمتفاوت'!C:C,0)),0)","v":0},null,null,null,null,null,0,0,null,null,null,{"$f":"COUNTIF('یکسان سازی برند'!K:K,'موجودی خام اولیه با برندمتفاوت'!K:K)","v":0},"کالای جدید، لطفا در شیت نقطه سفارش کد و نام کالا کپی شود"]
[{"$f":"IFERROR(INDEX('موجودی خام اولیه با برندمتفاوت'!A:A,MATCH(C:C,'موجودی خام اولیه با برندمتفاوت'!C:C,0)),0)","v":0},null,null,null,null,null,0,0,null,null,null,{"$f":"COUNTIF('یکسان سازی برند'!K:K,'موجودی خام اولیه با برندمتفاوت'!K:K)","v":0},"کالای جدید، لطفا در شیت نقطه سفارش کد و نام کالا کپی شود"]
[{"$f":"IFERROR(INDEX('موجودی خام اولیه با برندمتفاوت'!A:A,MATCH(C:C,'موجودی خام اولیه با برندمتفاوت'!C:C,0)),0)","v":0},null,null,null,null,null,0,0,null,null,null,{"$f":"COUNTIF('یکسان سازی برند'!K:K,'موجودی خام اولیه با برندمتفاوت'!K:K)","v":0},"کالای جدید، لطفا در شیت نقطه سفارش کد و نام کالا کپی شود"]
[{"$f":"IFERROR(INDEX('موجودی خام اولیه با برندمتفاوت'!A:A,MATCH(C:C,'موجودی خام اولیه با برندمتفاوت'!C:C,0)),0)","v":0},null,null,null,null,null,0,0,null,null,null,{"$f":"COUNTIF('یکسان سازی برند'!K:K,'موجودی خام اولیه با برندمتفاوت'!K:K)","v":0},"کالای جدید، لطفا در شیت نقطه سفارش کد و نام کالا کپی شود"]
[{"$f":"IFERROR(INDEX('موجودی خام اولیه با برندمتفاوت'!A:A,MATCH(C:C,'موجودی خام اولیه با برندمتفاوت'!C:C,0)),0)","v":0},null,null,null,null,null,0,0,null,null,null,{"$f":"COUNTIF('یکسان سازی برند'!K:K,'موجودی خام اولیه با برندمتفاوت'!K:K)","v":0},"کالای جدید، لطفا در شیت نقطه سفارش کد و نام کالا کپی شود"]
[{"$f":"IFERROR(INDEX('موجودی خام اولیه با برندمتفاوت'!A:A,MATCH(C:C,'موجودی خام اولیه با برندمتفاوت'!C:C,0)),0)","v":0},null,null,null,null,null,0,0,null,null,null,{"$f":"COUNTIF('یکسان سازی برند'!K:K,'موجودی خام اولیه با برندمتفاوت'!K:K)","v":0},"کالای جدید، لطفا در شیت نقطه سفارش کد و نام کالا کپی شود"]
[{"$f":"IFERROR(INDEX('موجودی خام اولیه با برندمتفاوت'!A:A,MATCH(C:C,'موجودی خام اولیه با برندمتفاوت'!C:C,0)),0)","v":0},null,null,null,null,null,0,0,null,null,null,{"$f":"COUNTIF('یکسان سازی برند'!K:K,'موجودی خام اولیه با برندمتفاوت'!K:K)","v":0},"کالای جدید، لطفا در شیت نقطه سفارش کد و نام کالا کپی شود"]
[{"$f":"IFERROR(INDEX('موجودی خام اولیه با برندمتفاوت'!A:A,MATCH(C:C,'موجودی خام اولیه با برندمتفاوت'!C:C,0)),0)","v":0},null,null,null,null,null,0,0,null,null,null,{"$f":"COUNTIF('یکسان سازی برند'!K:K,'موجودی خام اولیه با برندمتفاوت'!K:K)","v":0},"کالای جدید، لطفا در شیت نقطه سفارش کد و نام کالا کپی شود"]
[{"$f":"IFERROR(INDEX('موجودی خام اولیه با برندمتفاوت'!A:A,MATCH(C:C,'موجودی خام اولیه با برندمتفاوت'!C:C,0)),0)","v":0},null,null,null,null,null,0,0,null,null,null,{"$f":"COUNTIF('یکسان سازی برند'!K:K,'موجودی خام اولیه با برندمتفاوت'!K:K)","v":0},"کالای جدید، لطفا در شیت نقطه سفارش کد و نام کالا کپی شود"]
[{"$f":"IFERROR(INDEX('موجودی خام اولیه با برندمتفاوت'!A:A,MATCH(C:C,'موجودی خام اولیه با برندمتفاوت'!C:C,0)),0)","v":0},null,null,null,null,null,0,0,null,null,null,{"$f":"COUNTIF('یکسان سازی برند'!K:K,'موجودی خام اولیه با برندمتفاوت'!K:K)","v":0},"کالای جدید، لطفا در شیت نقطه سفارش کد و نام کالا کپی شود"]
[{"$f":"IFERROR(INDEX('موجودی خام اولیه با برندمتفاوت'!A:A,MATCH(C:C,'موجودی خام اولیه با برندمتفاوت'!C:C,0)),0)","v":0},null,null,null,null,null,0,0,null,null,null,{"$f":"COUNTIF('یکسان سازی برند'!K:K,'موجودی خام اولیه با برندمتفاوت'!K:K)","v":0},"کالای جدید، لطفا در شیت نقطه سفارش کد و نام کالا کپی شود"]
[{"$f":"IFERROR(INDEX('موجودی خام اولیه با برندمتفاوت'!A:A,MATCH(C:C,'موجودی خام اولیه با برندمتفاوت'!C:C,0)),0)","v":0},null,null,null,null,null,0,0,null,null,null,{"$f":"COUNTIF('یکسان سازی برند'!K:K,'موجودی خام اولیه با برندمتفاوت'!K:K)","v":0},"کالای جدید، لطفا در شیت نقطه سفارش کد و نام کالا کپی شود"]
[{"$f":"IFERROR(INDEX('موجودی خام اولیه با برندمتفاوت'!A:A,MATCH(C:C,'موجودی خام اولیه با برندمتفاوت'!C:C,0)),0)","v":0},null,null,null,null,null,0,0,null,null,null,{"$f":"COUNTIF('یکسان سازی برند'!K:K,'موجودی خام اولیه با برندمتفاوت'!K:K)","v":0},"کالای جدید، لطفا در شیت نقطه سفارش کد و نام کالا کپی شود"]
[{"$f":"IFERROR(INDEX('موجودی خام اولیه با برندمتفاوت'!A:A,MATCH(C:C,'موجودی خام اولیه با برندمتفاوت'!C:C,0)),0)","v":0},null,null,null,null,null,0,0,null,null,null,{"$f":"COUNTIF('یکسان سازی برند'!K:K,'موجودی خام اولیه با برندمتفاوت'!K:K)","v":0},"کالای جدید، لطفا در شیت نقطه سفارش کد و نام کالا کپی شود"]
[{"$f":"IFERROR(INDEX('موجودی خام اولیه با برندمتفاوت'!A:A,MATCH(C:C,'موجودی خام اولیه با برندمتفاوت'!C:C,0)),0)","v":0},null,null,null,null,null,{"$f":"IF(E771=\"\",B771,D771)","v":0},{"$f":"IF(E771=\"\",C771,E771)","v":0},null,null,null,{"$f":"COUNTIF('یکسان سازی برند'!K:K,'موجودی خام اولیه با برندمتفاوت'!K:K)","v":0},"کالای جدید، لطفا در شیت نقطه سفارش کد و نام کالا کپی شود"]
[{"$f":"IFERROR(INDEX('موجودی خام اولیه با برندمتفاوت'!A:A,MATCH(C:C,'موجودی خام اولیه با برندمتفاوت'!C:C,0)),0)","v":0},null,null,null,null,null,0,0,null,null,null,{"$f":"COUNTIF('یکسان سازی برند'!K:K,'موجودی خام اولیه با برندمتفاوت'!K:K)","v":0},{"$f":"IF(L:L=0,\"کالای جدید، لطفا در شیت نقطه سفارش کد و نام کالا کپی شود\",\"\")","v":"کالای جدید، لطفا در شیت نقطه سفارش کد و نام کالا کپی شود"}]
[{"$f":"IFERROR(INDEX('موجودی خام اولیه با برندمتفاوت'!A:A,MATCH(C:C,'موجودی خام اولیه با برندمتفاوت'!C:C,0)),0)","v":0},null,null,null,null,null,0,0,null,null,null,{"$f":"COUNTIF('یکسان سازی برند'!K:K,'موجودی خام اولیه با برندمتفاوت'!K:K)","v":0},"کالای جدید، لطفا در شیت نقطه سفارش کد و نام کالا کپی شود"]
[{"$f":"IFERROR(INDEX('موجودی خام اولیه با برندمتفاوت'!A:A,MATCH(C:C,'موجودی خام اولیه با برندمتفاوت'!C:C,0)),0)","v":0},null,null,null,null,null,0,0,null,null,null,{"$f":"COUNTIF('یکسان سازی برند'!K:K,'موجودی خام اولیه با برندمتفاوت'!K:K)","v":0},"کالای جدید، لطفا در شیت نقطه سفارش کد و نام کالا کپی شود"]
[{"$f":"IFERROR(INDEX('موجودی خام اولیه با برندمتفاوت'!A:A,MATCH(C:C,'موجودی خام اولیه با برندمتفاوت'!C:C,0)),0)","v":0},null,null,null,null,null,0,0,null,null,null,{"$f":"COUNTIF('یکسان سازی برند'!K:K,'موجودی خام اولیه با برندمتفاوت'!K:K)","v":0},"کالای جدید، لطفا در شیت نقطه سفارش کد و نام کالا کپی شود"]
[{"$f":"IFERROR(INDEX('موجودی خام اولیه با برندمتفاوت'!A:A,MATCH(C:C,'موجودی خام اولیه با برندمتفاوت'!C:C,0)),0)","v":0},null,null,null,null,null,0,0,null,null,null,{"$f":"COUNTIF('یکسان سازی برند'!K:K,'موجودی خام اولیه با برندمتفاوت'!K:K)","v":0},"کالای جدید، لطفا در شیت نقطه سفارش کد و نام کالا کپی شود"]
[{"$f":"IFERROR(INDEX('موجودی خام اولیه با برندمتفاوت'!A:A,MATCH(C:C,'موجودی خام اولیه با برندمتفاوت'!C:C,0)),0)","v":0},null,null,null,null,null,0,0,null,null,null,{"$f":"COUNTIF('یکسان سازی برند'!K:K,'موجودی خام اولیه با برندمتفاوت'!K:K)","v":0},"کالای جدید، لطفا در شیت نقطه سفارش کد و نام کالا کپی شود"]
[{"$f":"IFERROR(INDEX('موجودی خام اولیه با برندمتفاوت'!A:A,MATCH(C:C,'موجودی خام اولیه با برندمتفاوت'!C:C,0)),0)","v":0},null,null,null,null,null,0,0,null,null,null,{"$f":"COUNTIF('یکسان سازی برند'!K:K,'موجودی خام اولیه با برندمتفاوت'!K:K)","v":0},"کالای جدید، لطفا در شیت نقطه سفارش کد و نام کالا کپی شود"]
[{"$f":"IFERROR(INDEX('موجودی خام اولیه با برندمتفاوت'!A:A,MATCH(C:C,'موجودی خام اولیه با برندمتفاوت'!C:C,0)),0)","v":0},null,null,null,null,null,0,0,null,null,null,{"$f":"COUNTIF('یکسان سازی برند'!K:K,'موجودی خام اولیه با برندمتفاوت'!K:K)","v":0},"کالای جدید، لطفا در شیت نقطه سفارش کد و نام کالا کپی شود"]
[{"$f":"IFERROR(INDEX('موجودی خام اولیه با برندمتفاوت'!A:A,MATCH(C:C,'موجودی خام اولیه با برندمتفاوت'!C:C,0)),0)","v":0},null,null,null,null,null,0,0,null,null,null,{"$f":"COUNTIF('یکسان سازی برند'!K:K,'موجودی خام اولیه با برندمتفاوت'!K:K)","v":0},"کالای جدید، لطفا در شیت نقطه سفارش کد و نام کالا کپی شود"]
[{"$f":"IFERROR(INDEX('موجودی خام اولیه با برندمتفاوت'!A:A,MATCH(C:C,'موجودی خام اولیه با برندمتفاوت'!C:C,0)),0)","v":0},null,null,null,null,null,0,0,null,null,null,{"$f":"COUNTIF('یکسان سازی برند'!K:K,'موجودی خام اولیه با برندمتفاوت'!K:K)","v":0},"کالای جدید، لطفا در شیت نقطه سفارش کد و نام کالا کپی شود"]
[{"$f":"IFERROR(INDEX('موجودی خام اولیه با برندمتفاوت'!A:A,MATCH(C:C,'موجودی خام اولیه با برندمتفاوت'!C:C,0)),0)","v":0},null,null,null,null,null,0,0,null,null,null,{"$f":"COUNTIF('یکسان سازی برند'!K:K,'موجودی خام اولیه با برندمتفاوت'!K:K)","v":0},"کالای جدید، لطفا در شیت نقطه سفارش کد و نام کالا کپی شود"]
[{"$f":"IFERROR(INDEX('موجودی خام اولیه با برندمتفاوت'!A:A,MATCH(C:C,'موجودی خام اولیه با برندمتفاوت'!C:C,0)),0)","v":0},null,null,null,null,null,0,0,null,null,null,{"$f":"COUNTIF('یکسان سازی برند'!K:K,'موجودی خام اولیه با برندمتفاوت'!K:K)","v":0},"کالای جدید، لطفا در شیت نقطه سفارش کد و نام کالا کپی شود"]
[{"$f":"IFERROR(INDEX('موجودی خام اولیه با برندمتفاوت'!A:A,MATCH(C:C,'موجودی خام اولیه با برندمتفاوت'!C:C,0)),0)","v":0},null,null,null,null,null,0,0,null,null,null,{"$f":"COUNTIF('یکسان سازی برند'!K:K,'موجودی خام اولیه با برندمتفاوت'!K:K)","v":0},"کالای جدید، لطفا در شیت نقطه سفارش کد و نام کالا کپی شود"]
[{"$f":"IFERROR(INDEX('موجودی خام اولیه با برندمتفاوت'!A:A,MATCH(C:C,'موجودی خام اولیه با برندمتفاوت'!C:C,0)),0)","v":0},null,null,null,null,null,0,0,null,null,null,{"$f":"COUNTIF('یکسان سازی برند'!K:K,'موجودی خام اولیه با برندمتفاوت'!K:K)","v":0},"کالای جدید، لطفا در شیت نقطه سفارش کد و نام کالا کپی شود"]
[{"$f":"IFERROR(INDEX('موجودی خام اولیه با برندمتفاوت'!A:A,MATCH(C:C,'موجودی خام اولیه با برندمتفاوت'!C:C,0)),0)","v":0},null,null,null,null,null,0,0,null,null,null,{"$f":"COUNTIF('یکسان سازی برند'!K:K,'موجودی خام اولیه با برندمتفاوت'!K:K)","v":0},"کالای جدید، لطفا در شیت نقطه سفارش کد و نام کالا کپی شود"]
[{"$f":"IFERROR(INDEX('موجودی خام اولیه با برندمتفاوت'!A:A,MATCH(C:C,'موجودی خام اولیه با برندمتفاوت'!C:C,0)),0)","v":0},null,null,null,null,null,0,0,null,null,null,{"$f":"COUNTIF('یکسان سازی برند'!K:K,'موجودی خام اولیه با برندمتفاوت'!K:K)","v":0},"کالای جدید، لطفا در شیت نقطه سفارش کد و نام کالا کپی شود"]
[{"$f":"IFERROR(INDEX('موجودی خام اولیه با برندمتفاوت'!A:A,MATCH(C:C,'موجودی خام اولیه با برندمتفاوت'!C:C,0)),0)","v":0},null,null,null,null,null,0,0,null,null,null,{"$f":"COUNTIF('یکسان سازی برند'!K:K,'موجودی خام اولیه با برندمتفاوت'!K:K)","v":0},"کالای جدید، لطفا در شیت نقطه سفارش کد و نام کالا کپی شود"]
[{"$f":"IFERROR(INDEX('موجودی خام اولیه با برندمتفاوت'!A:A,MATCH(C:C,'موجودی خام اولیه با برندمتفاوت'!C:C,0)),0)","v":0},null,null,null,null,null,0,0,null,null,null,{"$f":"COUNTIF('یکسان سازی برند'!K:K,'موجودی خام اولیه با برندمتفاوت'!K:K)","v":0},"کالای جدید، لطفا در شیت نقطه سفارش کد و نام کالا کپی شود"]
[{"$f":"IFERROR(INDEX('موجودی خام اولیه با برندمتفاوت'!A:A,MATCH(C:C,'موجودی خام اولیه با برندمتفاوت'!C:C,0)),0)","v":0},null,null,null,null,null,0,0,null,null,null,{"$f":"COUNTIF('یکسان سازی برند'!K:K,'موجودی خام اولیه با برندمتفاوت'!K:K)","v":0},"کالای جدید، لطفا در شیت نقطه سفارش کد و نام کالا کپی شود"]
[{"$f":"IFERROR(INDEX('موجودی خام اولیه با برندمتفاوت'!A:A,MATCH(C:C,'موجودی خام اولیه با برندمتفاوت'!C:C,0)),0)","v":0},null,null,null,null,null,0,0,null,null,null,{"$f":"COUNTIF('یکسان سازی برند'!K:K,'موجودی خام اولیه با برندمتفاوت'!K:K)","v":0},"کالای جدید، لطفا در شیت نقطه سفارش کد و نام کالا کپی شود"]
[{"$f":"IFERROR(INDEX('موجودی خام اولیه با برندمتفاوت'!A:A,MATCH(C:C,'موجودی خام اولیه با برندمتفاوت'!C:C,0)),0)","v":0},null,null,null,null,null,0,0,null,null,null,{"$f":"COUNTIF('یکسان سازی برند'!K:K,'موجودی خام اولیه با برندمتفاوت'!K:K)","v":0},"کالای جدید، لطفا در شیت نقطه سفارش کد و نام کالا کپی شود"]
[{"$f":"IFERROR(INDEX('موجودی خام اولیه با برندمتفاوت'!A:A,MATCH(C:C,'موجودی خام اولیه با برندمتفاوت'!C:C,0)),0)","v":0},null,null,null,null,null,0,0,null,null,null,{"$f":"COUNTIF('یکسان سازی برند'!K:K,'موجودی خام اولیه با برندمتفاوت'!K:K)","v":0},"کالای جدید، لطفا در شیت نقطه سفارش کد و نام کالا کپی شود"]
[{"$f":"IFERROR(INDEX('موجودی خام اولیه با برندمتفاوت'!A:A,MATCH(C:C,'موجودی خام اولیه با برندمتفاوت'!C:C,0)),0)","v":0},null,null,null,null,null,0,0,null,null,null,{"$f":"COUNTIF('یکسان سازی برند'!K:K,'موجودی خام اولیه با برندمتفاوت'!K:K)","v":0},"کالای جدید، لطفا در شیت نقطه سفارش کد و نام کالا کپی شود"]
[{"$f":"IFERROR(INDEX('موجودی خام اولیه با برندمتفاوت'!A:A,MATCH(C:C,'موجودی خام اولیه با برندمتفاوت'!C:C,0)),0)","v":0},null,null,null,null,null,0,0,null,null,null,{"$f":"COUNTIF('یکسان سازی برند'!K:K,'موجودی خام اولیه با برندمتفاوت'!K:K)","v":0},"کالای جدید، لطفا در شیت نقطه سفارش کد و نام کالا کپی شود"]
[{"$f":"IFERROR(INDEX('موجودی خام اولیه با برندمتفاوت'!A:A,MATCH(C:C,'موجودی خام اولیه با برندمتفاوت'!C:C,0)),0)","v":0},null,null,null,null,null,0,0,null,null,null,{"$f":"COUNTIF('یکسان سازی برند'!K:K,'موجودی خام اولیه با برندمتفاوت'!K:K)","v":0},"کالای جدید، لطفا در شیت نقطه سفارش کد و نام کالا کپی شود"]
[{"$f":"IFERROR(INDEX('موجودی خام اولیه با برندمتفاوت'!A:A,MATCH(C:C,'موجودی خام اولیه با برندمتفاوت'!C:C,0)),0)","v":0},null,null,null,null,null,0,0,null,null,null,{"$f":"COUNTIF('یکسان سازی برند'!K:K,'موجودی خام اولیه با برندمتفاوت'!K:K)","v":0},"کالای جدید، لطفا در شیت نقطه سفارش کد و نام کالا کپی شود"]
[{"$f":"IFERROR(INDEX('موجودی خام اولیه با برندمتفاوت'!A:A,MATCH(C:C,'موجودی خام اولیه با برندمتفاوت'!C:C,0)),0)","v":0},null,null,null,null,null,0,0,null,null,null,{"$f":"COUNTIF('یکسان سازی برند'!K:K,'موجودی خام اولیه با برندمتفاوت'!K:K)","v":0},"کالای جدید، لطفا در شیت نقطه سفارش کد و نام کالا کپی شود"]
[{"$f":"IFERROR(INDEX('موجودی خام اولیه با برندمتفاوت'!A:A,MATCH(C:C,'موجودی خام اولیه با برندمتفاوت'!C:C,0)),0)","v":0},null,null,null,null,null,0,0,null,null,null,{"$f":"COUNTIF('یکسان سازی برند'!K:K,'موجودی خام اولیه با برندمتفاوت'!K:K)","v":0},"کالای جدید، لطفا در شیت نقطه سفارش کد و نام کالا کپی شود"]
[{"$f":"IFERROR(INDEX('موجودی خام اولیه با برندمتفاوت'!A:A,MATCH(C:C,'موجودی خام اولیه با برندمتفاوت'!C:C,0)),0)","v":0},null,null,null,null,null,0,0,null,null,null,{"$f":"COUNTIF('یکسان سازی برند'!K:K,'موجودی خام اولیه با برندمتفاوت'!K:K)","v":0},"کالای جدید، لطفا در شیت نقطه سفارش کد و نام کالا کپی شود"]
[{"$f":"IFERROR(INDEX('موجودی خام اولیه با برندمتفاوت'!A:A,MATCH(C:C,'موجودی خام اولیه با برندمتفاوت'!C:C,0)),0)","v":0},null,null,null,null,null,0,0,null,null,null,{"$f":"COUNTIF('یکسان سازی برند'!K:K,'موجودی خام اولیه با برندمتفاوت'!K:K)","v":0},"کالای جدید، لطفا در شیت نقطه سفارش کد و نام کالا کپی شود"]
[{"$f":"IFERROR(INDEX('موجودی خام اولیه با برندمتفاوت'!A:A,MATCH(C:C,'موجودی خام اولیه با برندمتفاوت'!C:C,0)),0)","v":0},null,null,null,null,null,0,0,null,null,null,{"$f":"COUNTIF('یکسان سازی برند'!K:K,'موجودی خام اولیه با برندمتفاوت'!K:K)","v":0},"کالای جدید، لطفا در شیت نقطه سفارش کد و نام کالا کپی شود"]
[{"$f":"IFERROR(INDEX('موجودی خام اولیه با برندمتفاوت'!A:A,MATCH(C:C,'موجودی خام اولیه با برندمتفاوت'!C:C,0)),0)","v":0},null,null,null,null,null,0,0,null,null,null,{"$f":"COUNTIF('یکسان سازی برند'!K:K,'موجودی خام اولیه با برندمتفاوت'!K:K)","v":0},"کالای جدید، لطفا در شیت نقطه سفارش کد و نام کالا کپی شود"]
[{"$f":"IFERROR(INDEX('موجودی خام اولیه با برندمتفاوت'!A:A,MATCH(C:C,'موجودی خام اولیه با برندمتفاوت'!C:C,0)),0)","v":0},null,null,null,null,null,0,0,null,null,null,{"$f":"COUNTIF('یکسان سازی برند'!K:K,'موجودی خام اولیه با برندمتفاوت'!K:K)","v":0},"کالای جدید، لطفا در شیت نقطه سفارش کد و نام کالا کپی شود"]
[{"$f":"IFERROR(INDEX('موجودی خام اولیه با برندمتفاوت'!A:A,MATCH(C:C,'موجودی خام اولیه با برندمتفاوت'!C:C,0)),0)","v":0},null,null,null,null,null,0,0,null,null,null,{"$f":"COUNTIF('یکسان سازی برند'!K:K,'موجودی خام اولیه با برندمتفاوت'!K:K)","v":0},"کالای جدید، لطفا در شیت نقطه سفارش کد و نام کالا کپی شود"]
[{"$f":"IFERROR(INDEX('موجودی خام اولیه با برندمتفاوت'!A:A,MATCH(C:C,'موجودی خام اولیه با برندمتفاوت'!C:C,0)),0)","v":0},null,null,null,null,null,0,0,null,null,null,{"$f":"COUNTIF('یکسان سازی برند'!K:K,'موجودی خام اولیه با برندمتفاوت'!K:K)","v":0},"کالای جدید، لطفا در شیت نقطه سفارش کد و نام کالا کپی شود"]
[{"$f":"IFERROR(INDEX('موجودی خام اولیه با برندمتفاوت'!A:A,MATCH(C:C,'موجودی خام اولیه با برندمتفاوت'!C:C,0)),0)","v":0},null,null,null,null,null,0,0,null,null,null,{"$f":"COUNTIF('یکسان سازی برند'!K:K,'موجودی خام اولیه با برندمتفاوت'!K:K)","v":0},"کالای جدید، لطفا در شیت نقطه سفارش کد و نام کالا کپی شود"]
[{"$f":"IFERROR(INDEX('موجودی خام اولیه با برندمتفاوت'!A:A,MATCH(C:C,'موجودی خام اولیه با برندمتفاوت'!C:C,0)),0)","v":0},null,null,null,null,null,0,0,null,null,null,{"$f":"COUNTIF('یکسان سازی برند'!K:K,'موجودی خام اولیه با برندمتفاوت'!K:K)","v":0},"کالای جدید، لطفا در شیت نقطه سفارش کد و نام کالا کپی شود"]
[{"$f":"IFERROR(INDEX('موجودی خام اولیه با برندمتفاوت'!A:A,MATCH(C:C,'موجودی خام اولیه با برندمتفاوت'!C:C,0)),0)","v":0},null,null,null,null,null,0,0,null,null,null,{"$f":"COUNTIF('یکسان سازی برند'!K:K,'موجودی خام اولیه با برندمتفاوت'!K:K)","v":0},"کالای جدید، لطفا در شیت نقطه سفارش کد و نام کالا کپی شود"]
[{"$f":"IFERROR(INDEX('موجودی خام اولیه با برندمتفاوت'!A:A,MATCH(C:C,'موجودی خام اولیه با برندمتفاوت'!C:C,0)),0)","v":0},null,null,null,null,null,0,0,null,null,null,{"$f":"COUNTIF('یکسان سازی برند'!K:K,'موجودی خام اولیه با برندمتفاوت'!K:K)","v":0},"کالای جدید، لطفا در شیت نقطه سفارش کد و نام کالا کپی شود"]
[{"$f":"IFERROR(INDEX('موجودی خام اولیه با برندمتفاوت'!A:A,MATCH(C:C,'موجودی خام اولیه با برندمتفاوت'!C:C,0)),0)","v":0},null,null,null,null,null,0,0,null,null,null,{"$f":"COUNTIF('یکسان سازی برند'!K:K,'موجودی خام اولیه با برندمتفاوت'!K:K)","v":0},"کالای جدید، لطفا در شیت نقطه سفارش کد و نام کالا کپی شود"]
[{"$f":"IFERROR(INDEX('موجودی خام اولیه با برندمتفاوت'!A:A,MATCH(C:C,'موجودی خام اولیه با برندمتفاوت'!C:C,0)),0)","v":0},null,null,null,null,null,0,0,null,null,null,{"$f":"COUNTIF('یکسان سازی برند'!K:K,'موجودی خام اولیه با برندمتفاوت'!K:K)","v":0},"کالای جدید، لطفا در شیت نقطه سفارش کد و نام کالا کپی شود"]
[{"$f":"IFERROR(INDEX('موجودی خام اولیه با برندمتفاوت'!A:A,MATCH(C:C,'موجودی خام اولیه با برندمتفاوت'!C:C,0)),0)","v":0},null,null,null,null,null,0,0,null,null,null,{"$f":"COUNTIF('یکسان سازی برند'!K:K,'موجودی خام اولیه با برندمتفاوت'!K:K)","v":0},"کالای جدید، لطفا در شیت نقطه سفارش کد و نام کالا کپی شود"]
[{"$f":"IFERROR(INDEX('موجودی خام اولیه با برندمتفاوت'!A:A,MATCH(C:C,'موجودی خام اولیه با برندمتفاوت'!C:C,0)),0)","v":0},null,null,null,null,null,0,0,null,null,null,{"$f":"COUNTIF('یکسان سازی برند'!K:K,'موجودی خام اولیه با برندمتفاوت'!K:K)","v":0},"کالای جدید، لطفا در شیت نقطه سفارش کد و نام کالا کپی شود"]
[{"$f":"IFERROR(INDEX('موجودی خام اولیه با برندمتفاوت'!A:A,MATCH(C:C,'موجودی خام اولیه با برندمتفاوت'!C:C,0)),0)","v":0},null,null,null,null,null,0,0,null,null,null,{"$f":"COUNTIF('یکسان سازی برند'!K:K,'موجودی خام اولیه با برندمتفاوت'!K:K)","v":0},"کالای جدید، لطفا در شیت نقطه سفارش کد و نام کالا کپی شود"]
[{"$f":"IFERROR(INDEX('موجودی خام اولیه با برندمتفاوت'!A:A,MATCH(C:C,'موجودی خام اولیه با برندمتفاوت'!C:C,0)),0)","v":0},null,null,null,null,null,null,null,null,null,null,{"$f":"COUNTIF('یکسان سازی برند'!K:K,'موجودی خام اولیه با برندمتفاوت'!K:K)","v":0},"کالای جدید، لطفا در شیت نقطه سفارش کد و نام کالا کپی شود"]
[{"$f":"IFERROR(INDEX('موجودی خام اولیه با برندمتفاوت'!A:A,MATCH(C:C,'موجودی خام اولیه با برندمتفاوت'!C:C,0)),0)","v":0},null,null,null,null,null,null,null,null,null,null,{"$f":"COUNTIF('یکسان سازی برند'!K:K,'موجودی خام اولیه با برندمتفاوت'!K:K)","v":0},"کالای جدید، لطفا در شیت نقطه سفارش کد و نام کالا کپی شود"]
[{"$f":"IFERROR(INDEX('موجودی خام اولیه با برندمتفاوت'!A:A,MATCH(C:C,'موجودی خام اولیه با برندمتفاوت'!C:C,0)),0)","v":0},null,null,null,null,null,null,null,null,null,null,{"$f":"COUNTIF('یکسان سازی برند'!K:K,'موجودی خام اولیه با برندمتفاوت'!K:K)","v":0},"کالای جدید، لطفا در شیت نقطه سفارش کد و نام کالا کپی شود"]
[{"$f":"IFERROR(INDEX('موجودی خام اولیه با برندمتفاوت'!A:A,MATCH(C:C,'موجودی خام اولیه با برندمتفاوت'!C:C,0)),0)","v":0},null,null,null,null,null,null,null,null,null,null,{"$f":"COUNTIF('یکسان سازی برند'!K:K,'موجودی خام اولیه با برندمتفاوت'!K:K)","v":0},"کالای جدید، لطفا در شیت نقطه سفارش کد و نام کالا کپی شود"]
[{"$f":"IFERROR(INDEX('موجودی خام اولیه با برندمتفاوت'!A:A,MATCH(C:C,'موجودی خام اولیه با برندمتفاوت'!C:C,0)),0)","v":0},null,null,null,null,null,null,null,null,null,null,{"$f":"COUNTIF('یکسان سازی برند'!K:K,'موجودی خام اولیه با برندمتفاوت'!K:K)","v":0},"کالای جدید، لطفا در شیت نقطه سفارش کد و نام کالا کپی شود"]
[{"$f":"IFERROR(INDEX('موجودی خام اولیه با برندمتفاوت'!A:A,MATCH(C:C,'موجودی خام اولیه با برندمتفاوت'!C:C,0)),0)","v":0},null,null,null,null,null,null,null,null,null,null,{"$f":"COUNTIF('یکسان سازی برند'!K:K,'موجودی خام اولیه با برندمتفاوت'!K:K)","v":0},"کالای جدید، لطفا در شیت نقطه سفارش کد و نام کالا کپی شود"]
[{"$f":"IFERROR(INDEX('موجودی خام اولیه با برندمتفاوت'!A:A,MATCH(C:C,'موجودی خام اولیه با برندمتفاوت'!C:C,0)),0)","v":0},null,null,null,null,null,null,null,null,null,null,{"$f":"COUNTIF('یکسان سازی برند'!K:K,'موجودی خام اولیه با برندمتفاوت'!K:K)","v":0},"کالای جدید، لطفا در شیت نقطه سفارش کد و نام کالا کپی شود"]
[{"$f":"IFERROR(INDEX('موجودی خام اولیه با برندمتفاوت'!A:A,MATCH(C:C,'موجودی خام اولیه با برندمتفاوت'!C:C,0)),0)","v":0},null,null,null,null,null,null,null,null,null,null,{"$f":"COUNTIF('یکسان سازی برند'!K:K,'موجودی خام اولیه با برندمتفاوت'!K:K)","v":0},"کالای جدید، لطفا در شیت نقطه سفارش کد و نام کالا کپی شود"]
[{"$f":"IFERROR(INDEX('موجودی خام اولیه با برندمتفاوت'!A:A,MATCH(C:C,'موجودی خام اولیه با برندمتفاوت'!C:C,0)),0)","v":0},null,null,null,null,null,null,null,null,null,null,{"$f":"COUNTIF('یکسان سازی برند'!K:K,'موجودی خام اولیه با برندمتفاوت'!K:K)","v":0},"کالای جدید، لطفا در شیت نقطه سفارش کد و نام کالا کپی شود"]
[{"$f":"IFERROR(INDEX('موجودی خام اولیه با برندمتفاوت'!A:A,MATCH(C:C,'موجودی خام اولیه با برندمتفاوت'!C:C,0)),0)","v":0},null,null,null,null,null,null,null,null,null,null,{"$f":"COUNTIF('یکسان سازی برند'!K:K,'موجودی خام اولیه با برندمتفاوت'!K:K)","v":0},"کالای جدید، لطفا در شیت نقطه سفارش کد و نام کالا کپی شود"]
[{"$f":"IFERROR(INDEX('موجودی خام اولیه با برندمتفاوت'!A:A,MATCH(C:C,'موجودی خام اولیه با برندمتفاوت'!C:C,0)),0)","v":0},null,null,null,null,null,null,null,null,null,null,{"$f":"COUNTIF('یکسان سازی برند'!K:K,'موجودی خام اولیه با برندمتفاوت'!K:K)","v":0},"کالای جدید، لطفا در شیت نقطه سفارش کد و نام کالا کپی شود"]
[{"$f":"IFERROR(INDEX('موجودی خام اولیه با برندمتفاوت'!A:A,MATCH(C:C,'موجودی خام اولیه با برندمتفاوت'!C:C,0)),0)","v":0},null,null,null,null,null,null,null,null,null,null,{"$f":"COUNTIF('یکسان سازی برند'!K:K,'موجودی خام اولیه با برندمتفاوت'!K:K)","v":0},"کالای جدید، لطفا در شیت نقطه سفارش کد و نام کالا کپی شود"]
[{"$f":"IFERROR(INDEX('موجودی خام اولیه با برندمتفاوت'!A:A,MATCH(C:C,'موجودی خام اولیه با برندمتفاوت'!C:C,0)),0)","v":0},null,null,null,null,null,null,null,null,null,null,{"$f":"COUNTIF('یکسان سازی برند'!K:K,'موجودی خام اولیه با برندمتفاوت'!K:K)","v":0},"کالای جدید، لطفا در شیت نقطه سفارش کد و نام کالا کپی شود"]
[{"$f":"IFERROR(INDEX('موجودی خام اولیه با برندمتفاوت'!A:A,MATCH(C:C,'موجودی خام اولیه با برندمتفاوت'!C:C,0)),0)","v":0},null,null,null,null,null,null,null,null,null,null,{"$f":"COUNTIF('یکسان سازی برند'!K:K,'موجودی خام اولیه با برندمتفاوت'!K:K)","v":0},"کالای جدید، لطفا در شیت نقطه سفارش کد و نام کالا کپی شود"]
[{"$f":"IFERROR(INDEX('موجودی خام اولیه با برندمتفاوت'!A:A,MATCH(C:C,'موجودی خام اولیه با برندمتفاوت'!C:C,0)),0)","v":0},null,null,null,null,null,null,null,null,null,null,{"$f":"COUNTIF('یکسان سازی برند'!K:K,'موجودی خام اولیه با برندمتفاوت'!K:K)","v":0},"کالای جدید، لطفا در شیت نقطه سفارش کد و نام کالا کپی شود"]
[{"$f":"IFERROR(INDEX('موجودی خام اولیه با برندمتفاوت'!A:A,MATCH(C:C,'موجودی خام اولیه با برندمتفاوت'!C:C,0)),0)","v":0},null,null,null,null,null,null,null,null,null,null,{"$f":"COUNTIF('یکسان سازی برند'!K:K,'موجودی خام اولیه با برندمتفاوت'!K:K)","v":0},"کالای جدید، لطفا در شیت نقطه سفارش کد و نام کالا کپی شود"]
[{"$f":"IFERROR(INDEX('موجودی خام اولیه با برندمتفاوت'!A:A,MATCH(C:C,'موجودی خام اولیه با برندمتفاوت'!C:C,0)),0)","v":0},null,null,null,null,null,null,null,null,null,null,{"$f":"COUNTIF('یکسان سازی برند'!K:K,'موجودی خام اولیه با برندمتفاوت'!K:K)","v":0},"کالای جدید، لطفا در شیت نقطه سفارش کد و نام کالا کپی شود"]
[{"$f":"IFERROR(INDEX('موجودی خام اولیه با برندمتفاوت'!A:A,MATCH(C:C,'موجودی خام اولیه با برندمتفاوت'!C:C,0)),0)","v":0},null,null,null,null,null,null,null,null,null,null,{"$f":"COUNTIF('یکسان سازی برند'!K:K,'موجودی خام اولیه با برندمتفاوت'!K:K)","v":0},"کالای جدید، لطفا در شیت نقطه سفارش کد و نام کالا کپی شود"]
[{"$f":"IFERROR(INDEX('موجودی خام اولیه با برندمتفاوت'!A:A,MATCH(C:C,'موجودی خام اولیه با برندمتفاوت'!C:C,0)),0)","v":0},null,null,null,null,null,null,null,null,null,null,{"$f":"COUNTIF('یکسان سازی برند'!K:K,'موجودی خام اولیه با برندمتفاوت'!K:K)","v":0},"کالای جدید، لطفا در شیت نقطه سفارش کد و نام کالا کپی شود"]
[{"$f":"IFERROR(INDEX('موجودی خام اولیه با برندمتفاوت'!A:A,MATCH(C:C,'موجودی خام اولیه با برندمتفاوت'!C:C,0)),0)","v":0},null,null,null,null,null,null,null,null,null,null,{"$f":"COUNTIF('یکسان سازی برند'!K:K,'موجودی خام اولیه با برندمتفاوت'!K:K)","v":0},"کالای جدید، لطفا در شیت نقطه سفارش کد و نام کالا کپی شود"]
[{"$f":"IFERROR(INDEX('موجودی خام اولیه با برندمتفاوت'!A:A,MATCH(C:C,'موجودی خام اولیه با برندمتفاوت'!C:C,0)),0)","v":0},null,null,null,null,null,null,null,null,null,null,{"$f":"COUNTIF('یکسان سازی برند'!K:K,'موجودی خام اولیه با برندمتفاوت'!K:K)","v":0},{"$f":"IF(L:L=0,\"کالای جدید، لطفا در شیت نقطه سفارش کد و نام کالا کپی شود\",\"\")","v":"کالای جدید، لطفا در شیت نقطه سفارش کد و نام کالا کپی شود"}]
[{"$f":"IFERROR(INDEX('موجودی خام اولیه با برندمتفاوت'!A:A,MATCH(C:C,'موجودی خام اولیه با برندمتفاوت'!C:C,0)),0)","v":0},null,null,null,null,null,null,null,null,null,null,{"$f":"COUNTIF('یکسان سازی برند'!K:K,'موجودی خام اولیه با برندمتفاوت'!K:K)","v":0},"کالای جدید، لطفا در شیت نقطه سفارش کد و نام کالا کپی شود"]
[{"$f":"IFERROR(INDEX('موجودی خام اولیه با برندمتفاوت'!A:A,MATCH(C:C,'موجودی خام اولیه با برندمتفاوت'!C:C,0)),0)","v":0},null,null,null,null,null,null,null,null,null,null,{"$f":"COUNTIF('یکسان سازی برند'!K:K,'موجودی خام اولیه با برندمتفاوت'!K:K)","v":0},"کالای جدید، لطفا در شیت نقطه سفارش کد و نام کالا کپی شود"]
[{"$f":"IFERROR(INDEX('موجودی خام اولیه با برندمتفاوت'!A:A,MATCH(C:C,'موجودی خام اولیه با برندمتفاوت'!C:C,0)),0)","v":0},null,null,null,null,null,null,null,null,null,null,null,"کالای جدید، لطفا در شیت نقطه سفارش کد و نام کالا کپی شود"]
[{"$f":"IFERROR(INDEX('موجودی خام اولیه با برندمتفاوت'!A:A,MATCH(C:C,'موجودی خام اولیه با برندمتفاوت'!C:C,0)),0)","v":0},null,null,null,null,null,null,null,null,null,null,null,"کالای جدید، لطفا در شیت نقطه سفارش کد و نام کالا کپی شود"]
[{"$f":"IFERROR(INDEX('موجودی خام اولیه با برندمتفاوت'!A:A,MATCH(C:C,'موجودی خام اولیه با برندمتفاوت'!C:C,0)),0)","v":0},null,null,null,null,null,null,null,null,null,null,null,"کالای جدید، لطفا در شیت نقطه سفارش کد و نام کالا کپی شود"]
[{"$f":"IFERROR(INDEX('موجودی خام اولیه با برندمتفاوت'!A:A,MATCH(C:C,'موجودی خام اولیه با برندمتفاوت'!C:C,0)),0)","v":0},null,null,null,null,null,null,null,null,null,null,null,"کالای جدید، لطفا در شیت نقطه سفارش کد و نام کالا کپی شود"]
[{"$f":"IFERROR(INDEX('موجودی خام اولیه با برندمتفاوت'!A:A,MATCH(C:C,'موجودی خام اولیه با برندمتفاوت'!C:C,0)),0)","v":0},null,null,null,null,null,null,null,null,null,null,null,"کالای جدید، لطفا در شیت نقطه سفارش کد و نام کالا کپی شود"]
[{"$f":"IFERROR(INDEX('موجودی خام اولیه با برندمتفاوت'!A:A,MATCH(C:C,'موجودی خام اولیه با برندمتفاوت'!C:C,0)),0)","v":0},null,null,null,null,null,null,null,null,null,null,null,"کالای جدید، لطفا در شیت نقطه سفارش کد و نام کالا کپی شود"]
[{"$f":"IFERROR(INDEX('موجودی خام اولیه با برندمتفاوت'!A:A,MATCH(C:C,'موجودی خام اولیه با برندمتفاوت'!C:C,0)),0)","v":0},null,null,null,null,null,null,null,null,null,null,null,"کالای جدید، لطفا در شیت نقطه سفارش کد و نام کالا کپی شود"]
[{"$f":"IFERROR(INDEX('موجودی خام اولیه با برندمتفاوت'!A:A,MATCH(C:C,'موجودی خام اولیه با برندمتفاوت'!C:C,0)),0)","v":0},null,null,null,null,null,null,null,null,null,null,null,"کالای جدید، لطفا در شیت نقطه سفارش کد و نام کالا کپی شود"]
[{"$f":"IFERROR(INDEX('موجودی خام اولیه با برندمتفاوت'!A:A,MATCH(C:C,'موجودی خام اولیه با برندمتفاوت'!C:C,0)),0)","v":0},null,null,null,null,null,null,null,null,null,null,null,"کالای جدید، لطفا در شیت نقطه سفارش کد و نام کالا کپی شود"]
[{"$f":"IFERROR(INDEX('موجودی خام اولیه با برندمتفاوت'!A:A,MATCH(C:C,'موجودی خام اولیه با برندمتفاوت'!C:C,0)),0)","v":0},null,null,null,null,null,null,null,null,null,null,null,"کالای جدید، لطفا در شیت نقطه سفارش کد و نام کالا کپی شود"]
[{"$f":"IFERROR(INDEX('موجودی خام اولیه با برندمتفاوت'!A:A,MATCH(C:C,'موجودی خام اولیه با برندمتفاوت'!C:C,0)),0)","v":0},null,null,null,null,null,null,null,null,null,null,null,"کالای جدید، لطفا در شیت نقطه سفارش کد و نام کالا کپی شود"]
[{"$f":"IFERROR(INDEX('موجودی خام اولیه با برندمتفاوت'!A:A,MATCH(C:C,'موجودی خام اولیه با برندمتفاوت'!C:C,0)),0)","v":0},null,null,null,null,null,null,null,null,null,null,null,"کالای جدید، لطفا در شیت نقطه سفارش کد و نام کالا کپی شود"]
[{"$f":"IFERROR(INDEX('موجودی خام اولیه با برندمتفاوت'!A:A,MATCH(C:C,'موجودی خام اولیه با برندمتفاوت'!C:C,0)),0)","v":0},null,null,null,null,null,null,null,null,null,null,null,"کالای جدید، لطفا در شیت نقطه سفارش کد و نام کالا کپی شود"]
[{"$f":"IFERROR(INDEX('موجودی خام اولیه با برندمتفاوت'!A:A,MATCH(C:C,'موجودی خام اولیه با برندمتفاوت'!C:C,0)),0)","v":0},null,null,null,null,null,null,null,null,null,null,null,"کالای جدید، لطفا در شیت نقطه سفارش کد و نام کالا کپی شود"]
[{"$f":"IFERROR(INDEX('موجودی خام اولیه با برندمتفاوت'!A:A,MATCH(C:C,'موجودی خام اولیه با برندمتفاوت'!C:C,0)),0)","v":0},null,null,null,null,null,null,null,null,null,null,null,"کالای جدید، لطفا در شیت نقطه سفارش کد و نام کالا کپی شود"]
[{"$f":"IFERROR(INDEX('موجودی خام اولیه با برندمتفاوت'!A:A,MATCH(C:C,'موجودی خام اولیه با برندمتفاوت'!C:C,0)),0)","v":0},null,null,null,null,null,null,null,null,null,null,null,"کالای جدید، لطفا در شیت نقطه سفارش کد و نام کالا کپی شود"]
[{"$f":"IFERROR(INDEX('موجودی خام اولیه با برندمتفاوت'!A:A,MATCH(C:C,'موجودی خام اولیه با برندمتفاوت'!C:C,0)),0)","v":0},null,null,null,null,null,null,null,null,null,null,null,"کالای جدید، لطفا در شیت نقطه سفارش کد و نام کالا کپی شود"]
[{"$f":"IFERROR(INDEX('موجودی خام اولیه با برندمتفاوت'!A:A,MATCH(C:C,'موجودی خام اولیه با برندمتفاوت'!C:C,0)),0)","v":0},null,null,null,null,null,null,null,null,null,null,null,"کالای جدید، لطفا در شیت نقطه سفارش کد و نام کالا کپی شود"]
[{"$f":"IFERROR(INDEX('موجودی خام اولیه با برندمتفاوت'!A:A,MATCH(C:C,'موجودی خام اولیه با برندمتفاوت'!C:C,0)),0)","v":0},null,null,null,null,null,null,null,null,null,null,null,"کالای جدید، لطفا در شیت نقطه سفارش کد و نام کالا کپی شود"]
[{"$f":"IFERROR(INDEX('موجودی خام اولیه با برندمتفاوت'!A:A,MATCH(C:C,'موجودی خام اولیه با برندمتفاوت'!C:C,0)),0)","v":0},null,null,null,null,null,null,null,null,null,null,null,"کالای جدید، لطفا در شیت نقطه سفارش کد و نام کالا کپی شود"]
[{"$f":"IFERROR(INDEX('موجودی خام اولیه با برندمتفاوت'!A:A,MATCH(C:C,'موجودی خام اولیه با برندمتفاوت'!C:C,0)),0)","v":0},null,null,null,null,null,null,null,null,null,null,null,"کالای جدید، لطفا در شیت نقطه سفارش کد و نام کالا کپی شود"]
[{"$f":"IFERROR(INDEX('موجودی خام اولیه با برندمتفاوت'!A:A,MATCH(C:C,'موجودی خام اولیه با برندمتفاوت'!C:C,0)),0)","v":0},null,null,null,null,null,null,null,null,null,null,null,"کالای جدید، لطفا در شیت نقطه سفارش کد و نام کالا کپی شود"]
[{"$f":"IFERROR(INDEX('موجودی خام اولیه با برندمتفاوت'!A:A,MATCH(C:C,'موجودی خام اولیه با برندمتفاوت'!C:C,0)),0)","v":0},null,null,null,null,null,null,null,null,null,null,null,"کالای جدید، لطفا در شیت نقطه سفارش کد و نام کالا کپی شود"]
[{"$f":"IFERROR(INDEX('موجودی خام اولیه با برندمتفاوت'!A:A,MATCH(C:C,'موجودی خام اولیه با برندمتفاوت'!C:C,0)),0)","v":0},null,null,null,null,null,null,null,null,null,null,null,"کالای جدید، لطفا در شیت نقطه سفارش کد و نام کالا کپی شود"]
[{"$f":"IFERROR(INDEX('موجودی خام اولیه با برندمتفاوت'!A:A,MATCH(C:C,'موجودی خام اولیه با برندمتفاوت'!C:C,0)),0)","v":0},null,null,null,null,null,null,null,null,null,null,null,"کالای جدید، لطفا در شیت نقطه سفارش کد و نام کالا کپی شود"]
[{"$f":"IFERROR(INDEX('موجودی خام اولیه با برندمتفاوت'!A:A,MATCH(C:C,'موجودی خام اولیه با برندمتفاوت'!C:C,0)),0)","v":0},null,null,null,null,null,null,null,null,null,null,null,"کالای جدید، لطفا در شیت نقطه سفارش کد و نام کالا کپی شود"]
[{"$f":"IFERROR(INDEX('موجودی خام اولیه با برندمتفاوت'!A:A,MATCH(C:C,'موجودی خام اولیه با برندمتفاوت'!C:C,0)),0)","v":0},null,null,null,null,null,null,null,null,null,null,null,"کالای جدید، لطفا در شیت نقطه سفارش کد و نام کالا کپی شود"]
[{"$f":"IFERROR(INDEX('موجودی خام اولیه با برندمتفاوت'!A:A,MATCH(C:C,'موجودی خام اولیه با برندمتفاوت'!C:C,0)),0)","v":0},null,null,null,null,null,null,null,null,null,null,null,"کالای جدید، لطفا در شیت نقطه سفارش کد و نام کالا کپی شود"]
[{"$f":"IFERROR(INDEX('موجودی خام اولیه با برندمتفاوت'!A:A,MATCH(C:C,'موجودی خام اولیه با برندمتفاوت'!C:C,0)),0)","v":0},null,null,null,null,null,null,null,null,null,null,null,"کالای جدید، لطفا در شیت نقطه سفارش کد و نام کالا کپی شود"]
[{"$f":"IFERROR(INDEX('موجودی خام اولیه با برندمتفاوت'!A:A,MATCH(C:C,'موجودی خام اولیه با برندمتفاوت'!C:C,0)),0)","v":0},null,null,null,null,null,null,null,null,null,null,null,"کالای جدید، لطفا در شیت نقطه سفارش کد و نام کالا کپی شود"]
[{"$f":"IFERROR(INDEX('موجودی خام اولیه با برندمتفاوت'!A:A,MATCH(C:C,'موجودی خام اولیه با برندمتفاوت'!C:C,0)),0)","v":0},null,null,null,null,null,null,null,null,null,null,null,"کالای جدید، لطفا در شیت نقطه سفارش کد و نام کالا کپی شود"]
[{"$f":"IFERROR(INDEX('موجودی خام اولیه با برندمتفاوت'!A:A,MATCH(C:C,'موجودی خام اولیه با برندمتفاوت'!C:C,0)),0)","v":0},null,null,null,null,null,null,null,null,null,null,null,"کالای جدید، لطفا در شیت نقطه سفارش کد و نام کالا کپی شود"]
[{"$f":"IFERROR(INDEX('موجودی خام اولیه با برندمتفاوت'!A:A,MATCH(C:C,'موجودی خام اولیه با برندمتفاوت'!C:C,0)),0)","v":0},null,null,null,null,null,null,null,null,null,null,null,"کالای جدید، لطفا در شیت نقطه سفارش کد و نام کالا کپی شود"]
[{"$f":"IFERROR(INDEX('موجودی خام اولیه با برندمتفاوت'!A:A,MATCH(C:C,'موجودی خام اولیه با برندمتفاوت'!C:C,0)),0)","v":0},null,null,null,null,null,null,null,null,null,null,null,"کالای جدید، لطفا در شیت نقطه سفارش کد و نام کالا کپی شود"]
[{"$f":"IFERROR(INDEX('موجودی خام اولیه با برندمتفاوت'!A:A,MATCH(C:C,'موجودی خام اولیه با برندمتفاوت'!C:C,0)),0)","v":0},null,null,null,null,null,null,null,null,null,null,null,"کالای جدید، لطفا در شیت نقطه سفارش کد و نام کالا کپی شود"]
[{"$f":"IFERROR(INDEX('موجودی خام اولیه با برندمتفاوت'!A:A,MATCH(C:C,'موجودی خام اولیه با برندمتفاوت'!C:C,0)),0)","v":0},null,null,null,null,null,null,null,null,null,null,null,"کالای جدید، لطفا در شیت نقطه سفارش کد و نام کالا کپی شود"]
[{"$f":"IFERROR(INDEX('موجودی خام اولیه با برندمتفاوت'!A:A,MATCH(C:C,'موجودی خام اولیه با برندمتفاوت'!C:C,0)),0)","v":0},null,null,null,null,null,null,null,null,null,null,null,"کالای جدید، لطفا در شیت نقطه سفارش کد و نام کالا کپی شود"]
[{"$f":"IFERROR(INDEX('موجودی خام اولیه با برندمتفاوت'!A:A,MATCH(C:C,'موجودی خام اولیه با برندمتفاوت'!C:C,0)),0)","v":0},null,null,null,null,null,null,null,null,null,null,null,"کالای جدید، لطفا در شیت نقطه سفارش کد و نام کالا کپی شود"]
[{"$f":"IFERROR(INDEX('موجودی خام اولیه با برندمتفاوت'!A:A,MATCH(C:C,'موجودی خام اولیه با برندمتفاوت'!C:C,0)),0)","v":0},null,null,null,null,null,null,null,null,null,null,null,"کالای جدید، لطفا در شیت نقطه سفارش کد و نام کالا کپی شود"]
[{"$f":"IFERROR(INDEX('موجودی خام اولیه با برندمتفاوت'!A:A,MATCH(C:C,'موجودی خام اولیه با برندمتفاوت'!C:C,0)),0)","v":0},null,null,null,null,null,null,null,null,null,null,null,"کالای جدید، لطفا در شیت نقطه سفارش کد و نام کالا کپی شود"]
[{"$f":"IFERROR(INDEX('موجودی خام اولیه با برندمتفاوت'!A:A,MATCH(C:C,'موجودی خام اولیه با برندمتفاوت'!C:C,0)),0)","v":0},null,null,null,null,null,null,null,null,null,null,null,"کالای جدید، لطفا در شیت نقطه سفارش کد و نام کالا کپی شود"]
[{"$f":"IFERROR(INDEX('موجودی خام اولیه با برندمتفاوت'!A:A,MATCH(C:C,'موجودی خام اولیه با برندمتفاوت'!C:C,0)),0)","v":0},null,null,null,null,null,null,null,null,null,null,null,"کالای جدید، لطفا در شیت نقطه سفارش کد و نام کالا کپی شود"]
[{"$f":"IFERROR(INDEX('موجودی خام اولیه با برندمتفاوت'!A:A,MATCH(C:C,'موجودی خام اولیه با برندمتفاوت'!C:C,0)),0)","v":0},null,null,null,null,null,null,null,null,null,null,null,"کالای جدید، لطفا در شیت نقطه سفارش کد و نام کالا کپی شود"]
[{"$f":"IFERROR(INDEX('موجودی خام اولیه با برندمتفاوت'!A:A,MATCH(C:C,'موجودی خام اولیه با برندمتفاوت'!C:C,0)),0)","v":0},null,null,null,null,null,null,null,null,null,null,null,"کالای جدید، لطفا در شیت نقطه سفارش کد و نام کالا کپی شود"]
[{"$f":"IFERROR(INDEX('موجودی خام اولیه با برندمتفاوت'!A:A,MATCH(C:C,'موجودی خام اولیه با برندمتفاوت'!C:C,0)),0)","v":0},null,null,null,null,null,null,null,null,null,null,null,"کالای جدید، لطفا در شیت نقطه سفارش کد و نام کالا کپی شود"]
[{"$f":"IFERROR(INDEX('موجودی خام اولیه با برندمتفاوت'!A:A,MATCH(C:C,'موجودی خام اولیه با برندمتفاوت'!C:C,0)),0)","v":0},null,null,null,null,null,null,null,null,null,null,null,"کالای جدید، لطفا در شیت نقطه سفارش کد و نام کالا کپی شود"]
[{"$f":"IFERROR(INDEX('موجودی خام اولیه با برندمتفاوت'!A:A,MATCH(C:C,'موجودی خام اولیه با برندمتفاوت'!C:C,0)),0)","v":0},null,null,null,null,null,null,null,null,null,null,null,"کالای جدید، لطفا در شیت نقطه سفارش کد و نام کالا کپی شود"]
[{"$f":"IFERROR(INDEX('موجودی خام اولیه با برندمتفاوت'!A:A,MATCH(C:C,'موجودی خام اولیه با برندمتفاوت'!C:C,0)),0)","v":0},null,null,null,null,null,null,null,null,null,null,null,"کالای جدید، لطفا در شیت نقطه سفارش کد و نام کالا کپی شود"]
[{"$f":"IFERROR(INDEX('موجودی خام اولیه با برندمتفاوت'!A:A,MATCH(C:C,'موجودی خام اولیه با برندمتفاوت'!C:C,0)),0)","v":0},null,null,null,null,null,null,null,null,null,null,null,"کالای جدید، لطفا در شیت نقطه سفارش کد و نام کالا کپی شود"]
[{"$f":"IFERROR(INDEX('موجودی خام اولیه با برندمتفاوت'!A:A,MATCH(C:C,'موجودی خام اولیه با برندمتفاوت'!C:C,0)),0)","v":0},null,null,null,null,null,null,null,null,null,null,null,"کالای جدید، لطفا در شیت نقطه سفارش کد و نام کالا کپی شود"]
[{"$f":"IFERROR(INDEX('موجودی خام اولیه با برندمتفاوت'!A:A,MATCH(C:C,'موجودی خام اولیه با برندمتفاوت'!C:C,0)),0)","v":0},null,null,null,null,null,null,null,null,null,null,null,"کالای جدید، لطفا در شیت نقطه سفارش کد و نام کالا کپی شود"]
[{"$f":"IFERROR(INDEX('موجودی خام اولیه با برندمتفاوت'!A:A,MATCH(C:C,'موجودی خام اولیه با برندمتفاوت'!C:C,0)),0)","v":0},null,null,null,null,null,null,null,null,null,null,null,"کالای جدید، لطفا در شیت نقطه سفارش کد و نام کالا کپی شود"]
[{"$f":"IFERROR(INDEX('موجودی خام اولیه با برندمتفاوت'!A:A,MATCH(C:C,'موجودی خام اولیه با برندمتفاوت'!C:C,0)),0)","v":0},null,null,null,null,null,null,null,null,null,null,null,"کالای جدید، لطفا در شیت نقطه سفارش کد و نام کالا کپی شود"]
[{"$f":"IFERROR(INDEX('موجودی خام اولیه با برندمتفاوت'!A:A,MATCH(C:C,'موجودی خام اولیه با برندمتفاوت'!C:C,0)),0)","v":0},null,null,null,null,null,null,null,null,null,null,null,"کالای جدید، لطفا در شیت نقطه سفارش کد و نام کالا کپی شود"]
[{"$f":"IFERROR(INDEX('موجودی خام اولیه با برندمتفاوت'!A:A,MATCH(C:C,'موجودی خام اولیه با برندمتفاوت'!C:C,0)),0)","v":0},null,null,null,null,null,null,null,null,null,null,null,"کالای جدید، لطفا در شیت نقطه سفارش کد و نام کالا کپی شود"]
[{"$f":"IFERROR(INDEX('موجودی خام اولیه با برندمتفاوت'!A:A,MATCH(C:C,'موجودی خام اولیه با برندمتفاوت'!C:C,0)),0)","v":0},null,null,null,null,null,null,null,null,null,null,null,"کالای جدید، لطفا در شیت نقطه سفارش کد و نام کالا کپی شود"]
[{"$f":"IFERROR(INDEX('موجودی خام اولیه با برندمتفاوت'!A:A,MATCH(C:C,'موجودی خام اولیه با برندمتفاوت'!C:C,0)),0)","v":0},null,null,null,null,null,null,null,null,null,null,null,"کالای جدید، لطفا در شیت نقطه سفارش کد و نام کالا کپی شود"]
[{"$f":"IFERROR(INDEX('موجودی خام اولیه با برندمتفاوت'!A:A,MATCH(C:C,'موجودی خام اولیه با برندمتفاوت'!C:C,0)),0)","v":0},null,null,null,null,null,null,null,null,null,null,null,"کالای جدید، لطفا در شیت نقطه سفارش کد و نام کالا کپی شود"]
[{"$f":"IFERROR(INDEX('موجودی خام اولیه با برندمتفاوت'!A:A,MATCH(C:C,'موجودی خام اولیه با برندمتفاوت'!C:C,0)),0)","v":0},null,null,null,null,null,null,null,null,null,null,null,"کالای جدید، لطفا در شیت نقطه سفارش کد و نام کالا کپی شود"]
[{"$f":"IFERROR(INDEX('موجودی خام اولیه با برندمتفاوت'!A:A,MATCH(C:C,'موجودی خام اولیه با برندمتفاوت'!C:C,0)),0)","v":0},null,null,null,null,null,null,null,null,null,null,null,"کالای جدید، لطفا در شیت نقطه سفارش کد و نام کالا کپی شود"]
[{"$f":"IFERROR(INDEX('موجودی خام اولیه با برندمتفاوت'!A:A,MATCH(C:C,'موجودی خام اولیه با برندمتفاوت'!C:C,0)),0)","v":0},null,null,null,null,null,null,null,null,null,null,null,"کالای جدید، لطفا در شیت نقطه سفارش کد و نام کالا کپی شود"]
[{"$f":"IFERROR(INDEX('موجودی خام اولیه با برندمتفاوت'!A:A,MATCH(C:C,'موجودی خام اولیه با برندمتفاوت'!C:C,0)),0)","v":0},null,null,null,null,null,null,null,null,null,null,null,{"$f":"IF(L:L=0,\"کالای جدید، لطفا در شیت نقطه سفارش کد و نام کالا کپی شود\",\"\")","v":"کالای جدید، لطفا در شیت نقطه سفارش کد و نام کالا کپی شود"}]
[{"$f":"IFERROR(INDEX('موجودی خام اولیه با برندمتفاوت'!A:A,MATCH(C:C,'موجودی خام اولیه با برندمتفاوت'!C:C,0)),0)","v":0},null,null,null,null,null,null,null,null,null,null,null,"کالای جدید، لطفا در شیت نقطه سفارش کد و نام کالا کپی شود"]
[{"$f":"IFERROR(INDEX('موجودی خام اولیه با برندمتفاوت'!A:A,MATCH(C:C,'موجودی خام اولیه با برندمتفاوت'!C:C,0)),0)","v":0},null,null,null,null,null,null,null,null,null,null,null,"کالای جدید، لطفا در شیت نقطه سفارش کد و نام کالا کپی شود"]
[{"$f":"IFERROR(INDEX('موجودی خام اولیه با برندمتفاوت'!A:A,MATCH(C:C,'موجودی خام اولیه با برندمتفاوت'!C:C,0)),0)","v":0},null,null,null,null,null,null,null,null,null,null,null,"کالای جدید، لطفا در شیت نقطه سفارش کد و نام کالا کپی شود"]
[{"$f":"IFERROR(INDEX('موجودی خام اولیه با برندمتفاوت'!A:A,MATCH(C:C,'موجودی خام اولیه با برندمتفاوت'!C:C,0)),0)","v":0},null,null,null,null,null,null,null,null,null,null,null,"کالای جدید، لطفا در شیت نقطه سفارش کد و نام کالا کپی شود"]
[{"$f":"IFERROR(INDEX('موجودی خام اولیه با برندمتفاوت'!A:A,MATCH(C:C,'موجودی خام اولیه با برندمتفاوت'!C:C,0)),0)","v":0},null,null,null,null,null,null,null,null,null,null,null,"کالای جدید، لطفا در شیت نقطه سفارش کد و نام کالا کپی شود"]
[{"$f":"IFERROR(INDEX('موجودی خام اولیه با برندمتفاوت'!A:A,MATCH(C:C,'موجودی خام اولیه با برندمتفاوت'!C:C,0)),0)","v":0},null,null,null,null,null,null,null,null,null,null,null,"کالای جدید، لطفا در شیت نقطه سفارش کد و نام کالا کپی شود"]
[{"$f":"IFERROR(INDEX('موجودی خام اولیه با برندمتفاوت'!A:A,MATCH(C:C,'موجودی خام اولیه با برندمتفاوت'!C:C,0)),0)","v":0},null,null,null,null,null,null,null,null,null,null,null,"کالای جدید، لطفا در شیت نقطه سفارش کد و نام کالا کپی شود"]
[{"$f":"IFERROR(INDEX('موجودی خام اولیه با برندمتفاوت'!A:A,MATCH(C:C,'موجودی خام اولیه با برندمتفاوت'!C:C,0)),0)","v":0},null,null,null,null,null,null,null,null,null,null,null,"کالای جدید، لطفا در شیت نقطه سفارش کد و نام کالا کپی شود"]
[{"$f":"IFERROR(INDEX('موجودی خام اولیه با برندمتفاوت'!A:A,MATCH(C:C,'موجودی خام اولیه با برندمتفاوت'!C:C,0)),0)","v":0},null,null,null,null,null,null,null,null,null,null,null,"کالای جدید، لطفا در شیت نقطه سفارش کد و نام کالا کپی شود"]
[{"$f":"IFERROR(INDEX('موجودی خام اولیه با برندمتفاوت'!A:A,MATCH(C:C,'موجودی خام اولیه با برندمتفاوت'!C:C,0)),0)","v":0},null,null,null,null,null,null,null,null,null,null,null,"کالای جدید، لطفا در شیت نقطه سفارش کد و نام کالا کپی شود"]
[{"$f":"IFERROR(INDEX('موجودی خام اولیه با برندمتفاوت'!A:A,MATCH(C:C,'موجودی خام اولیه با برندمتفاوت'!C:C,0)),0)","v":0},null,null,null,null,null,null,null,null,null,null,null,"کالای جدید، لطفا در شیت نقطه سفارش کد و نام کالا کپی شود"]
[{"$f":"IFERROR(INDEX('موجودی خام اولیه با برندمتفاوت'!A:A,MATCH(C:C,'موجودی خام اولیه با برندمتفاوت'!C:C,0)),0)","v":0},null,null,null,null,null,null,null,null,null,null,null,"کالای جدید، لطفا در شیت نقطه سفارش کد و نام کالا کپی شود"]
[{"$f":"IFERROR(INDEX('موجودی خام اولیه با برندمتفاوت'!A:A,MATCH(C:C,'موجودی خام اولیه با برندمتفاوت'!C:C,0)),0)","v":0},null,null,null,null,null,null,null,null,null,null,null,"کالای جدید، لطفا در شیت نقطه سفارش کد و نام کالا کپی شود"]
[{"$f":"IFERROR(INDEX('موجودی خام اولیه با برندمتفاوت'!A:A,MATCH(C:C,'موجودی خام اولیه با برندمتفاوت'!C:C,0)),0)","v":0},null,null,null,null,null,null,null,null,null,null,null,"کالای جدید، لطفا در شیت نقطه سفارش کد و نام کالا کپی شود"]
[{"$f":"IFERROR(INDEX('موجودی خام اولیه با برندمتفاوت'!A:A,MATCH(C:C,'موجودی خام اولیه با برندمتفاوت'!C:C,0)),0)","v":0},null,null,null,null,null,null,null,null,null,null,null,"کالای جدید، لطفا در شیت نقطه سفارش کد و نام کالا کپی شود"]
[{"$f":"IFERROR(INDEX('موجودی خام اولیه با برندمتفاوت'!A:A,MATCH(C:C,'موجودی خام اولیه با برندمتفاوت'!C:C,0)),0)","v":0},null,null,null,null,null,null,null,null,null,null,null,"کالای جدید، لطفا در شیت نقطه سفارش کد و نام کالا کپی شود"]
[{"$f":"IFERROR(INDEX('موجودی خام اولیه با برندمتفاوت'!A:A,MATCH(C:C,'موجودی خام اولیه با برندمتفاوت'!C:C,0)),0)","v":0},null,null,null,null,null,null,null,null,null,null,null,"کالای جدید، لطفا در شیت نقطه سفارش کد و نام کالا کپی شود"]
[{"$f":"IFERROR(INDEX('موجودی خام اولیه با برندمتفاوت'!A:A,MATCH(C:C,'موجودی خام اولیه با برندمتفاوت'!C:C,0)),0)","v":0},null,null,null,null,null,null,null,null,null,null,null,"کالای جدید، لطفا در شیت نقطه سفارش کد و نام کالا کپی شود"]
[{"$f":"IFERROR(INDEX('موجودی خام اولیه با برندمتفاوت'!A:A,MATCH(C:C,'موجودی خام اولیه با برندمتفاوت'!C:C,0)),0)","v":0},null,null,null,null,null,null,null,null,null,null,null,"کالای جدید، لطفا در شیت نقطه سفارش کد و نام کالا کپی شود"]
[{"$f":"IFERROR(INDEX('موجودی خام اولیه با برندمتفاوت'!A:A,MATCH(C:C,'موجودی خام اولیه با برندمتفاوت'!C:C,0)),0)","v":0},null,null,null,null,null,null,null,null,null,null,null,"کالای جدید، لطفا در شیت نقطه سفارش کد و نام کالا کپی شود"]
[{"$f":"IFERROR(INDEX('موجودی خام اولیه با برندمتفاوت'!A:A,MATCH(C:C,'موجودی خام اولیه با برندمتفاوت'!C:C,0)),0)","v":0},null,null,null,null,null,null,null,null,null,null,null,"کالای جدید، لطفا در شیت نقطه سفارش کد و نام کالا کپی شود"]
[{"$f":"IFERROR(INDEX('موجودی خام اولیه با برندمتفاوت'!A:A,MATCH(C:C,'موجودی خام اولیه با برندمتفاوت'!C:C,0)),0)","v":0},null,null,null,null,null,null,null,null,null,null,null,"کالای جدید، لطفا در شیت نقطه سفارش کد و نام کالا کپی شود"]
[{"$f":"IFERROR(INDEX('موجودی خام اولیه با برندمتفاوت'!A:A,MATCH(C:C,'موجودی خام اولیه با برندمتفاوت'!C:C,0)),0)","v":0},null,null,null,null,null,null,null,null,null,null,null,"کالای جدید، لطفا در شیت نقطه سفارش کد و نام کالا کپی شود"]
[{"$f":"IFERROR(INDEX('موجودی خام اولیه با برندمتفاوت'!A:A,MATCH(C:C,'موجودی خام اولیه با برندمتفاوت'!C:C,0)),0)","v":0},null,null,null,null,null,null,null,null,null,null,null,"کالای جدید، لطفا در شیت نقطه سفارش کد و نام کالا کپی شود"]
[{"$f":"IFERROR(INDEX('موجودی خام اولیه با برندمتفاوت'!A:A,MATCH(C:C,'موجودی خام اولیه با برندمتفاوت'!C:C,0)),0)","v":0},null,null,null,null,null,null,null,null,null,null,null,"کالای جدید، لطفا در شیت نقطه سفارش کد و نام کالا کپی شود"]
[{"$f":"IFERROR(INDEX('موجودی خام اولیه با برندمتفاوت'!A:A,MATCH(C:C,'موجودی خام اولیه با برندمتفاوت'!C:C,0)),0)","v":0},null,null,null,null,null,null,null,null,null,null,null,"کالای جدید، لطفا در شیت نقطه سفارش کد و نام کالا کپی شود"]
[{"$f":"IFERROR(INDEX('موجودی خام اولیه با برندمتفاوت'!A:A,MATCH(C:C,'موجودی خام اولیه با برندمتفاوت'!C:C,0)),0)","v":0},null,null,null,null,null,null,null,null,null,null,null,"کالای جدید، لطفا در شیت نقطه سفارش کد و نام کالا کپی شود"]
[{"$f":"IFERROR(INDEX('موجودی خام اولیه با برندمتفاوت'!A:A,MATCH(C:C,'موجودی خام اولیه با برندمتفاوت'!C:C,0)),0)","v":0},null,null,null,null,null,null,null,null,null,null,null,"کالای جدید، لطفا در شیت نقطه سفارش کد و نام کالا کپی شود"]
[{"$f":"IFERROR(INDEX('موجودی خام اولیه با برندمتفاوت'!A:A,MATCH(C:C,'موجودی خام اولیه با برندمتفاوت'!C:C,0)),0)","v":0},null,null,null,null,null,null,null,null,null,null,null,"کالای جدید، لطفا در شیت نقطه سفارش کد و نام کالا کپی شود"]
[{"$f":"IFERROR(INDEX('موجودی خام اولیه با برندمتفاوت'!A:A,MATCH(C:C,'موجودی خام اولیه با برندمتفاوت'!C:C,0)),0)","v":0},null,null,null,null,null,null,null,null,null,null,null,"کالای جدید، لطفا در شیت نقطه سفارش کد و نام کالا کپی شود"]
[{"$f":"IFERROR(INDEX('موجودی خام اولیه با برندمتفاوت'!A:A,MATCH(C:C,'موجودی خام اولیه با برندمتفاوت'!C:C,0)),0)","v":0},null,null,null,null,null,null,null,null,null,null,null,"کالای جدید، لطفا در شیت نقطه سفارش کد و نام کالا کپی شود"]
[{"$f":"IFERROR(INDEX('موجودی خام اولیه با برندمتفاوت'!A:A,MATCH(C:C,'موجودی خام اولیه با برندمتفاوت'!C:C,0)),0)","v":0},null,null,null,null,null,null,null,null,null,null,null,"کالای جدید، لطفا در شیت نقطه سفارش کد و نام کالا کپی شود"]
[{"$f":"IFERROR(INDEX('موجودی خام اولیه با برندمتفاوت'!A:A,MATCH(C:C,'موجودی خام اولیه با برندمتفاوت'!C:C,0)),0)","v":0},null,null,null,null,null,null,null,null,null,null,null,"کالای جدید، لطفا در شیت نقطه سفارش کد و نام کالا کپی شود"]
[{"$f":"IFERROR(INDEX('موجودی خام اولیه با برندمتفاوت'!A:A,MATCH(C:C,'موجودی خام اولیه با برندمتفاوت'!C:C,0)),0)","v":0},null,null,null,null,null,null,null,null,null,null,null,"کالای جدید، لطفا در شیت نقطه سفارش کد و نام کالا کپی شود"]
[{"$f":"IFERROR(INDEX('موجودی خام اولیه با برندمتفاوت'!A:A,MATCH(C:C,'موجودی خام اولیه با برندمتفاوت'!C:C,0)),0)","v":0},null,null,null,null,null,null,null,null,null,null,null,"کالای جدید، لطفا در شیت نقطه سفارش کد و نام کالا کپی شود"]
[{"$f":"IFERROR(INDEX('موجودی خام اولیه با برندمتفاوت'!A:A,MATCH(C:C,'موجودی خام اولیه با برندمتفاوت'!C:C,0)),0)","v":0},null,null,null,null,null,null,null,null,null,null,null,"کالای جدید، لطفا در شیت نقطه سفارش کد و نام کالا کپی شود"]
[{"$f":"IFERROR(INDEX('موجودی خام اولیه با برندمتفاوت'!A:A,MATCH(C:C,'موجودی خام اولیه با برندمتفاوت'!C:C,0)),0)","v":0},null,null,null,null,null,null,null,null,null,null,null,"کالای جدید، لطفا در شیت نقطه سفارش کد و نام کالا کپی شود"]
[{"$f":"IFERROR(INDEX('موجودی خام اولیه با برندمتفاوت'!A:A,MATCH(C:C,'موجودی خام اولیه با برندمتفاوت'!C:C,0)),0)","v":0},null,null,null,null,null,null,null,null,null,null,null,"کالای جدید، لطفا در شیت نقطه سفارش کد و نام کالا کپی شود"]
[{"$f":"IFERROR(INDEX('موجودی خام اولیه با برندمتفاوت'!A:A,MATCH(C:C,'موجودی خام اولیه با برندمتفاوت'!C:C,0)),0)","v":0},null,null,null,null,null,null,null,null,null,null,null,"کالای جدید، لطفا در شیت نقطه سفارش کد و نام کالا کپی شود"]
[{"$f":"IFERROR(INDEX('موجودی خام اولیه با برندمتفاوت'!A:A,MATCH(C:C,'موجودی خام اولیه با برندمتفاوت'!C:C,0)),0)","v":0},null,null,null,null,null,null,null,null,null,null,null,"کالای جدید، لطفا در شیت نقطه سفارش کد و نام کالا کپی شود"]
[{"$f":"IFERROR(INDEX('موجودی خام اولیه با برندمتفاوت'!A:A,MATCH(C:C,'موجودی خام اولیه با برندمتفاوت'!C:C,0)),0)","v":0},null,null,null,null,null,null,null,null,null,null,null,"کالای جدید، لطفا در شیت نقطه سفارش کد و نام کالا کپی شود"]
[{"$f":"IFERROR(INDEX('موجودی خام اولیه با برندمتفاوت'!A:A,MATCH(C:C,'موجودی خام اولیه با برندمتفاوت'!C:C,0)),0)","v":0},null,null,null,null,null,null,null,null,null,null,null,"کالای جدید، لطفا در شیت نقطه سفارش کد و نام کالا کپی شود"]
[{"$f":"IFERROR(INDEX('موجودی خام اولیه با برندمتفاوت'!A:A,MATCH(C:C,'موجودی خام اولیه با برندمتفاوت'!C:C,0)),0)","v":0},null,null,null,null,null,null,null,null,null,null,null,"کالای جدید، لطفا در شیت نقطه سفارش کد و نام کالا کپی شود"]
[{"$f":"IFERROR(INDEX('موجودی خام اولیه با برندمتفاوت'!A:A,MATCH(C:C,'موجودی خام اولیه با برندمتفاوت'!C:C,0)),0)","v":0},null,null,null,null,null,null,null,null,null,null,null,"کالای جدید، لطفا در شیت نقطه سفارش کد و نام کالا کپی شود"]
[{"$f":"IFERROR(INDEX('موجودی خام اولیه با برندمتفاوت'!A:A,MATCH(C:C,'موجودی خام اولیه با برندمتفاوت'!C:C,0)),0)","v":0},null,null,null,null,null,null,null,null,null,null,null,"کالای جدید، لطفا در شیت نقطه سفارش کد و نام کالا کپی شود"]
[{"$f":"IFERROR(INDEX('موجودی خام اولیه با برندمتفاوت'!A:A,MATCH(C:C,'موجودی خام اولیه با برندمتفاوت'!C:C,0)),0)","v":0},null,null,null,null,null,null,null,null,null,null,null,"کالای جدید، لطفا در شیت نقطه سفارش کد و نام کالا کپی شود"]
[{"$f":"IFERROR(INDEX('موجودی خام اولیه با برندمتفاوت'!A:A,MATCH(C:C,'موجودی خام اولیه با برندمتفاوت'!C:C,0)),0)","v":0},null,null,null,null,null,null,null,null,null,null,null,"کالای جدید، لطفا در شیت نقطه سفارش کد و نام کالا کپی شود"]
[{"$f":"IFERROR(INDEX('موجودی خام اولیه با برندمتفاوت'!A:A,MATCH(C:C,'موجودی خام اولیه با برندمتفاوت'!C:C,0)),0)","v":0},null,null,null,null,null,null,null,null,null,null,null,"کالای جدید، لطفا در شیت نقطه سفارش کد و نام کالا کپی شود"]
[{"$f":"IFERROR(INDEX('موجودی خام اولیه با برندمتفاوت'!A:A,MATCH(C:C,'موجودی خام اولیه با برندمتفاوت'!C:C,0)),0)","v":0},null,null,null,null,null,null,null,null,null,null,null,"کالای جدید، لطفا در شیت نقطه سفارش کد و نام کالا کپی شود"]
[{"$f":"IFERROR(INDEX('موجودی خام اولیه با برندمتفاوت'!A:A,MATCH(C:C,'موجودی خام اولیه با برندمتفاوت'!C:C,0)),0)","v":0},null,null,null,null,null,null,null,null,null,null,null,"کالای جدید، لطفا در شیت نقطه سفارش کد و نام کالا کپی شود"]
[{"$f":"IFERROR(INDEX('موجودی خام اولیه با برندمتفاوت'!A:A,MATCH(C:C,'موجودی خام اولیه با برندمتفاوت'!C:C,0)),0)","v":0},null,null,null,null,null,null,null,null,null,null,null,"کالای جدید، لطفا در شیت نقطه سفارش کد و نام کالا کپی شود"]
[{"$f":"IFERROR(INDEX('موجودی خام اولیه با برندمتفاوت'!A:A,MATCH(C:C,'موجودی خام اولیه با برندمتفاوت'!C:C,0)),0)","v":0},null,null,null,null,null,null,null,null,null,null,null,"کالای جدید، لطفا در شیت نقطه سفارش کد و نام کالا کپی شود"]
[{"$f":"IFERROR(INDEX('موجودی خام اولیه با برندمتفاوت'!A:A,MATCH(C:C,'موجودی خام اولیه با برندمتفاوت'!C:C,0)),0)","v":0},null,null,null,null,null,null,null,null,null,null,null,"کالای جدید، لطفا در شیت نقطه سفارش کد و نام کالا کپی شود"]
[{"$f":"IFERROR(INDEX('موجودی خام اولیه با برندمتفاوت'!A:A,MATCH(C:C,'موجودی خام اولیه با برندمتفاوت'!C:C,0)),0)","v":0},null,null,null,null,null,null,null,null,null,null,null,"کالای جدید، لطفا در شیت نقطه سفارش کد و نام کالا کپی شود"]
[{"$f":"IFERROR(INDEX('موجودی خام اولیه با برندمتفاوت'!A:A,MATCH(C:C,'موجودی خام اولیه با برندمتفاوت'!C:C,0)),0)","v":0},null,null,null,null,null,null,null,null,null,null,null,"کالای جدید، لطفا در شیت نقطه سفارش کد و نام کالا کپی شود"]
[{"$f":"IFERROR(INDEX('موجودی خام اولیه با برندمتفاوت'!A:A,MATCH(C:C,'موجودی خام اولیه با برندمتفاوت'!C:C,0)),0)","v":0},null,null,null,null,null,null,null,null,null,null,null,"کالای جدید، لطفا در شیت نقطه سفارش کد و نام کالا کپی شود"]
[{"$f":"IFERROR(INDEX('موجودی خام اولیه با برندمتفاوت'!A:A,MATCH(C:C,'موجودی خام اولیه با برندمتفاوت'!C:C,0)),0)","v":0},null,null,null,null,null,null,null,null,null,null,null,"کالای جدید، لطفا در شیت نقطه سفارش کد و نام کالا کپی شود"]
[{"$f":"IFERROR(INDEX('موجودی خام اولیه با برندمتفاوت'!A:A,MATCH(C:C,'موجودی خام اولیه با برندمتفاوت'!C:C,0)),0)","v":0},null,null,null,null,null,null,null,null,null,null,null,"کالای جدید، لطفا در شیت نقطه سفارش کد و نام کالا کپی شود"]
[{"$f":"IFERROR(INDEX('موجودی خام اولیه با برندمتفاوت'!A:A,MATCH(C:C,'موجودی خام اولیه با برندمتفاوت'!C:C,0)),0)","v":0},null,null,null,null,null,null,null,null,null,null,null,"کالای جدید، لطفا در شیت نقطه سفارش کد و نام کالا کپی شود"]
[{"$f":"IFERROR(INDEX('موجودی خام اولیه با برندمتفاوت'!A:A,MATCH(C:C,'موجودی خام اولیه با برندمتفاوت'!C:C,0)),0)","v":0},null,null,null,null,null,null,null,null,null,null,null,"کالای جدید، لطفا در شیت نقطه سفارش کد و نام کالا کپی شود"]
[{"$f":"IFERROR(INDEX('موجودی خام اولیه با برندمتفاوت'!A:A,MATCH(C:C,'موجودی خام اولیه با برندمتفاوت'!C:C,0)),0)","v":0},null,null,null,null,null,null,null,null,null,null,null,"کالای جدید، لطفا در شیت نقطه سفارش کد و نام کالا کپی شود"]
[{"$f":"IFERROR(INDEX('موجودی خام اولیه با برندمتفاوت'!A:A,MATCH(C:C,'موجودی خام اولیه با برندمتفاوت'!C:C,0)),0)","v":0},null,null,null,null,null,null,null,null,null,null,null,"کالای جدید، لطفا در شیت نقطه سفارش کد و نام کالا کپی شود"]
[{"$f":"IFERROR(INDEX('موجودی خام اولیه با برندمتفاوت'!A:A,MATCH(C:C,'موجودی خام اولیه با برندمتفاوت'!C:C,0)),0)","v":0},null,null,null,null,null,null,null,null,null,null,null,"کالای جدید، لطفا در شیت نقطه سفارش کد و نام کالا کپی شود"]
[{"$f":"IFERROR(INDEX('موجودی خام اولیه با برندمتفاوت'!A:A,MATCH(C:C,'موجودی خام اولیه با برندمتفاوت'!C:C,0)),0)","v":0},null,null,null,null,null,null,null,null,null,null,null,{"$f":"IF(L:L=0,\"کالای جدید، لطفا در شیت نقطه سفارش کد و نام کالا کپی شود\",\"\")","v":"کالای جدید، لطفا در شیت نقطه سفارش کد و نام کالا کپی شود"}]
[{"$f":"IFERROR(INDEX('موجودی خام اولیه با برندمتفاوت'!A:A,MATCH(C:C,'موجودی خام اولیه با برندمتفاوت'!C:C,0)),0)","v":0},null,null,null,null,null,null,null,null,null,null,null,"کالای جدید، لطفا در شیت نقطه سفارش کد و نام کالا کپی شود"]
[{"$f":"IFERROR(INDEX('موجودی خام اولیه با برندمتفاوت'!A:A,MATCH(C:C,'موجودی خام اولیه با برندمتفاوت'!C:C,0)),0)","v":0},null,null,null,null,null,null,null,null,null,null,null,"کالای جدید، لطفا در شیت نقطه سفارش کد و نام کالا کپی شود"]
[{"$f":"IFERROR(INDEX('موجودی خام اولیه با برندمتفاوت'!A:A,MATCH(C:C,'موجودی خام اولیه با برندمتفاوت'!C:C,0)),0)","v":0},null,null,null,null,null,null,null,null,null,null,null,"کالای جدید، لطفا در شیت نقطه سفارش کد و نام کالا کپی شود"]
[{"$f":"IFERROR(INDEX('موجودی خام اولیه با برندمتفاوت'!A:A,MATCH(C:C,'موجودی خام اولیه با برندمتفاوت'!C:C,0)),0)","v":0},null,null,null,null,null,null,null,null,null,null,null,"کالای جدید، لطفا در شیت نقطه سفارش کد و نام کالا کپی شود"]
[{"$f":"IFERROR(INDEX('موجودی خام اولیه با برندمتفاوت'!A:A,MATCH(C:C,'موجودی خام اولیه با برندمتفاوت'!C:C,0)),0)","v":0},null,null,null,null,null,null,null,null,null,null,null,"کالای جدید، لطفا در شیت نقطه سفارش کد و نام کالا کپی شود"]
[{"$f":"IFERROR(INDEX('موجودی خام اولیه با برندمتفاوت'!A:A,MATCH(C:C,'موجودی خام اولیه با برندمتفاوت'!C:C,0)),0)","v":0},null,null,null,null,null,null,null,null,null,null,null,"کالای جدید، لطفا در شیت نقطه سفارش کد و نام کالا کپی شود"]
[{"$f":"IFERROR(INDEX('موجودی خام اولیه با برندمتفاوت'!A:A,MATCH(C:C,'موجودی خام اولیه با برندمتفاوت'!C:C,0)),0)","v":0},null,null,null,null,null,null,null,null,null,null,null,"کالای جدید، لطفا در شیت نقطه سفارش کد و نام کالا کپی شود"]
[{"$f":"IFERROR(INDEX('موجودی خام اولیه با برندمتفاوت'!A:A,MATCH(C:C,'موجودی خام اولیه با برندمتفاوت'!C:C,0)),0)","v":0},null,null,null,null,null,null,null,null,null,null,null,"کالای جدید، لطفا در شیت نقطه سفارش کد و نام کالا کپی شود"]
[{"$f":"IFERROR(INDEX('موجودی خام اولیه با برندمتفاوت'!A:A,MATCH(C:C,'موجودی خام اولیه با برندمتفاوت'!C:C,0)),0)","v":0},null,null,null,null,null,null,null,null,null,null,null,"کالای جدید، لطفا در شیت نقطه سفارش کد و نام کالا کپی شود"]
[{"$f":"IFERROR(INDEX('موجودی خام اولیه با برندمتفاوت'!A:A,MATCH(C:C,'موجودی خام اولیه با برندمتفاوت'!C:C,0)),0)","v":0},null,null,null,null,null,null,null,null,null,null,null,"کالای جدید، لطفا در شیت نقطه سفارش کد و نام کالا کپی شود"]
[{"$f":"IFERROR(INDEX('موجودی خام اولیه با برندمتفاوت'!A:A,MATCH(C:C,'موجودی خام اولیه با برندمتفاوت'!C:C,0)),0)","v":0},null,null,null,null,null,null,null,null,null,null,null,"کالای جدید، لطفا در شیت نقطه سفارش کد و نام کالا کپی شود"]
[{"$f":"IFERROR(INDEX('موجودی خام اولیه با برندمتفاوت'!A:A,MATCH(C:C,'موجودی خام اولیه با برندمتفاوت'!C:C,0)),0)","v":0},null,null,null,null,null,null,null,null,null,null,null,"کالای جدید، لطفا در شیت نقطه سفارش کد و نام کالا کپی شود"]
[{"$f":"IFERROR(INDEX('موجودی خام اولیه با برندمتفاوت'!A:A,MATCH(C:C,'موجودی خام اولیه با برندمتفاوت'!C:C,0)),0)","v":0},null,null,null,null,null,null,null,null,null,null,null,"کالای جدید، لطفا در شیت نقطه سفارش کد و نام کالا کپی شود"]
[{"$f":"IFERROR(INDEX('موجودی خام اولیه با برندمتفاوت'!A:A,MATCH(C:C,'موجودی خام اولیه با برندمتفاوت'!C:C,0)),0)","v":0},null,null,null,null,null,null,null,null,null,null,null,"کالای جدید، لطفا در شیت نقطه سفارش کد و نام کالا کپی شود"]
[{"$f":"IFERROR(INDEX('موجودی خام اولیه با برندمتفاوت'!A:A,MATCH(C:C,'موجودی خام اولیه با برندمتفاوت'!C:C,0)),0)","v":0},null,null,null,null,null,null,null,null,null,null,null,"کالای جدید، لطفا در شیت نقطه سفارش کد و نام کالا کپی شود"]
[{"$f":"IFERROR(INDEX('موجودی خام اولیه با برندمتفاوت'!A:A,MATCH(C:C,'موجودی خام اولیه با برندمتفاوت'!C:C,0)),0)","v":0},null,null,null,null,null,null,null,null,null,null,null,"کالای جدید، لطفا در شیت نقطه سفارش کد و نام کالا کپی شود"]
[{"$f":"IFERROR(INDEX('موجودی خام اولیه با برندمتفاوت'!A:A,MATCH(C:C,'موجودی خام اولیه با برندمتفاوت'!C:C,0)),0)","v":0},null,null,null,null,null,null,null,null,null,null,null,"کالای جدید، لطفا در شیت نقطه سفارش کد و نام کالا کپی شود"]
[{"$f":"IFERROR(INDEX('موجودی خام اولیه با برندمتفاوت'!A:A,MATCH(C:C,'موجودی خام اولیه با برندمتفاوت'!C:C,0)),0)","v":0},null,null,null,null,null,null,null,null,null,null,null,"کالای جدید، لطفا در شیت نقطه سفارش کد و نام کالا کپی شود"]
[{"$f":"IFERROR(INDEX('موجودی خام اولیه با برندمتفاوت'!A:A,MATCH(C:C,'موجودی خام اولیه با برندمتفاوت'!C:C,0)),0)","v":0},null,null,null,null,null,null,null,null,null,null,null,"کالای جدید، لطفا در شیت نقطه سفارش کد و نام کالا کپی شود"]
[{"$f":"IFERROR(INDEX('موجودی خام اولیه با برندمتفاوت'!A:A,MATCH(C:C,'موجودی خام اولیه با برندمتفاوت'!C:C,0)),0)","v":0},null,null,null,null,null,null,null,null,null,null,null,"کالای جدید، لطفا در شیت نقطه سفارش کد و نام کالا کپی شود"]
[{"$f":"IFERROR(INDEX('موجودی خام اولیه با برندمتفاوت'!A:A,MATCH(C:C,'موجودی خام اولیه با برندمتفاوت'!C:C,0)),0)","v":0},null,null,null,null,null,null,null,null,null,null,null,"کالای جدید، لطفا در شیت نقطه سفارش کد و نام کالا کپی شود"]
[{"$f":"IFERROR(INDEX('موجودی خام اولیه با برندمتفاوت'!A:A,MATCH(C:C,'موجودی خام اولیه با برندمتفاوت'!C:C,0)),0)","v":0},null,null,null,null,null,null,null,null,null,null,null,"کالای جدید، لطفا در شیت نقطه سفارش کد و نام کالا کپی شود"]
[{"$f":"IFERROR(INDEX('موجودی خام اولیه با برندمتفاوت'!A:A,MATCH(C:C,'موجودی خام اولیه با برندمتفاوت'!C:C,0)),0)","v":0},null,null,null,null,null,null,null,null,null,null,null,"کالای جدید، لطفا در شیت نقطه سفارش کد و نام کالا کپی شود"]
[{"$f":"IFERROR(INDEX('موجودی خام اولیه با برندمتفاوت'!A:A,MATCH(C:C,'موجودی خام اولیه با برندمتفاوت'!C:C,0)),0)","v":0},null,null,null,null,null,null,null,null,null,null,null,"کالای جدید، لطفا در شیت نقطه سفارش کد و نام کالا کپی شود"]
[{"$f":"IFERROR(INDEX('موجودی خام اولیه با برندمتفاوت'!A:A,MATCH(C:C,'موجودی خام اولیه با برندمتفاوت'!C:C,0)),0)","v":0},null,null,null,null,null,null,null,null,null,null,null,"کالای جدید، لطفا در شیت نقطه سفارش کد و نام کالا کپی شود"]
[{"$f":"IFERROR(INDEX('موجودی خام اولیه با برندمتفاوت'!A:A,MATCH(C:C,'موجودی خام اولیه با برندمتفاوت'!C:C,0)),0)","v":0},null,null,null,null,null,null,null,null,null,null,null,"کالای جدید، لطفا در شیت نقطه سفارش کد و نام کالا کپی شود"]
[{"$f":"IFERROR(INDEX('موجودی خام اولیه با برندمتفاوت'!A:A,MATCH(C:C,'موجودی خام اولیه با برندمتفاوت'!C:C,0)),0)","v":0},null,null,null,null,null,null,null,null,null,null,null,"کالای جدید، لطفا در شیت نقطه سفارش کد و نام کالا کپی شود"]
[{"$f":"IFERROR(INDEX('موجودی خام اولیه با برندمتفاوت'!A:A,MATCH(C:C,'موجودی خام اولیه با برندمتفاوت'!C:C,0)),0)","v":0},null,null,null,null,null,null,null,null,null,null,null,"کالای جدید، لطفا در شیت نقطه سفارش کد و نام کالا کپی شود"]
[{"$f":"IFERROR(INDEX('موجودی خام اولیه با برندمتفاوت'!A:A,MATCH(C:C,'موجودی خام اولیه با برندمتفاوت'!C:C,0)),0)","v":0},null,null,null,null,null,null,null,null,null,null,null,"کالای جدید، لطفا در شیت نقطه سفارش کد و نام کالا کپی شود"]
[{"$f":"IFERROR(INDEX('موجودی خام اولیه با برندمتفاوت'!A:A,MATCH(C:C,'موجودی خام اولیه با برندمتفاوت'!C:C,0)),0)","v":0},null,null,null,null,null,null,null,null,null,null,null,"کالای جدید، لطفا در شیت نقطه سفارش کد و نام کالا کپی شود"]
[{"$f":"IFERROR(INDEX('موجودی خام اولیه با برندمتفاوت'!A:A,MATCH(C:C,'موجودی خام اولیه با برندمتفاوت'!C:C,0)),0)","v":0},null,null,null,null,null,null,null,null,null,null,null,"کالای جدید، لطفا در شیت نقطه سفارش کد و نام کالا کپی شود"]
[{"$f":"IFERROR(INDEX('موجودی خام اولیه با برندمتفاوت'!A:A,MATCH(C:C,'موجودی خام اولیه با برندمتفاوت'!C:C,0)),0)","v":0},null,null,null,null,null,null,null,null,null,null,null,"کالای جدید، لطفا در شیت نقطه سفارش کد و نام کالا کپی شود"]
[{"$f":"IFERROR(INDEX('موجودی خام اولیه با برندمتفاوت'!A:A,MATCH(C:C,'موجودی خام اولیه با برندمتفاوت'!C:C,0)),0)","v":0},null,null,null,null,null,null,null,null,null,null,null,"کالای جدید، لطفا در شیت نقطه سفارش کد و نام کالا کپی شود"]
[{"$f":"IFERROR(INDEX('موجودی خام اولیه با برندمتفاوت'!A:A,MATCH(C:C,'موجودی خام اولیه با برندمتفاوت'!C:C,0)),0)","v":0},null,null,null,null,null,null,null,null,null,null,null,"کالای جدید، لطفا در شیت نقطه سفارش کد و نام کالا کپی شود"]
[{"$f":"IFERROR(INDEX('موجودی خام اولیه با برندمتفاوت'!A:A,MATCH(C:C,'موجودی خام اولیه با برندمتفاوت'!C:C,0)),0)","v":0},null,null,null,null,null,null,null,null,null,null,null,"کالای جدید، لطفا در شیت نقطه سفارش کد و نام کالا کپی شود"]
[{"$f":"IFERROR(INDEX('موجودی خام اولیه با برندمتفاوت'!A:A,MATCH(C:C,'موجودی خام اولیه با برندمتفاوت'!C:C,0)),0)","v":0},null,null,null,null,null,null,null,null,null,null,null,"کالای جدید، لطفا در شیت نقطه سفارش کد و نام کالا کپی شود"]
[{"$f":"IFERROR(INDEX('موجودی خام اولیه با برندمتفاوت'!A:A,MATCH(C:C,'موجودی خام اولیه با برندمتفاوت'!C:C,0)),0)","v":0},null,null,null,null,null,null,null,null,null,null,null,"کالای جدید، لطفا در شیت نقطه سفارش کد و نام کالا کپی شود"]
[{"$f":"IFERROR(INDEX('موجودی خام اولیه با برندمتفاوت'!A:A,MATCH(C:C,'موجودی خام اولیه با برندمتفاوت'!C:C,0)),0)","v":0},null,null,null,null,null,null,null,null,null,null,null,"کالای جدید، لطفا در شیت نقطه سفارش کد و نام کالا کپی شود"]
[{"$f":"IFERROR(INDEX('موجودی خام اولیه با برندمتفاوت'!A:A,MATCH(C:C,'موجودی خام اولیه با برندمتفاوت'!C:C,0)),0)","v":0},null,null,null,null,null,null,null,null,null,null,null,"کالای جدید، لطفا در شیت نقطه سفارش کد و نام کالا کپی شود"]
[{"$f":"IFERROR(INDEX('موجودی خام اولیه با برندمتفاوت'!A:A,MATCH(C:C,'موجودی خام اولیه با برندمتفاوت'!C:C,0)),0)","v":0},null,null,null,null,null,null,null,null,null,null,null,"کالای جدید، لطفا در شیت نقطه سفارش کد و نام کالا کپی شود"]
[{"$f":"IFERROR(INDEX('موجودی خام اولیه با برندمتفاوت'!A:A,MATCH(C:C,'موجودی خام اولیه با برندمتفاوت'!C:C,0)),0)","v":0},null,null,null,null,null,null,null,null,null,null,null,"کالای جدید، لطفا در شیت نقطه سفارش کد و نام کالا کپی شود"]
[{"$f":"IFERROR(INDEX('موجودی خام اولیه با برندمتفاوت'!A:A,MATCH(C:C,'موجودی خام اولیه با برندمتفاوت'!C:C,0)),0)","v":0},null,null,null,null,null,null,null,null,null,null,null,"کالای جدید، لطفا در شیت نقطه سفارش کد و نام کالا کپی شود"]
[{"$f":"IFERROR(INDEX('موجودی خام اولیه با برندمتفاوت'!A:A,MATCH(C:C,'موجودی خام اولیه با برندمتفاوت'!C:C,0)),0)","v":0},null,null,null,null,null,null,null,null,null,null,null,"کالای جدید، لطفا در شیت نقطه سفارش کد و نام کالا کپی شود"]
[{"$f":"IFERROR(INDEX('موجودی خام اولیه با برندمتفاوت'!A:A,MATCH(C:C,'موجودی خام اولیه با برندمتفاوت'!C:C,0)),0)","v":0},null,null,null,null,null,null,null,null,null,null,null,"کالای جدید، لطفا در شیت نقطه سفارش کد و نام کالا کپی شود"]
[{"$f":"IFERROR(INDEX('موجودی خام اولیه با برندمتفاوت'!A:A,MATCH(C:C,'موجودی خام اولیه با برندمتفاوت'!C:C,0)),0)","v":0},null,null,null,null,null,null,null,null,null,null,null,"کالای جدید، لطفا در شیت نقطه سفارش کد و نام کالا کپی شود"]
[{"$f":"IFERROR(INDEX('موجودی خام اولیه با برندمتفاوت'!A:A,MATCH(C:C,'موجودی خام اولیه با برندمتفاوت'!C:C,0)),0)","v":0},null,null,null,null,null,null,null,null,null,null,null,"کالای جدید، لطفا در شیت نقطه سفارش کد و نام کالا کپی شود"]
[{"$f":"IFERROR(INDEX('موجودی خام اولیه با برندمتفاوت'!A:A,MATCH(C:C,'موجودی خام اولیه با برندمتفاوت'!C:C,0)),0)","v":0},null,null,null,null,null,null,null,null,null,null,null,"کالای جدید، لطفا در شیت نقطه سفارش کد و نام کالا کپی شود"]
[{"$f":"IFERROR(INDEX('موجودی خام اولیه با برندمتفاوت'!A:A,MATCH(C:C,'موجودی خام اولیه با برندمتفاوت'!C:C,0)),0)","v":0},null,null,null,null,null,null,null,null,null,null,null,"کالای جدید، لطفا در شیت نقطه سفارش کد و نام کالا کپی شود"]
[{"$f":"IFERROR(INDEX('موجودی خام اولیه با برندمتفاوت'!A:A,MATCH(C:C,'موجودی خام اولیه با برندمتفاوت'!C:C,0)),0)","v":0},null,null,null,null,null,null,null,null,null,null,null,"کالای جدید، لطفا در شیت نقطه سفارش کد و نام کالا کپی شود"]
[{"$f":"IFERROR(INDEX('موجودی خام اولیه با برندمتفاوت'!A:A,MATCH(C:C,'موجودی خام اولیه با برندمتفاوت'!C:C,0)),0)","v":0},null,null,null,null,null,null,null,null,null,null,null,"کالای جدید، لطفا در شیت نقطه سفارش کد و نام کالا کپی شود"]
[{"$f":"IFERROR(INDEX('موجودی خام اولیه با برندمتفاوت'!A:A,MATCH(C:C,'موجودی خام اولیه با برندمتفاوت'!C:C,0)),0)","v":0},null,null,null,null,null,null,null,null,null,null,null,"کالای جدید، لطفا در شیت نقطه سفارش کد و نام کالا کپی شود"]
[{"$f":"IFERROR(INDEX('موجودی خام اولیه با برندمتفاوت'!A:A,MATCH(C:C,'موجودی خام اولیه با برندمتفاوت'!C:C,0)),0)","v":0},null,null,null,null,null,null,null,null,null,null,null,"کالای جدید، لطفا در شیت نقطه سفارش کد و نام کالا کپی شود"]
[{"$f":"IFERROR(INDEX('موجودی خام اولیه با برندمتفاوت'!A:A,MATCH(C:C,'موجودی خام اولیه با برندمتفاوت'!C:C,0)),0)","v":0},null,null,null,null,null,null,null,null,null,null,null,"کالای جدید، لطفا در شیت نقطه سفارش کد و نام کالا کپی شود"]
[{"$f":"IFERROR(INDEX('موجودی خام اولیه با برندمتفاوت'!A:A,MATCH(C:C,'موجودی خام اولیه با برندمتفاوت'!C:C,0)),0)","v":0},null,null,null,null,null,null,null,null,null,null,null,"کالای جدید، لطفا در شیت نقطه سفارش کد و نام کالا کپی شود"]
[{"$f":"IFERROR(INDEX('موجودی خام اولیه با برندمتفاوت'!A:A,MATCH(C:C,'موجودی خام اولیه با برندمتفاوت'!C:C,0)),0)","v":0},null,null,null,null,null,null,null,null,null,null,null,"کالای جدید، لطفا در شیت نقطه سفارش کد و نام کالا کپی شود"]
[{"$f":"IFERROR(INDEX('موجودی خام اولیه با برندمتفاوت'!A:A,MATCH(C:C,'موجودی خام اولیه با برندمتفاوت'!C:C,0)),0)","v":0},null,null,null,null,null,null,null,null,null,null,null,"کالای جدید، لطفا در شیت نقطه سفارش کد و نام کالا کپی شود"]
[{"$f":"IFERROR(INDEX('موجودی خام اولیه با برندمتفاوت'!A:A,MATCH(C:C,'موجودی خام اولیه با برندمتفاوت'!C:C,0)),0)","v":0},null,null,null,null,null,null,null,null,null,null,null,"کالای جدید، لطفا در شیت نقطه سفارش کد و نام کالا کپی شود"]
[{"$f":"IFERROR(INDEX('موجودی خام اولیه با برندمتفاوت'!A:A,MATCH(C:C,'موجودی خام اولیه با برندمتفاوت'!C:C,0)),0)","v":0},null,null,null,null,null,null,null,null,null,null,null,"کالای جدید، لطفا در شیت نقطه سفارش کد و نام کالا کپی شود"]
[{"$f":"IFERROR(INDEX('موجودی خام اولیه با برندمتفاوت'!A:A,MATCH(C:C,'موجودی خام اولیه با برندمتفاوت'!C:C,0)),0)","v":0},null,null,null,null,null,null,null,null,null,null,null,"کالای جدید، لطفا در شیت نقطه سفارش کد و نام کالا کپی شود"]
[{"$f":"IFERROR(INDEX('موجودی خام اولیه با برندمتفاوت'!A:A,MATCH(C:C,'موجودی خام اولیه با برندمتفاوت'!C:C,0)),0)","v":0},null,null,null,null,null,null,null,null,null,null,null,"کالای جدید، لطفا در شیت نقطه سفارش کد و نام کالا کپی شود"]
[{"$f":"IFERROR(INDEX('موجودی خام اولیه با برندمتفاوت'!A:A,MATCH(C:C,'موجودی خام اولیه با برندمتفاوت'!C:C,0)),0)","v":0},null,null,null,null,null,null,null,null,null,null,null,"کالای جدید، لطفا در شیت نقطه سفارش کد و نام کالا کپی شود"]
[{"$f":"IFERROR(INDEX('موجودی خام اولیه با برندمتفاوت'!A:A,MATCH(C:C,'موجودی خام اولیه با برندمتفاوت'!C:C,0)),0)","v":0},null,null,null,null,null,null,null,null,null,null,null,"کالای جدید، لطفا در شیت نقطه سفارش کد و نام کالا کپی شود"]
[{"$f":"IFERROR(INDEX('موجودی خام اولیه با برندمتفاوت'!A:A,MATCH(C:C,'موجودی خام اولیه با برندمتفاوت'!C:C,0)),0)","v":0},null,null,null,null,null,null,null,null,null,null,null,"کالای جدید، لطفا در شیت نقطه سفارش کد و نام کالا کپی شود"]
[{"$f":"IFERROR(INDEX('موجودی خام اولیه با برندمتفاوت'!A:A,MATCH(C:C,'موجودی خام اولیه با برندمتفاوت'!C:C,0)),0)","v":0},null,null,null,null,null,null,null,null,null,null,null,{"$f":"IF(L:L=0,\"کالای جدید، لطفا در شیت نقطه سفارش کد و نام کالا کپی شود\",\"\")","v":"کالای جدید، لطفا در شیت نقطه سفارش کد و نام کالا کپی شود"}]
[{"$f":"IFERROR(INDEX('موجودی خام اولیه با برندمتفاوت'!A:A,MATCH(C:C,'موجودی خام اولیه با برندمتفاوت'!C:C,0)),0)","v":0},null,null,null,null,null,null,null,null,null,null,null,"کالای جدید، لطفا در شیت نقطه سفارش کد و نام کالا کپی شود"]
[{"$f":"IFERROR(INDEX('موجودی خام اولیه با برندمتفاوت'!A:A,MATCH(C:C,'موجودی خام اولیه با برندمتفاوت'!C:C,0)),0)","v":0},null,null,null,null,null,null,null,null,null,null,null,"کالای جدید، لطفا در شیت نقطه سفارش کد و نام کالا کپی شود"]
[{"$f":"IFERROR(INDEX('موجودی خام اولیه با برندمتفاوت'!A:A,MATCH(C:C,'موجودی خام اولیه با برندمتفاوت'!C:C,0)),0)","v":0},null,null,null,null,null,null,null,null,null,null,null,"کالای جدید، لطفا در شیت نقطه سفارش کد و نام کالا کپی شود"]
[{"$f":"IFERROR(INDEX('موجودی خام اولیه با برندمتفاوت'!A:A,MATCH(C:C,'موجودی خام اولیه با برندمتفاوت'!C:C,0)),0)","v":0},null,null,null,null,null,null,null,null,null,null,null,"کالای جدید، لطفا در شیت نقطه سفارش کد و نام کالا کپی شود"]
[{"$f":"IFERROR(INDEX('موجودی خام اولیه با برندمتفاوت'!A:A,MATCH(C:C,'موجودی خام اولیه با برندمتفاوت'!C:C,0)),0)","v":0},null,null,null,null,null,null,null,null,null,null,null,"کالای جدید، لطفا در شیت نقطه سفارش کد و نام کالا کپی شود"]
[{"$f":"IFERROR(INDEX('موجودی خام اولیه با برندمتفاوت'!A:A,MATCH(C:C,'موجودی خام اولیه با برندمتفاوت'!C:C,0)),0)","v":0},null,null,null,null,null,null,null,null,null,null,null,"کالای جدید، لطفا در شیت نقطه سفارش کد و نام کالا کپی شود"]
[{"$f":"IFERROR(INDEX('موجودی خام اولیه با برندمتفاوت'!A:A,MATCH(C:C,'موجودی خام اولیه با برندمتفاوت'!C:C,0)),0)","v":0},null,null,null,null,null,null,null,null,null,null,null,"کالای جدید، لطفا در شیت نقطه سفارش کد و نام کالا کپی شود"]
[{"$f":"IFERROR(INDEX('موجودی خام اولیه با برندمتفاوت'!A:A,MATCH(C:C,'موجودی خام اولیه با برندمتفاوت'!C:C,0)),0)","v":0},null,null,null,null,null,null,null,null,null,null,null,"کالای جدید، لطفا در شیت نقطه سفارش کد و نام کالا کپی شود"]
[{"$f":"IFERROR(INDEX('موجودی خام اولیه با برندمتفاوت'!A:A,MATCH(C:C,'موجودی خام اولیه با برندمتفاوت'!C:C,0)),0)","v":0},null,null,null,null,null,null,null,null,null,null,null,"کالای جدید، لطفا در شیت نقطه سفارش کد و نام کالا کپی شود"]
[{"$error":"#N/A"},null,null,null,null,null,null,null,null,null,null,null,"کالای جدید، لطفا در شیت نقطه سفارش کد و نام کالا کپی شود"]
[{"$error":"#N/A"},null,null,null,null,null,null,null,null,null,null,null,"کالای جدید، لطفا در شیت نقطه سفارش کد و نام کالا کپی شود"]
[{"$error":"#N/A"},null,null,null,null,null,null,null,null,null,null,null,"کالای جدید، لطفا در شیت نقطه سفارش کد و نام کالا کپی شود"]
[{"$error":"#N/A"},null,null,null,null,null,null,null,null,null,null,null,"کالای جدید، لطفا در شیت نقطه سفارش کد و نام کالا کپی شود"]
[{"$error":"#N/A"},null,null,null,null,null,null,null,null,null,null,null,"کالای جدید، لطفا در شیت نقطه سفارش کد و نام کالا کپی شود"]
[{"$error":"#N/A"},null,null,null,null,null,null,null,null,null,null,null,"کالای جدید، لطفا در شیت نقطه سفارش کد و نام کالا کپی شود"]
[{"$error":"#N/A"},null,null,null,null,null,null,null,null,null,null,null,"کالای جدید، لطفا در شیت نقطه سفارش کد و نام کالا کپی شود"]
[{"$error":"#N/A"},null,null,null,null,null,null,null,null,null,null,null,"کالای جدید، لطفا در شیت نقطه سفارش کد و نام کالا کپی شود"]
[{"$error":"#N/A"},null,null,null,null,null,null,null,null,null,null,null,"کالای جدید، لطفا در شیت نقطه سفارش کد و نام کالا کپی شود"]
[{"$error":"#N/A"},null,null,null,null,null,null,null,null,null,null,null,"کالای جدید، لطفا در شیت نقطه سفارش کد و نام کالا کپی شود"]
[{"$error":"#N/A"},null,null,null,null,null,null,null,null,null,null,null,"کالای جدید، لطفا در شیت نقطه سفارش کد و نام کالا کپی شود"]
[{"$error":"#N/A"},null,null,null,null,null,null,null,null,null,null,null,"کالای جدید، لطفا در شیت نقطه سفارش کد و نام کالا کپی شود"]
[{"$error":"#N/A"},null,null,null,null,null,null,null,null,null,null,null,"کالای جدید، لطفا در شیت نقطه سفارش کد و نام کالا کپی شود"]
[{"$error":"#N/A"},null,null,null,null,null,null,null,null,null,null,null,"کالای جدید، لطفا در شیت نقطه سفارش کد و نام کالا کپی شود"]
[{"$error":"#N/A"},null,null,null,null,null,null,null,null,null,null,null,"کالای جدید، لطفا در شیت نقطه سفارش کد و نام کالا کپی شود"]
[{"$error":"#N/A"},null,null,null,null,null,null,null,null,null,null,null,"کالای جدید، لطفا در شیت نقطه سفارش کد و نام کالا کپی شود"]
[{"$error":"#N/A"},null,null,null,null,null,null,null,null,null,null,null,"کالای جدید، لطفا در شیت نقطه سفارش کد و نام کالا کپی شود"]
[{"$error":"#N/A"},null,null,null,null,null,null,null,null,null,null,null,"کالای جدید، لطفا در شیت نقطه سفارش کد و نام کالا کپی شود"]
[{"$error":"#N/A"},null,null,null,null,null,null,null,null,null,null,null,"کالای جدید، لطفا در شیت نقطه سفارش کد و نام کالا کپی شود"]
[{"$error":"#N/A"},null,null,null,null,null,null,null,null,null,null,null,"کالای جدید، لطفا در شیت نقطه سفارش کد و نام کالا کپی شود"]
[{"$error":"#N/A"},null,null,null,null,null,null,null,null,null,null,null,"کالای جدید، لطفا در شیت نقطه سفارش کد و نام کالا کپی شود"]
[{"$error":"#N/A"},null,null,null,null,null,null,null,null,null,null,null,"کالای جدید، لطفا در شیت نقطه سفارش کد و نام کالا کپی شود"]
[{"$error":"#N/A"},null,null,null,null,null,null,null,null,null,null,null,"کالای جدید، لطفا در شیت نقطه سفارش کد و نام کالا کپی شود"]
[{"$error":"#N/A"},null,null,null,null,null,null,null,null,null,null,null,"کالای جدید، لطفا در شیت نقطه سفارش کد و نام کالا کپی شود"]
[{"$error":"#N/A"},null,null,null,null,null,null,null,null,null,null,null,"کالای جدید، لطفا در شیت نقطه سفارش کد و نام کالا کپی شود"]
[{"$error":"#N/A"},null,null,null,null,null,null,null,null,null,null,null,"کالای جدید، لطفا در شیت نقطه سفارش کد و نام کالا کپی شود"]
[{"$error":"#N/A"},null,null,null,null,null,null,null,null,null,null,null,"کالای جدید، لطفا در شیت نقطه سفارش کد و نام کالا کپی شود"]
[{"$error":"#N/A"},null,null,null,null,null,null,null,null,null,null,null,"کالای جدید، لطفا در شیت نقطه سفارش کد و نام کالا کپی شود"]
[{"$error":"#N/A"},null,null,null,null,null,null,null,null,null,null,null,"کالای جدید، لطفا در شیت نقطه سفارش کد و نام کالا کپی شود"]
[{"$error":"#N/A"},null,null,null,null,null,null,null,null,null,null,null,"کالای جدید، لطفا در شیت نقطه سفارش کد و نام کالا کپی شود"]
[{"$error":"#N/A"},null,null,null,null,null,null,null,null,null,null,null,"کالای جدید، لطفا در شیت نقطه سفارش کد و نام کالا کپی شود"]
[{"$error":"#N/A"},null,null,null,null,null,null,null,null,null,null,null,"کالای جدید، لطفا در شیت نقطه سفارش کد و نام کالا کپی شود"]
[{"$error":"#N/A"},null,null,null,null,null,null,null,null,null,null,null,"کالای جدید، لطفا در شیت نقطه سفارش کد و نام کالا کپی شود"]
[{"$error":"#N/A"},null,null,null,null,null,null,null,null,null,null,null,"کالای جدید، لطفا در شیت نقطه سفارش کد و نام کالا کپی شود"]
[{"$error":"#N/A"},null,null,null,null,null,null,null,null,null,null,null,"کالای جدید، لطفا در شیت نقطه سفارش کد و نام کالا کپی شود"]
[{"$error":"#N/A"},null,null,null,null,null,null,null,null,null,null,null,"کالای جدید، لطفا در شیت نقطه سفارش کد و نام کالا کپی شود"]
[{"$error":"#N/A"},null,null,null,null,null,null,null,null,null,null,null,"کالای جدید، لطفا در شیت نقطه سفارش کد و نام کالا کپی شود"]
[{"$error":"#N/A"},null,null,null,null,null,null,null,null,null,null,null,"کالای جدید، لطفا در شیت نقطه سفارش کد و نام کالا کپی شود"]
[{"$error":"#N/A"},null,null,null,null,null,null,null,null,null,null,null,"کالای جدید، لطفا در شیت نقطه سفارش کد و نام کالا کپی شود"]
[{"$error":"#N/A"},null,null,null,null,null,null,null,null,null,null,null,"کالای جدید، لطفا در شیت نقطه سفارش کد و نام کالا کپی شود"]
[{"$error":"#N/A"},null,null,null,null,null,null,null,null,null,null,null,"کالای جدید، لطفا در شیت نقطه سفارش کد و نام کالا کپی شود"]
[{"$error":"#N/A"},null,null,null,null,null,null,null,null,null,null,null,"کالای جدید، لطفا در شیت نقطه سفارش کد و نام کالا کپی شود"]
[{"$error":"#N/A"},null,null,null,null,null,null,null,null,null,null,null,"کالای جدید، لطفا در شیت نقطه سفارش کد و نام کالا کپی شود"]
[{"$error":"#N/A"},null,null,null,null,null,null,null,null,null,null,null,"کالای جدید، لطفا در شیت نقطه سفارش کد و نام کالا کپی شود"]
[{"$error":"#N/A"},null,null,null,null,null,null,null,null,null,null,null,"کالای جدید، لطفا در شیت نقطه سفارش کد و نام کالا کپی شود"]
[{"$error":"#N/A"},null,null,null,null,null,null,null,null,null,null,null,"کالای جدید، لطفا در شیت نقطه سفارش کد و نام کالا کپی شود"]
[{"$error":"#N/A"},null,null,null,null,null,null,null,null,null,null,null,"کالای جدید، لطفا در شیت نقطه سفارش کد و نام کالا کپی شود"]
[{"$error":"#N/A"},null,null,null,null,null,null,null,null,null,null,null,"کالای جدید، لطفا در شیت نقطه سفارش کد و نام کالا کپی شود"]
[{"$error":"#N/A"},null,null,null,null,null,null,null,null,null,null,null,"کالای جدید، لطفا در شیت نقطه سفارش کد و نام کالا کپی شود"]
[{"$error":"#N/A"},null,null,null,null,null,null,null,null,null,null,null,"کالای جدید، لطفا در شیت نقطه سفارش کد و نام کالا کپی شود"]
[{"$error":"#N/A"},null,null,null,null,null,null,null,null,null,null,null,"کالای جدید، لطفا در شیت نقطه سفارش کد و نام کالا کپی شود"]
[{"$error":"#N/A"},null,null,null,null,null,null,null,null,null,null,null,"کالای جدید، لطفا در شیت نقطه سفارش کد و نام کالا کپی شود"]
[{"$error":"#N/A"},null,null,null,null,null,null,null,null,null,null,null,"کالای جدید، لطفا در شیت نقطه سفارش کد و نام کالا کپی شود"]
[{"$error":"#N/A"},null,null,null,null,null,null,null,null,null,null,null,"کالای جدید، لطفا در شیت نقطه سفارش کد و نام کالا کپی شود"]
[{"$error":"#N/A"},null,null,null,null,null,null,null,null,null,null,null,{"$f":"IF(L:L=0,\"کالای جدید، لطفا در شیت نقطه سفارش کد و نام کالا کپی شود\",\"\")","v":"کالای جدید، لطفا در شیت نقطه سفارش کد و نام کالا کپی شود"}]
[{"$error":"#N/A"},null,null,null,null,null,null,null,null,null,null,null,"کالای جدید، لطفا در شیت نقطه سفارش کد و نام کالا کپی شود"]
[{"$error":"#N/A"},null,null,null,null,null,null,null,null,null,null,null,"کالای جدید، لطفا در شیت نقطه سفارش کد و نام کالا کپی شود"]
[{"$error":"#N/A"},null,null,null,null,null,null,null,null,null,null,null,"کالای جدید، لطفا در شیت نقطه سفارش کد و نام کالا کپی شود"]
[{"$error":"#N/A"},null,null,null,null,null,null,null,null,null,null,null,"کالای جدید، لطفا در شیت نقطه سفارش کد و نام کالا کپی شود"]
[{"$error":"#N/A"},null,null,null,null,null,null,null,null,null,null,null,"کالای جدید، لطفا در شیت نقطه سفارش کد و نام کالا کپی شود"]
[{"$error":"#N/A"},null,null,null,null,null,null,null,null,null,null,null,"کالای جدید، لطفا در شیت نقطه سفارش کد و نام کالا کپی شود"]
[{"$error":"#N/A"},null,null,null,null,null,null,null,null,null,null,null,"کالای جدید، لطفا در شیت نقطه سفارش کد و نام کالا کپی شود"]
[{"$error":"#N/A"},null,null,null,null,null,null,null,null,null,null,null,"کالای جدید، لطفا در شیت نقطه سفارش کد و نام کالا کپی شود"]
[{"$error":"#N/A"},null,null,null,null,null,null,null,null,null,null,null,"کالای جدید، لطفا در شیت نقطه سفارش کد و نام کالا کپی شود"]
[{"$error":"#N/A"},null,null,null,null,null,null,null,null,null,null,null,"کالای جدید، لطفا در شیت نقطه سفارش کد و نام کالا کپی شود"]
[{"$error":"#N/A"},null,null,null,null,null,null,null,null,null,null,null,"کالای جدید، لطفا در شیت نقطه سفارش کد و نام کالا کپی شود"]
[{"$error":"#N/A"},null,null,null,null,null,null,null,null,null,null,null,"کالای جدید، لطفا در شیت نقطه سفارش کد و نام کالا کپی شود"]
[{"$error":"#N/A"},null,null,null,null,null,null,null,null,null,null,null,"کالای جدید، لطفا در شیت نقطه سفارش کد و نام کالا کپی شود"]
[{"$error":"#N/A"},null,null,null,null,null,null,null,null,null,null,null,"کالای جدید، لطفا در شیت نقطه سفارش کد و نام کالا کپی شود"]
[{"$error":"#N/A"},null,null,null,null,null,null,null,null,null,null,null,"کالای جدید، لطفا در شیت نقطه سفارش کد و نام کالا کپی شود"]
[{"$error":"#N/A"},null,null,null,null,null,null,null,null,null,null,null,"کالای جدید، لطفا در شیت نقطه سفارش کد و نام کالا کپی شود"]
[{"$error":"#N/A"},null,null,null,null,null,null,null,null,null,null,null,"کالای جدید، لطفا در شیت نقطه سفارش کد و نام کالا کپی شود"]
[{"$error":"#N/A"},null,null,null,null,null,null,null,null,null,null,null,"کالای جدید، لطفا در شیت نقطه سفارش کد و نام کالا کپی شود"]
[{"$error":"#N/A"},null,null,null,null,null,null,null,null,null,null,null,"کالای جدید، لطفا در شیت نقطه سفارش کد و نام کالا کپی شود"]
[{"$error":"#N/A"},null,null,null,null,null,null,null,null,null,null,null,"کالای جدید، لطفا در شیت نقطه سفارش کد و نام کالا کپی شود"]
[{"$error":"#N/A"},null,null,null,null,null,null,null,null,null,null,null,"کالای جدید، لطفا در شیت نقطه سفارش کد و نام کالا کپی شود"]
[{"$error":"#N/A"},null,null,null,null,null,null,null,null,null,null,null,"کالای جدید، لطفا در شیت نقطه سفارش کد و نام کالا کپی شود"]
[{"$error":"#N/A"}]
[{"$error":"#N/A"}]
[{"$error":"#N/A"}]
[{"$error":"#N/A"}]
[{"$error":"#N/A"}]
[{"$error":"#N/A"}]
[{"$error":"#N/A"}]
[{"$error":"#N/A"}]
[{"$error":"#N/A"}]
[{"$error":"#N/A"}]
[{"$error":"#N/A"}]
[{"$error":"#N/A"}]
[{"$error":"#N/A"}]
[{"$error":"#N/A"}]
[{"$error":"#N/A"}]
[{"$error":"#N/A"}]
[{"$error":"#N/A"}]
[{"$error":"#N/A"}]
[{"$error":"#N/A"}]
[{"$error":"#N/A"}]
[{"$error":"#N/A"}]
[{"$error":"#N/A"}]
[{"$error":"#N/A"}]
[{"$error":"#N/A"}]
[{"$error":"#N/A"}]
[{"$error":"#N/A"}]
[{"$error":"#N/A"}]
[{"$error":"#N/A"}]
[{"$error":"#N/A"}]
[{"$error":"#N/A"}]
[{"$error":"#N/A"}]
[{"$error":"#N/A"}]
[{"$error":"#N/A"}]
[{"$error":"#N/A"}]
[{"$error":"#N/A"}]
[{"$error":"#N/A"}]
[{"$error":"#N/A"}]
[{"$error":"#N/A"}]
[{"$error":"#N/A"}]
[{"$error":"#N/A"}]
[{"$error":"#N/A"}]
[{"$error":"#N/A"}]
[{"$error":"#N/A"}]
[{"$error":"#N/A"}]
[{"$error":"#N/A"}]
[{"$error":"#N/A"}]
[{"$error":"#N/A"}]
[{"$error":"#N/A"}]
[{"$error":"#N/A"}]
[{"$error":"#N/A"}]
[{"$error":"#N/A"}]
[{"$error":"#N/A"}]
[{"$error":"#N/A"}]
[{"$error":"#N/A"}]
[{"$error":"#N/A"}]
[{"$error":"#N/A"}]
[{"$error":"#N/A"}]
[{"$error":"#N/A"}]
[{"$error":"#N/A"}]
[{"$error":"#N/A"}]
[{"$error":"#N/A"}]
[{"$error":"#N/A"}]
[{"$error":"#N/A"}]
[{"$error":"#N/A"}]
[{"$error":"#N/A"}]
[{"$error":"#N/A"}]
[{"$error":"#N/A"}]
[{"$error":"#N/A"}]
[{"$error":"#N/A"}]
[{"$error":"#N/A"}]
[{"$error":"#N/A"}]
[{"$error":"#N/A"}]
[{"$error":"#N/A"}]
[{"$error":"#N/A"}]
[{"$error":"#N/A"}]
[{"$error":"#N/A"}]
[{"$error":"#N/A"}]
[{"$error":"#N/A"}]
[{"$error":"#N/A"}]
[{"$error":"#N/A"}]
[{"$error":"#N/A"}]
[{"$error":"#N/A"}]
[{"$error":"#N/A"}]
[{"$error":"#N/A"}]
[{"$error":"#N/A"}]
[{"$error":"#N/A"}]
[{"$error":"#N/A"}]
[{"$error":"#N/A"}]
[{"$error":"#N/A"}]
[{"$error":"#N/A"}]
[{"$error":"#N/A"}]
[{"$error":"#N/A"}]
[{"$error":"#N/A"}]
[{"$error":"#N/A"}]
[{"$error":"#N/A"}]
[{"$error":"#N/A"}]
[{"$error":"#N/A"}]
[{"$error":"#N/A"}]
[{"$error":"#N/A"}]
[{"$error":"#N/A"}]
[{"$error":"#N/A"}]

{"sheet":"موجودی خام اولیه با برندمتفاوت","index":2,"n_rows":848,"n_cols":5,"rows_kept":848,"cut":false,"hidden":false,"merged":[]}
[]
[null,null,null,{"$f":"COUNTIF('یکسان سازی برند'!C:C,'موجودی خام اولیه با برندمتفاوت'!C:C)","v":0},{"$f":"IF(D:D=0,\"کالای جدید، لطفا در شیت یکسان سازی برند، کد و نام کالا کپی شود\",\"\")","v":"کالای جدید، لطفا در شیت یکسان سازی برند، کد و نام کالا کپی شود"}]
[null,null,null,{"$f":"COUNTIF('یکسان سازی برند'!C:C,'موجودی خام اولیه با برندمتفاوت'!C:C)","v":0},{"$f":"IF(D:D=0,\"کالای جدید، لطفا در شیت یکسان سازی برند، کد و نام کالا کپی شود\",\"\")","v":"کالای جدید، لطفا در شیت یکسان سازی برند، کد و نام کالا کپی شود"}]
[null,null,null,{"$f":"COUNTIF('یکسان سازی برند'!C:C,'موجودی خام اولیه با برندمتفاوت'!C:C)","v":0},"کالای جدید، لطفا در شیت یکسان سازی برند، کد و نام کالا کپی شود"]
[null,null,null,{"$f":"COUNTIF('یکسان سازی برند'!C:C,'موجودی خام اولیه با برندمتفاوت'!C:C)","v":0},"کالای جدید، لطفا در شیت یکسان سازی برند، کد و نام کالا کپی شود"]
[null,null,null,{"$f":"COUNTIF('یکسان سازی برند'!C:C,'موجودی خام اولیه با برندمتفاوت'!C:C)","v":0},"کالای جدید، لطفا در شیت یکسان سازی برند، کد و نام کالا کپی شود"]
[null,null,null,{"$f":"COUNTIF('یکسان سازی برند'!C:C,'موجودی خام اولیه با برندمتفاوت'!C:C)","v":0},"کالای جدید، لطفا در شیت یکسان سازی برند، کد و نام کالا کپی شود"]
[null,null,null,{"$f":"COUNTIF('یکسان سازی برند'!C:C,'موجودی خام اولیه با برندمتفاوت'!C:C)","v":0},"کالای جدید، لطفا در شیت یکسان سازی برند، کد و نام کالا کپی شود"]
[null,null,null,{"$f":"COUNTIF('یکسان سازی برند'!C:C,'موجودی خام اولیه با برندمتفاوت'!C:C)","v":0},"کالای جدید، لطفا در شیت یکسان سازی برند، کد و نام کالا کپی شود"]
[null,null,null,{"$f":"COUNTIF('یکسان سازی برند'!C:C,'موجودی خام اولیه با برندمتفاوت'!C:C)","v":0},"کالای جدید، لطفا در شیت یکسان سازی برند، کد و نام کالا کپی شود"]
[null,null,null,{"$f":"COUNTIF('یکسان سازی برند'!C:C,'موجودی خام اولیه با برندمتفاوت'!C:C)","v":0},"کالای جدید، لطفا در شیت یکسان سازی برند، کد و نام کالا کپی شود"]
[null,null,null,{"$f":"COUNTIF('یکسان سازی برند'!C:C,'موجودی خام اولیه با برندمتفاوت'!C:C)","v":0},"کالای جدید، لطفا در شیت یکسان سازی برند، کد و نام کالا کپی شود"]
[null,null,null,{"$f":"COUNTIF('یکسان سازی برند'!C:C,'موجودی خام اولیه با برندمتفاوت'!C:C)","v":0},"کالای جدید، لطفا در شیت یکسان سازی برند، کد و نام کالا کپی شود"]
[null,null,null,{"$f":"COUNTIF('یکسان سازی برند'!C:C,'موجودی خام اولیه با برندمتفاوت'!C:C)","v":0},"کالای جدید، لطفا در شیت یکسان سازی برند، کد و نام کالا کپی شود"]
[null,null,null,{"$f":"COUNTIF('یکسان سازی برند'!C:C,'موجودی خام اولیه با برندمتفاوت'!C:C)","v":0},"کالای جدید، لطفا در شیت یکسان سازی برند، کد و نام کالا کپی شود"]
[null,null,null,{"$f":"COUNTIF('یکسان سازی برند'!C:C,'موجودی خام اولیه با برندمتفاوت'!C:C)","v":0},"کالای جدید، لطفا در شیت یکسان سازی برند، کد و نام کالا کپی شود"]
[null,null,null,{"$f":"COUNTIF('یکسان سازی برند'!C:C,'موجودی خام اولیه با برندمتفاوت'!C:C)","v":0},"کالای جدید، لطفا در شیت یکسان سازی برند، کد و نام کالا کپی شود"]
[null,null,null,{"$f":"COUNTIF('یکسان سازی برند'!C:C,'موجودی خام اولیه با برندمتفاوت'!C:C)","v":0},"کالای جدید، لطفا در شیت یکسان سازی برند، کد و نام کالا کپی شود"]
[null,null,null,{"$f":"COUNTIF('یکسان سازی برند'!C:C,'موجودی خام اولیه با برندمتفاوت'!C:C)","v":0},"کالای جدید، لطفا در شیت یکسان سازی برند، کد و نام کالا کپی شود"]
[null,null,null,{"$f":"COUNTIF('یکسان سازی برند'!C:C,'موجودی خام اولیه با برندمتفاوت'!C:C)","v":0},"کالای جدید، لطفا در شیت یکسان سازی برند، کد و نام کالا کپی شود"]
[null,null,null,{"$f":"COUNTIF('یکسان سازی برند'!C:C,'موجودی خام اولیه با برندمتفاوت'!C:C)","v":0},"کالای جدید، لطفا در شیت یکسان سازی برند، کد و نام کالا کپی شود"]
[null,null,null,{"$f":"COUNTIF('یکسان سازی برند'!C:C,'موجودی خام اولیه با برندمتفاوت'!C:C)","v":0},"کالای جدید، لطفا در شیت یکسان سازی برند، کد و نام کالا کپی شود"]
[null,null,null,{"$f":"COUNTIF('یکسان سازی برند'!C:C,'موجودی خام اولیه با برندمتفاوت'!C:C)","v":0},"کالای جدید، لطفا در شیت یکسان سازی برند، کد و نام کالا کپی شود"]
[null,null,null,{"$f":"COUNTIF('یکسان سازی برند'!C:C,'موجودی خام اولیه با برندمتفاوت'!C:C)","v":0},"کالای جدید، لطفا در شیت یکسان سازی برند، کد و نام کالا کپی شود"]
[null,null,null,{"$f":"COUNTIF('یکسان سازی برند'!C:C,'موجودی خام اولیه با برندمتفاوت'!C:C)","v":0},"کالای جدید، لطفا در شیت یکسان سازی برند، کد و نام کالا کپی شود"]
[null,null,null,{"$f":"COUNTIF('یکسان سازی برند'!C:C,'موجودی خام اولیه با برندمتفاوت'!C:C)","v":0},"کالای جدید، لطفا در شیت یکسان سازی برند، کد و نام کالا کپی شود"]
[null,null,null,{"$f":"COUNTIF('یکسان سازی برند'!C:C,'موجودی خام اولیه با برندمتفاوت'!C:C)","v":0},"کالای جدید، لطفا در شیت یکسان سازی برند، کد و نام کالا کپی شود"]
[null,null,null,{"$f":"COUNTIF('یکسان سازی برند'!C:C,'موجودی خام اولیه با برندمتفاوت'!C:C)","v":0},"کالای جدید، لطفا در شیت یکسان سازی برند، کد و نام کالا کپی شود"]
[null,null,null,{"$f":"COUNTIF('یکسان سازی برند'!C:C,'موجودی خام اولیه با برندمتفاوت'!C:C)","v":0},"کالای جدید، لطفا در شیت یکسان سازی برند، کد و نام کالا کپی شود"]
[null,null,null,{"$f":"COUNTIF('یکسان سازی برند'!C:C,'موجودی خام اولیه با برندمتفاوت'!C:C)","v":0},"کالای جدید، لطفا در شیت یکسان سازی برند، کد و نام کالا کپی شود"]
[null,null,null,{"$f":"COUNTIF('یکسان سازی برند'!C:C,'موجودی خام اولیه با برندمتفاوت'!C:C)","v":0},"کالای جدید، لطفا در شیت یکسان سازی برند، کد و نام کالا کپی شود"]
[null,null,null,{"$f":"COUNTIF('یکسان سازی برند'!C:C,'موجودی خام اولیه با برندمتفاوت'!C:C)","v":0},"کالای جدید، لطفا در شیت یکسان سازی برند، کد و نام کالا کپی شود"]
[null,null,null,{"$f":"COUNTIF('یکسان سازی برند'!C:C,'موجودی خام اولیه با برندمتفاوت'!C:C)","v":0},"کالای جدید، لطفا در شیت یکسان سازی برند، کد و نام کالا کپی شود"]
[null,null,null,{"$f":"COUNTIF('یکسان سازی برند'!C:C,'موجودی خام اولیه با برندمتفاوت'!C:C)","v":0},"کالای جدید، لطفا در شیت یکسان سازی برند، کد و نام کالا کپی شود"]
[null,null,null,{"$f":"COUNTIF('یکسان سازی برند'!C:C,'موجودی خام اولیه با برندمتفاوت'!C:C)","v":0},"کالای جدید، لطفا در شیت یکسان سازی برند، کد و نام کالا کپی شود"]
[null,null,null,{"$f":"COUNTIF('یکسان سازی برند'!C:C,'موجودی خام اولیه با برندمتفاوت'!C:C)","v":0},"کالای جدید، لطفا در شیت یکسان سازی برند، کد و نام کالا کپی شود"]
[null,null,null,{"$f":"COUNTIF('یکسان سازی برند'!C:C,'موجودی خام اولیه با برندمتفاوت'!C:C)","v":0},"کالای جدید، لطفا در شیت یکسان سازی برند، کد و نام کالا کپی شود"]
[null,null,null,{"$f":"COUNTIF('یکسان سازی برند'!C:C,'موجودی خام اولیه با برندمتفاوت'!C:C)","v":0},"کالای جدید، لطفا در شیت یکسان سازی برند، کد و نام کالا کپی شود"]
[null,null,null,{"$f":"COUNTIF('یکسان سازی برند'!C:C,'موجودی خام اولیه با برندمتفاوت'!C:C)","v":0},"کالای جدید، لطفا در شیت یکسان سازی برند، کد و نام کالا کپی شود"]
[null,null,null,{"$f":"COUNTIF('یکسان سازی برند'!C:C,'موجودی خام اولیه با برندمتفاوت'!C:C)","v":0},"کالای جدید، لطفا در شیت یکسان سازی برند، کد و نام کالا کپی شود"]
[null,null,null,{"$f":"COUNTIF('یکسان سازی برند'!C:C,'موجودی خام اولیه با برندمتفاوت'!C:C)","v":0},"کالای جدید، لطفا در شیت یکسان سازی برند، کد و نام کالا کپی شود"]
[null,null,null,{"$f":"COUNTIF('یکسان سازی برند'!C:C,'موجودی خام اولیه با برندمتفاوت'!C:C)","v":0},"کالای جدید، لطفا در شیت یکسان سازی برند، کد و نام کالا کپی شود"]
[null,null,null,{"$f":"COUNTIF('یکسان سازی برند'!C:C,'موجودی خام اولیه با برندمتفاوت'!C:C)","v":0},"کالای جدید، لطفا در شیت یکسان سازی برند، کد و نام کالا کپی شود"]
[null,null,null,{"$f":"COUNTIF('یکسان سازی برند'!C:C,'موجودی خام اولیه با برندمتفاوت'!C:C)","v":0},"کالای جدید، لطفا در شیت یکسان سازی برند، کد و نام کالا کپی شود"]
[null,null,null,{"$f":"COUNTIF('یکسان سازی برند'!C:C,'موجودی خام اولیه با برندمتفاوت'!C:C)","v":0},"کالای جدید، لطفا در شیت یکسان سازی برند، کد و نام کالا کپی شود"]
[null,null,null,{"$f":"COUNTIF('یکسان سازی برند'!C:C,'موجودی خام اولیه با برندمتفاوت'!C:C)","v":0},"کالای جدید، لطفا در شیت یکسان سازی برند، کد و نام کالا کپی شود"]
[null,null,null,{"$f":"COUNTIF('یکسان سازی برند'!C:C,'موجودی خام اولیه با برندمتفاوت'!C:C)","v":0},"کالای جدید، لطفا در شیت یکسان سازی برند، کد و نام کالا کپی شود"]
[null,null,null,{"$f":"COUNTIF('یکسان سازی برند'!C:C,'موجودی خام اولیه با برندمتفاوت'!C:C)","v":0},"کالای جدید، لطفا در شیت یکسان سازی برند، کد و نام کالا کپی شود"]
[null,null,null,{"$f":"COUNTIF('یکسان سازی برند'!C:C,'موجودی خام اولیه با برندمتفاوت'!C:C)","v":0},"کالای جدید، لطفا در شیت یکسان سازی برند، کد و نام کالا کپی شود"]
[null,null,null,{"$f":"COUNTIF('یکسان سازی برند'!C:C,'موجودی خام اولیه با برندمتفاوت'!C:C)","v":0},"کالای جدید، لطفا در شیت یکسان سازی برند، کد و نام کالا کپی شود"]
[null,null,null,{"$f":"COUNTIF('یکسان سازی برند'!C:C,'موجودی خام اولیه با برندمتفاوت'!C:C)","v":0},"کالای جدید، لطفا در شیت یکسان سازی برند، کد و نام کالا کپی شود"]
[null,null,null,{"$f":"COUNTIF('یکسان سازی برند'!C:C,'موجودی خام اولیه با برندمتفاوت'!C:C)","v":0},"کالای جدید، لطفا در شیت یکسان سازی برند، کد و نام کالا کپی شود"]
[null,null,null,{"$f":"COUNTIF('یکسان سازی برند'!C:C,'موجودی خام اولیه با برندمتفاوت'!C:C)","v":0},"کالای جدید، لطفا در شیت یکسان سازی برند، کد و نام کالا کپی شود"]
[null,null,null,{"$f":"COUNTIF('یکسان سازی برند'!C:C,'موجودی خام اولیه با برندمتفاوت'!C:C)","v":0},"کالای جدید، لطفا در شیت یکسان سازی برند، کد و نام کالا کپی شود"]
[null,null,null,{"$f":"COUNTIF('یکسان سازی برند'!C:C,'موجودی خام اولیه با برندمتفاوت'!C:C)","v":0},"کالای جدید، لطفا در شیت یکسان سازی برند، کد و نام کالا کپی شود"]
[null,null,null,{"$f":"COUNTIF('یکسان سازی برند'!C:C,'موجودی خام اولیه با برندمتفاوت'!C:C)","v":0},"کالای جدید، لطفا در شیت یکسان سازی برند، کد و نام کالا کپی شود"]
[null,null,null,{"$f":"COUNTIF('یکسان سازی برند'!C:C,'موجودی خام اولیه با برندمتفاوت'!C:C)","v":0},"کالای جدید، لطفا در شیت یکسان سازی برند، کد و نام کالا کپی شود"]
[null,null,null,{"$f":"COUNTIF('یکسان سازی برند'!C:C,'موجودی خام اولیه با برندمتفاوت'!C:C)","v":0},"کالای جدید، لطفا در شیت یکسان سازی برند، کد و نام کالا کپی شود"]
[null,null,null,{"$f":"COUNTIF('یکسان سازی برند'!C:C,'موجودی خام اولیه با برندمتفاوت'!C:C)","v":0},"کالای جدید، لطفا در شیت یکسان سازی برند، کد و نام کالا کپی شود"]
[null,null,null,{"$f":"COUNTIF('یکسان سازی برند'!C:C,'موجودی خام اولیه با برندمتفاوت'!C:C)","v":0},"کالای جدید، لطفا در شیت یکسان سازی برند، کد و نام کالا کپی شود"]
[null,null,null,{"$f":"COUNTIF('یکسان سازی برند'!C:C,'موجودی خام اولیه با برندمتفاوت'!C:C)","v":0},"کالای جدید، لطفا در شیت یکسان سازی برند، کد و نام کالا کپی شود"]
[null,null,null,{"$f":"COUNTIF('یکسان سازی برند'!C:C,'موجودی خام اولیه با برندمتفاوت'!C:C)","v":0},"کالای جدید، لطفا در شیت یکسان سازی برند، کد و نام کالا کپی شود"]
[null,null,null,{"$f":"COUNTIF('یکسان سازی برند'!C:C,'موجودی خام اولیه با برندمتفاوت'!C:C)","v":0},"کالای جدید، لطفا در شیت یکسان سازی برند، کد و نام کالا کپی شود"]
[null,null,null,{"$f":"COUNTIF('یکسان سازی برند'!C:C,'موجودی خام اولیه با برندمتفاوت'!C:C)","v":0},"کالای جدید، لطفا در شیت یکسان سازی برند، کد و نام کالا کپی شود"]
[null,null,null,{"$f":"COUNTIF('یکسان سازی برند'!C:C,'موجودی خام اولیه با برندمتفاوت'!C:C)","v":0},"کالای جدید، لطفا در شیت یکسان سازی برند، کد و نام کالا کپی شود"]
[null,null,null,{"$f":"COUNTIF('یکسان سازی برند'!C:C,'موجودی خام اولیه با برندمتفاوت'!C:C)","v":0},"کالای جدید، لطفا در شیت یکسان سازی برند، کد و نام کالا کپی شود"]
[null,null,null,{"$f":"COUNTIF('یکسان سازی برند'!C:C,'موجودی خام اولیه با برندمتفاوت'!C:C)","v":0},{"$f":"IF(D:D=0,\"کالای جدید، لطفا در شیت یکسان سازی برند، کد و نام کالا کپی شود\",\"\")","v":"کالای جدید، لطفا در شیت یکسان سازی برند، کد و نام کالا کپی شود"}]
[null,null,null,{"$f":"COUNTIF('یکسان سازی برند'!C:C,'موجودی خام اولیه با برندمتفاوت'!C:C)","v":0},"کالای جدید، لطفا در شیت یکسان سازی برند، کد و نام کالا کپی شود"]
[null,null,null,{"$f":"COUNTIF('یکسان سازی برند'!C:C,'موجودی خام اولیه با برندمتفاوت'!C:C)","v":0},"کالای جدید، لطفا در شیت یکسان سازی برند، کد و نام کالا کپی شود"]
[null,null,null,{"$f":"COUNTIF('یکسان سازی برند'!C:C,'موجودی خام اولیه با برندمتفاوت'!C:C)","v":0},"کالای جدید، لطفا در شیت یکسان سازی برند، کد و نام کالا کپی شود"]
[null,null,null,{"$f":"COUNTIF('یکسان سازی برند'!C:C,'موجودی خام اولیه با برندمتفاوت'!C:C)","v":0},"کالای جدید، لطفا در شیت یکسان سازی برند، کد و نام کالا کپی شود"]
[null,null,null,{"$f":"COUNTIF('یکسان سازی برند'!C:C,'موجودی خام اولیه با برندمتفاوت'!C:C)","v":0},"کالای جدید، لطفا در شیت یکسان سازی برند، کد و نام کالا کپی شود"]
[null,null,null,{"$f":"COUNTIF('یکسان سازی برند'!C:C,'موجودی خام اولیه با برندمتفاوت'!C:C)","v":0},"کالای جدید، لطفا در شیت یکسان سازی برند، کد و نام کالا کپی شود"]
[null,null,null,{"$f":"COUNTIF('یکسان سازی برند'!C:C,'موجودی خام اولیه با برندمتفاوت'!C:C)","v":0},"کالای جدید، لطفا در شیت یکسان سازی برند، کد و نام کالا کپی شود"]
[null,null,null,{"$f":"COUNTIF('یکسان سازی برند'!C:C,'موجودی خام اولیه با برندمتفاوت'!C:C)","v":0},"کالای جدید، لطفا در شیت یکسان سازی برند، کد و نام کالا کپی شود"]
[null,null,null,{"$f":"COUNTIF('یکسان سازی برند'!C:C,'موجودی خام اولیه با برندمتفاوت'!C:C)","v":0},"کالای جدید، لطفا در شیت یکسان سازی برند، کد و نام کالا کپی شود"]
[null,null,null,{"$f":"COUNTIF('یکسان سازی برند'!C:C,'موجودی خام اولیه با برندمتفاوت'!C:C)","v":0},"کالای جدید، لطفا در شیت یکسان سازی برند، کد و نام کالا کپی شود"]
[null,null,null,{"$f":"COUNTIF('یکسان سازی برند'!C:C,'موجودی خام اولیه با برندمتفاوت'!C:C)","v":0},"کالای جدید، لطفا در شیت یکسان سازی برند، کد و نام کالا کپی شود"]
[null,null,null,{"$f":"COUNTIF('یکسان سازی برند'!C:C,'موجودی خام اولیه با برندمتفاوت'!C:C)","v":0},"کالای جدید، لطفا در شیت یکسان سازی برند، کد و نام کالا کپی شود"]
[null,null,null,{"$f":"COUNTIF('یکسان سازی برند'!C:C,'موجودی خام اولیه با برندمتفاوت'!C:C)","v":0},"کالای جدید، لطفا در شیت یکسان سازی برند، کد و نام کالا کپی شود"]
[null,null,null,{"$f":"COUNTIF('یکسان سازی برند'!C:C,'موجودی خام اولیه با برندمتفاوت'!C:C)","v":0},"کالای جدید، لطفا در شیت یکسان سازی برند، کد و نام کالا کپی شود"]
[null,null,null,{"$f":"COUNTIF('یکسان سازی برند'!C:C,'موجودی خام اولیه با برندمتفاوت'!C:C)","v":0},"کالای جدید، لطفا در شیت یکسان سازی برند، کد و نام کالا کپی شود"]
[null,null,null,{"$f":"COUNTIF('یکسان سازی برند'!C:C,'موجودی خام اولیه با برندمتفاوت'!C:C)","v":0},"کالای جدید، لطفا در شیت یکسان سازی برند، کد و نام کالا کپی شود"]
[null,null,null,{"$f":"COUNTIF('یکسان سازی برند'!C:C,'موجودی خام اولیه با برندمتفاوت'!C:C)","v":0},"کالای جدید، لطفا در شیت یکسان سازی برند، کد و نام کالا کپی شود"]
[null,null,null,{"$f":"COUNTIF('یکسان سازی برند'!C:C,'موجودی خام اولیه با برندمتفاوت'!C:C)","v":0},"کالای جدید، لطفا در شیت یکسان سازی برند، کد و نام کالا کپی شود"]
[null,null,null,{"$f":"COUNTIF('یکسان سازی برند'!C:C,'موجودی خام اولیه با برندمتفاوت'!C:C)","v":0},"کالای جدید، لطفا در شیت یکسان سازی برند، کد و نام کالا کپی شود"]
[null,null,null,{"$f":"COUNTIF('یکسان سازی برند'!C:C,'موجودی خام اولیه با برندمتفاوت'!C:C)","v":0},"کالای جدید، لطفا در شیت یکسان سازی برند، کد و نام کالا کپی شود"]
[null,null,null,{"$f":"COUNTIF('یکسان سازی برند'!C:C,'موجودی خام اولیه با برندمتفاوت'!C:C)","v":0},"کالای جدید، لطفا در شیت یکسان سازی برند، کد و نام کالا کپی شود"]
[null,null,null,{"$f":"COUNTIF('یکسان سازی برند'!C:C,'موجودی خام اولیه با برندمتفاوت'!C:C)","v":0},"کالای جدید، لطفا در شیت یکسان سازی برند، کد و نام کالا کپی شود"]
[null,null,null,{"$f":"COUNTIF('یکسان سازی برند'!C:C,'موجودی خام اولیه با برندمتفاوت'!C:C)","v":0},"کالای جدید، لطفا در شیت یکسان سازی برند، کد و نام کالا کپی شود"]
[null,null,null,{"$f":"COUNTIF('یکسان سازی برند'!C:C,'موجودی خام اولیه با برندمتفاوت'!C:C)","v":0},"کالای جدید، لطفا در شیت یکسان سازی برند، کد و نام کالا کپی شود"]
[null,null,null,{"$f":"COUNTIF('یکسان سازی برند'!C:C,'موجودی خام اولیه با برندمتفاوت'!C:C)","v":0},"کالای جدید، لطفا در شیت یکسان سازی برند، کد و نام کالا کپی شود"]
[null,null,null,{"$f":"COUNTIF('یکسان سازی برند'!C:C,'موجودی خام اولیه با برندمتفاوت'!C:C)","v":0},"کالای جدید، لطفا در شیت یکسان سازی برند، کد و نام کالا کپی شود"]
[null,null,null,{"$f":"COUNTIF('یکسان سازی برند'!C:C,'موجودی خام اولیه با برندمتفاوت'!C:C)","v":0},"کالای جدید، لطفا در شیت یکسان سازی برند، کد و نام کالا کپی شود"]
[null,null,null,{"$f":"COUNTIF('یکسان سازی برند'!C:C,'موجودی خام اولیه با برندمتفاوت'!C:C)","v":0},"کالای جدید، لطفا در شیت یکسان سازی برند، کد و نام کالا کپی شود"]
[null,null,null,{"$f":"COUNTIF('یکسان سازی برند'!C:C,'موجودی خام اولیه با برندمتفاوت'!C:C)","v":0},"کالای جدید، لطفا در شیت یکسان سازی برند، کد و نام کالا کپی شود"]
[null,null,null,{"$f":"COUNTIF('یکسان سازی برند'!C:C,'موجودی خام اولیه با برندمتفاوت'!C:C)","v":0},"کالای جدید، لطفا در شیت یکسان سازی برند، کد و نام کالا کپی شود"]
[null,null,null,{"$f":"COUNTIF('یکسان سازی برند'!C:C,'موجودی خام اولیه با برندمتفاوت'!C:C)","v":0},"کالای جدید، لطفا در شیت یکسان سازی برند، کد و نام کالا کپی شود"]
[null,null,null,{"$f":"COUNTIF('یکسان سازی برند'!C:C,'موجودی خام اولیه با برندمتفاوت'!C:C)","v":0},"کالای جدید، لطفا در شیت یکسان سازی برند، کد و نام کالا کپی شود"]
[null,null,null,{"$f":"COUNTIF('یکسان سازی برند'!C:C,'موجودی خام اولیه با برندمتفاوت'!C:C)","v":0},"کالای جدید، لطفا در شیت یکسان سازی برند، کد و نام کالا کپی شود"]
[null,null,null,{"$f":"COUNTIF('یکسان سازی برند'!C:C,'موجودی خام اولیه با برندمتفاوت'!C:C)","v":0},"کالای جدید، لطفا در شیت یکسان سازی برند، کد و نام کالا کپی شود"]
[null,null,null,{"$f":"COUNTIF('یکسان سازی برند'!C:C,'موجودی خام اولیه با برندمتفاوت'!C:C)","v":0},"کالای جدید، لطفا در شیت یکسان سازی برند، کد و نام کالا کپی شود"]
[null,null,null,{"$f":"COUNTIF('یکسان سازی برند'!C:C,'موجودی خام اولیه با برندمتفاوت'!C:C)","v":0},"کالای جدید، لطفا در شیت یکسان سازی برند، کد و نام کالا کپی شود"]
[null,null,null,{"$f":"COUNTIF('یکسان سازی برند'!C:C,'موجودی خام اولیه با برندمتفاوت'!C:C)","v":0},"کالای جدید، لطفا در شیت یکسان سازی برند، کد و نام کالا کپی شود"]
[null,null,null,{"$f":"COUNTIF('یکسان سازی برند'!C:C,'موجودی خام اولیه با برندمتفاوت'!C:C)","v":0},"کالای جدید، لطفا در شیت یکسان سازی برند، کد و نام کالا کپی شود"]
[null,null,null,{"$f":"COUNTIF('یکسان سازی برند'!C:C,'موجودی خام اولیه با برندمتفاوت'!C:C)","v":0},"کالای جدید، لطفا در شیت یکسان سازی برند، کد و نام کالا کپی شود"]
[null,null,null,{"$f":"COUNTIF('یکسان سازی برند'!C:C,'موجودی خام اولیه با برندمتفاوت'!C:C)","v":0},"کالای جدید، لطفا در شیت یکسان سازی برند، کد و نام کالا کپی شود"]
[null,null,null,{"$f":"COUNTIF('یکسان سازی برند'!C:C,'موجودی خام اولیه با برندمتفاوت'!C:C)","v":0},"کالای جدید، لطفا در شیت یکسان سازی برند، کد و نام کالا کپی شود"]
[null,null,null,{"$f":"COUNTIF('یکسان سازی برند'!C:C,'موجودی خام اولیه با برندمتفاوت'!C:C)","v":0},"کالای جدید، لطفا در شیت یکسان سازی برند، کد و نام کالا کپی شود"]
[null,null,null,{"$f":"COUNTIF('یکسان سازی برند'!C:C,'موجودی خام اولیه با برندمتفاوت'!C:C)","v":0},"کالای جدید، لطفا در شیت یکسان سازی برند، کد و نام کالا کپی شود"]
[null,null,null,{"$f":"COUNTIF('یکسان سازی برند'!C:C,'موجودی خام اولیه با برندمتفاوت'!C:C)","v":0},"کالای جدید، لطفا در شیت یکسان سازی برند، کد و نام کالا کپی شود"]
[null,null,null,{"$f":"COUNTIF('یکسان سازی برند'!C:C,'موجودی خام اولیه با برندمتفاوت'!C:C)","v":0},"کالای جدید، لطفا در شیت یکسان سازی برند، کد و نام کالا کپی شود"]
[null,null,null,{"$f":"COUNTIF('یکسان سازی برند'!C:C,'موجودی خام اولیه با برندمتفاوت'!C:C)","v":0},"کالای جدید، لطفا در شیت یکسان سازی برند، کد و نام کالا کپی شود"]
[null,null,null,{"$f":"COUNTIF('یکسان سازی برند'!C:C,'موجودی خام اولیه با برندمتفاوت'!C:C)","v":0},"کالای جدید، لطفا در شیت یکسان سازی برند، کد و نام کالا کپی شود"]
[null,null,null,{"$f":"COUNTIF('یکسان سازی برند'!C:C,'موجودی خام اولیه با برندمتفاوت'!C:C)","v":0},"کالای جدید، لطفا در شیت یکسان سازی برند، کد و نام کالا کپی شود"]
[null,null,null,{"$f":"COUNTIF('یکسان سازی برند'!C:C,'موجودی خام اولیه با برندمتفاوت'!C:C)","v":0},"کالای جدید، لطفا در شیت یکسان سازی برند، کد و نام کالا کپی شود"]
[null,null,null,{"$f":"COUNTIF('یکسان سازی برند'!C:C,'موجودی خام اولیه با برندمتفاوت'!C:C)","v":0},"کالای جدید، لطفا در شیت یکسان سازی برند، کد و نام کالا کپی شود"]
[null,null,null,{"$f":"COUNTIF('یکسان سازی برند'!C:C,'موجودی خام اولیه با برندمتفاوت'!C:C)","v":0},"کالای جدید، لطفا در شیت یکسان سازی برند، کد و نام کالا کپی شود"]
[null,null,null,{"$f":"COUNTIF('یکسان سازی برند'!C:C,'موجودی خام اولیه با برندمتفاوت'!C:C)","v":0},"کالای جدید، لطفا در شیت یکسان سازی برند، کد و نام کالا کپی شود"]
[null,null,null,{"$f":"COUNTIF('یکسان سازی برند'!C:C,'موجودی خام اولیه با برندمتفاوت'!C:C)","v":0},"کالای جدید، لطفا در شیت یکسان سازی برند، کد و نام کالا کپی شود"]
[null,null,null,{"$f":"COUNTIF('یکسان سازی برند'!C:C,'موجودی خام اولیه با برندمتفاوت'!C:C)","v":0},"کالای جدید، لطفا در شیت یکسان سازی برند، کد و نام کالا کپی شود"]
[null,null,null,{"$f":"COUNTIF('یکسان سازی برند'!C:C,'موجودی خام اولیه با برندمتفاوت'!C:C)","v":0},"کالای جدید، لطفا در شیت یکسان سازی برند، کد و نام کالا کپی شود"]
[null,null,null,{"$f":"COUNTIF('یکسان سازی برند'!C:C,'موجودی خام اولیه با برندمتفاوت'!C:C)","v":0},"کالای جدید، لطفا در شیت یکسان سازی برند، کد و نام کالا کپی شود"]
[null,null,null,{"$f":"COUNTIF('یکسان سازی برند'!C:C,'موجودی خام اولیه با برندمتفاوت'!C:C)","v":0},"کالای جدید، لطفا در شیت یکسان سازی برند، کد و نام کالا کپی شود"]
[null,null,null,{"$f":"COUNTIF('یکسان سازی برند'!C:C,'موجودی خام اولیه با برندمتفاوت'!C:C)","v":0},"کالای جدید، لطفا در شیت یکسان سازی برند، کد و نام کالا کپی شود"]
[null,null,null,{"$f":"COUNTIF('یکسان سازی برند'!C:C,'موجودی خام اولیه با برندمتفاوت'!C:C)","v":0},"کالای جدید، لطفا در شیت یکسان سازی برند، کد و نام کالا کپی شود"]
[null,null,null,{"$f":"COUNTIF('یکسان سازی برند'!C:C,'موجودی خام اولیه با برندمتفاوت'!C:C)","v":0},"کالای جدید، لطفا در شیت یکسان سازی برند، کد و نام کالا کپی شود"]
[null,null,null,{"$f":"COUNTIF('یکسان سازی برند'!C:C,'موجودی خام اولیه با برندمتفاوت'!C:C)","v":0},"کالای جدید، لطفا در شیت یکسان سازی برند، کد و نام کالا کپی شود"]
[null,null,null,{"$f":"COUNTIF('یکسان سازی برند'!C:C,'موجودی خام اولیه با برندمتفاوت'!C:C)","v":0},"کالای جدید، لطفا در شیت یکسان سازی برند، کد و نام کالا کپی شود"]
[null,null,null,{"$f":"COUNTIF('یکسان سازی برند'!C:C,'موجودی خام اولیه با برندمتفاوت'!C:C)","v":0},"کالای جدید، لطفا در شیت یکسان سازی برند، کد و نام کالا کپی شود"]
[null,null,null,{"$f":"COUNTIF('یکسان سازی برند'!C:C,'موجودی خام اولیه با برندمتفاوت'!C:C)","v":0},{"$f":"IF(D:D=0,\"کالای جدید، لطفا در شیت یکسان سازی برند، کد و نام کالا کپی شود\",\"\")","v":"کالای جدید، لطفا در شیت یکسان سازی برند، کد و نام کالا کپی شود"}]
[null,null,null,{"$f":"COUNTIF('یکسان سازی برند'!C:C,'موجودی خام اولیه با برندمتفاوت'!C:C)","v":0},"کالای جدید، لطفا در شیت یکسان سازی برند، کد و نام کالا کپی شود"]
[null,null,null,{"$f":"COUNTIF('یکسان سازی برند'!C:C,'موجودی خام اولیه با برندمتفاوت'!C:C)","v":0},"کالای جدید، لطفا در شیت یکسان سازی برند، کد و نام کالا کپی شود"]
[null,null,null,{"$f":"COUNTIF('یکسان سازی برند'!C:C,'موجودی خام اولیه با برندمتفاوت'!C:C)","v":0},"کالای جدید، لطفا در شیت یکسان سازی برند، کد و نام کالا کپی شود"]
[null,null,null,{"$f":"COUNTIF('یکسان سازی برند'!C:C,'موجودی خام اولیه با برندمتفاوت'!C:C)","v":0},"کالای جدید، لطفا در شیت یکسان سازی برند، کد و نام کالا کپی شود"]
[null,null,null,{"$f":"COUNTIF('یکسان سازی برند'!C:C,'موجودی خام اولیه با برندمتفاوت'!C:C)","v":0},"کالای جدید، لطفا در شیت یکسان سازی برند، کد و نام کالا کپی شود"]
[null,null,null,{"$f":"COUNTIF('یکسان سازی برند'!C:C,'موجودی خام اولیه با برندمتفاوت'!C:C)","v":0},"کالای جدید، لطفا در شیت یکسان سازی برند، کد و نام کالا کپی شود"]
[null,null,null,{"$f":"COUNTIF('یکسان سازی برند'!C:C,'موجودی خام اولیه با برندمتفاوت'!C:C)","v":0},"کالای جدید، لطفا در شیت یکسان سازی برند، کد و نام کالا کپی شود"]
[null,null,null,{"$f":"COUNTIF('یکسان سازی برند'!C:C,'موجودی خام اولیه با برندمتفاوت'!C:C)","v":0},"کالای جدید، لطفا در شیت یکسان سازی برند، کد و نام کالا کپی شود"]
[null,null,null,{"$f":"COUNTIF('یکسان سازی برند'!C:C,'موجودی خام اولیه با برندمتفاوت'!C:C)","v":0},"کالای جدید، لطفا در شیت یکسان سازی برند، کد و نام کالا کپی شود"]
[null,null,null,{"$f":"COUNTIF('یکسان سازی برند'!C:C,'موجودی خام اولیه با برندمتفاوت'!C:C)","v":0},"کالای جدید، لطفا در شیت یکسان سازی برند، کد و نام کالا کپی شود"]
[null,null,null,{"$f":"COUNTIF('یکسان سازی برند'!C:C,'موجودی خام اولیه با برندمتفاوت'!C:C)","v":0},"کالای جدید، لطفا در شیت یکسان سازی برند، کد و نام کالا کپی شود"]
[null,null,null,{"$f":"COUNTIF('یکسان سازی برند'!C:C,'موجودی خام اولیه با برندمتفاوت'!C:C)","v":0},"کالای جدید، لطفا در شیت یکسان سازی برند، کد و نام کالا کپی شود"]
[null,null,null,{"$f":"COUNTIF('یکسان سازی برند'!C:C,'موجودی خام اولیه با برندمتفاوت'!C:C)","v":0},"کالای جدید، لطفا در شیت یکسان سازی برند، کد و نام کالا کپی شود"]
[null,null,null,{"$f":"COUNTIF('یکسان سازی برند'!C:C,'موجودی خام اولیه با برندمتفاوت'!C:C)","v":0},"کالای جدید، لطفا در شیت یکسان سازی برند، کد و نام کالا کپی شود"]
[null,null,null,{"$f":"COUNTIF('یکسان سازی برند'!C:C,'موجودی خام اولیه با برندمتفاوت'!C:C)","v":0},"کالای جدید، لطفا در شیت یکسان سازی برند، کد و نام کالا کپی شود"]
[null,null,null,{"$f":"COUNTIF('یکسان سازی برند'!C:C,'موجودی خام اولیه با برندمتفاوت'!C:C)","v":0},"کالای جدید، لطفا در شیت یکسان سازی برند، کد و نام کالا کپی شود"]
[null,null,null,{"$f":"COUNTIF('یکسان سازی برند'!C:C,'موجودی خام اولیه با برندمتفاوت'!C:C)","v":0},"کالای جدید، لطفا در شیت یکسان سازی برند، کد و نام کالا کپی شود"]
[null,null,null,{"$f":"COUNTIF('یکسان سازی برند'!C:C,'موجودی خام اولیه با برندمتفاوت'!C:C)","v":0},"کالای جدید، لطفا در شیت یکسان سازی برند، کد و نام کالا کپی شود"]
[null,null,null,{"$f":"COUNTIF('یکسان سازی برند'!C:C,'موجودی خام اولیه با برندمتفاوت'!C:C)","v":0},"کالای جدید، لطفا در شیت یکسان سازی برند، کد و نام کالا کپی شود"]
[null,null,null,{"$f":"COUNTIF('یکسان سازی برند'!C:C,'موجودی خام اولیه با برندمتفاوت'!C:C)","v":0},"کالای جدید، لطفا در شیت یکسان سازی برند، کد و نام کالا کپی شود"]
[null,null,null,{"$f":"COUNTIF('یکسان سازی برند'!C:C,'موجودی خام اولیه با برندمتفاوت'!C:C)","v":0},"کالای جدید، لطفا در شیت یکسان سازی برند، کد و نام کالا کپی شود"]
[null,null,null,{"$f":"COUNTIF('یکسان سازی برند'!C:C,'موجودی خام اولیه با برندمتفاوت'!C:C)","v":0},"کالای جدید، لطفا در شیت یکسان سازی برند، کد و نام کالا کپی شود"]
[null,null,null,{"$f":"COUNTIF('یکسان سازی برند'!C:C,'موجودی خام اولیه با برندمتفاوت'!C:C)","v":0},"کالای جدید، لطفا در شیت یکسان سازی برند، کد و نام کالا کپی شود"]
[null,null,null,{"$f":"COUNTIF('یکسان سازی برند'!C:C,'موجودی خام اولیه با برندمتفاوت'!C:C)","v":0},"کالای جدید، لطفا در شیت یکسان سازی برند، کد و نام کالا کپی شود"]
[null,null,null,{"$f":"COUNTIF('یکسان سازی برند'!C:C,'موجودی خام اولیه با برندمتفاوت'!C:C)","v":0},"کالای جدید، لطفا در شیت یکسان سازی برند، کد و نام کالا کپی شود"]
[null,null,null,{"$f":"COUNTIF('یکسان سازی برند'!C:C,'موجودی خام اولیه با برندمتفاوت'!C:C)","v":0},"کالای جدید، لطفا در شیت یکسان سازی برند، کد و نام کالا کپی شود"]
[null,null,null,{"$f":"COUNTIF('یکسان سازی برند'!C:C,'موجودی خام اولیه با برندمتفاوت'!C:C)","v":0},"کالای جدید، لطفا در شیت یکسان سازی برند، کد و نام کالا کپی شود"]
[null,null,null,{"$f":"COUNTIF('یکسان سازی برند'!C:C,'موجودی خام اولیه با برندمتفاوت'!C:C)","v":0},"کالای جدید، لطفا در شیت یکسان سازی برند، کد و نام کالا کپی شود"]
[null,null,null,{"$f":"COUNTIF('یکسان سازی برند'!C:C,'موجودی خام اولیه با برندمتفاوت'!C:C)","v":0},"کالای جدید، لطفا در شیت یکسان سازی برند، کد و نام کالا کپی شود"]
[null,null,null,{"$f":"COUNTIF('یکسان سازی برند'!C:C,'موجودی خام اولیه با برندمتفاوت'!C:C)","v":0},"کالای جدید، لطفا در شیت یکسان سازی برند، کد و نام کالا کپی شود"]
[null,null,null,{"$f":"COUNTIF('یکسان سازی برند'!C:C,'موجودی خام اولیه با برندمتفاوت'!C:C)","v":0},"کالای جدید، لطفا در شیت یکسان سازی برند، کد و نام کالا کپی شود"]
[null,null,null,{"$f":"COUNTIF('یکسان سازی برند'!C:C,'موجودی خام اولیه با برندمتفاوت'!C:C)","v":0},"کالای جدید، لطفا در شیت یکسان سازی برند، کد و نام کالا کپی شود"]
[null,null,null,{"$f":"COUNTIF('یکسان سازی برند'!C:C,'موجودی خام اولیه با برندمتفاوت'!C:C)","v":0},"کالای جدید، لطفا در شیت یکسان سازی برند، کد و نام کالا کپی شود"]
[null,null,null,{"$f":"COUNTIF('یکسان سازی برند'!C:C,'موجودی خام اولیه با برندمتفاوت'!C:C)","v":0},"کالای جدید، لطفا در شیت یکسان سازی برند، کد و نام کالا کپی شود"]
[null,null,null,{"$f":"COUNTIF('یکسان سازی برند'!C:C,'موجودی خام اولیه با برندمتفاوت'!C:C)","v":0},"کالای جدید، لطفا در شیت یکسان سازی برند، کد و نام کالا کپی شود"]
[null,null,null,{"$f":"COUNTIF('یکسان سازی برند'!C:C,'موجودی خام اولیه با برندمتفاوت'!C:C)","v":0},"کالای جدید، لطفا در شیت یکسان سازی برند، کد و نام کالا کپی شود"]
[null,null,null,{"$f":"COUNTIF('یکسان سازی برند'!C:C,'موجودی خام اولیه با برندمتفاوت'!C:C)","v":0},"کالای جدید، لطفا در شیت یکسان سازی برند، کد و نام کالا کپی شود"]
[null,null,null,{"$f":"COUNTIF('یکسان سازی برند'!C:C,'موجودی خام اولیه با برندمتفاوت'!C:C)","v":0},"کالای جدید، لطفا در شیت یکسان سازی برند، کد و نام کالا کپی شود"]
[null,null,null,{"$f":"COUNTIF('یکسان سازی برند'!C:C,'موجودی خام اولیه با برندمتفاوت'!C:C)","v":0},"کالای جدید، لطفا در شیت یکسان سازی برند، کد و نام کالا کپی شود"]
[null,null,null,{"$f":"COUNTIF('یکسان سازی برند'!C:C,'موجودی خام اولیه با برندمتفاوت'!C:C)","v":0},"کالای جدید، لطفا در شیت یکسان سازی برند، کد و نام کالا کپی شود"]
[null,null,null,{"$f":"COUNTIF('یکسان سازی برند'!C:C,'موجودی خام اولیه با برندمتفاوت'!C:C)","v":0},"کالای جدید، لطفا در شیت یکسان سازی برند، کد و نام کالا کپی شود"]
[null,null,null,{"$f":"COUNTIF('یکسان سازی برند'!C:C,'موجودی خام اولیه با برندمتفاوت'!C:C)","v":0},"کالای جدید، لطفا در شیت یکسان سازی برند، کد و نام کالا کپی شود"]
[null,null,null,{"$f":"COUNTIF('یکسان سازی برند'!C:C,'موجودی خام اولیه با برندمتفاوت'!C:C)","v":0},"کالای جدید، لطفا در شیت یکسان سازی برند، کد و نام کالا کپی شود"]
[null,null,null,{"$f":"COUNTIF('یکسان سازی برند'!C:C,'موجودی خام اولیه با برندمتفاوت'!C:C)","v":0},"کالای جدید، لطفا در شیت یکسان سازی برند، کد و نام کالا کپی شود"]
[null,null,null,{"$f":"COUNTIF('یکسان سازی برند'!C:C,'موجودی خام اولیه با برندمتفاوت'!C:C)","v":0},"کالای جدید، لطفا در شیت یکسان سازی برند، کد و نام کالا کپی شود"]
[null,null,null,{"$f":"COUNTIF('یکسان سازی برند'!C:C,'موجودی خام اولیه با برندمتفاوت'!C:C)","v":0},"کالای جدید، لطفا در شیت یکسان سازی برند، کد و نام کالا کپی شود"]
[null,null,null,{"$f":"COUNTIF('یکسان سازی برند'!C:C,'موجودی خام اولیه با برندمتفاوت'!C:C)","v":0},"کالای جدید، لطفا در شیت یکسان سازی برند، کد و نام کالا کپی شود"]
[null,null,null,{"$f":"COUNTIF('یکسان سازی برند'!C:C,'موجودی خام اولیه با برندمتفاوت'!C:C)","v":0},"کالای جدید، لطفا در شیت یکسان سازی برند، کد و نام کالا کپی شود"]
[null,null,null,{"$f":"COUNTIF('یکسان سازی برند'!C:C,'موجودی خام اولیه با برندمتفاوت'!C:C)","v":0},"کالای جدید، لطفا در شیت یکسان سازی برند، کد و نام کالا کپی شود"]
[null,null,null,{"$f":"COUNTIF('یکسان سازی برند'!C:C,'موجودی خام اولیه با برندمتفاوت'!C:C)","v":0},"کالای جدید، لطفا در شیت یکسان سازی برند، کد و نام کالا کپی شود"]
[null,null,null,{"$f":"COUNTIF('یکسان سازی برند'!C:C,'موجودی خام اولیه با برندمتفاوت'!C:C)","v":0},"کالای جدید، لطفا در شیت یکسان سازی برند، کد و نام کالا کپی شود"]
[null,null,null,{"$f":"COUNTIF('یکسان سازی برند'!C:C,'موجودی خام اولیه با برندمتفاوت'!C:C)","v":0},"کالای جدید، لطفا در شیت یکسان سازی برند، کد و نام کالا کپی شود"]
[null,null,null,{"$f":"COUNTIF('یکسان سازی برند'!C:C,'موجودی خام اولیه با برندمتفاوت'!C:C)","v":0},"کالای جدید، لطفا در شیت یکسان سازی برند، کد و نام کالا کپی شود"]
[null,null,null,{"$f":"COUNTIF('یکسان سازی برند'!C:C,'موجودی خام اولیه با برندمتفاوت'!C:C)","v":0},"کالای جدید، لطفا در شیت یکسان سازی برند، کد و نام کالا کپی شود"]
[null,null,null,{"$f":"COUNTIF('یکسان سازی برند'!C:C,'موجودی خام اولیه با برندمتفاوت'!C:C)","v":0},"کالای جدید، لطفا در شیت یکسان سازی برند، کد و نام کالا کپی شود"]
[null,null,null,{"$f":"COUNTIF('یکسان سازی برند'!C:C,'موجودی خام اولیه با برندمتفاوت'!C:C)","v":0},"کالای جدید، لطفا در شیت یکسان سازی برند، کد و نام کالا کپی شود"]
[null,null,null,{"$f":"COUNTIF('یکسان سازی برند'!C:C,'موجودی خام اولیه با برندمتفاوت'!C:C)","v":0},"کالای جدید، لطفا در شیت یکسان سازی برند، کد و نام کالا کپی شود"]
[null,null,null,{"$f":"COUNTIF('یکسان سازی برند'!C:C,'موجودی خام اولیه با برندمتفاوت'!C:C)","v":0},"کالای جدید، لطفا در شیت یکسان سازی برند، کد و نام کالا کپی شود"]
[null,null,null,{"$f":"COUNTIF('یکسان سازی برند'!C:C,'موجودی خام اولیه با برندمتفاوت'!C:C)","v":0},"کالای جدید، لطفا در شیت یکسان سازی برند، کد و نام کالا کپی شود"]
[null,null,null,{"$f":"COUNTIF('یکسان سازی برند'!C:C,'موجودی خام اولیه با برندمتفاوت'!C:C)","v":0},"کالای جدید، لطفا در شیت یکسان سازی برند، کد و نام کالا کپی شود"]
[null,null,null,{"$f":"COUNTIF('یکسان سازی برند'!C:C,'موجودی خام اولیه با برندمتفاوت'!C:C)","v":0},"کالای جدید، لطفا در شیت یکسان سازی برند، کد و نام کالا کپی شود"]
[null,null,null,{"$f":"COUNTIF('یکسان سازی برند'!C:C,'موجودی خام اولیه با برندمتفاوت'!C:C)","v":0},"کالای جدید، لطفا در شیت یکسان سازی برند، کد و نام کالا کپی شود"]
[null,null,null,{"$f":"COUNTIF('یکسان سازی برند'!C:C,'موجودی خام اولیه با برندمتفاوت'!C:C)","v":0},"کالای جدید، لطفا در شیت یکسان سازی برند، کد و نام کالا کپی شود"]
[null,null,null,{"$f":"COUNTIF('یکسان سازی برند'!C:C,'موجودی خام اولیه با برندمتفاوت'!C:C)","v":0},{"$f":"IF(D:D=0,\"کالای جدید، لطفا در شیت یکسان سازی برند، کد و نام کالا کپی شود\",\"\")","v":"کالای جدید، لطفا در شیت یکسان سازی برند، کد و نام کالا کپی شود"}]
[null,null,null,{"$f":"COUNTIF('یکسان سازی برند'!C:C,'موجودی خام اولیه با برندمتفاوت'!C:C)","v":0},"کالای جدید، لطفا در شیت یکسان سازی برند، کد و نام کالا کپی شود"]
[null,null,null,{"$f":"COUNTIF('یکسان سازی برند'!C:C,'موجودی خام اولیه با برندمتفاوت'!C:C)","v":0},"کالای جدید، لطفا در شیت یکسان سازی برند، کد و نام کالا کپی شود"]
[null,null,null,{"$f":"COUNTIF('یکسان سازی برند'!C:C,'موجودی خام اولیه با برندمتفاوت'!C:C)","v":0},"کالای جدید، لطفا در شیت یکسان سازی برند، کد و نام کالا کپی شود"]
[null,null,null,{"$f":"COUNTIF('یکسان سازی برند'!C:C,'موجودی خام اولیه با برندمتفاوت'!C:C)","v":0},"کالای جدید، لطفا در شیت یکسان سازی برند، کد و نام کالا کپی شود"]
[null,null,null,{"$f":"COUNTIF('یکسان سازی برند'!C:C,'موجودی خام اولیه با برندمتفاوت'!C:C)","v":0},"کالای جدید، لطفا در شیت یکسان سازی برند، کد و نام کالا کپی شود"]
[null,null,null,{"$f":"COUNTIF('یکسان سازی برند'!C:C,'موجودی خام اولیه با برندمتفاوت'!C:C)","v":0},"کالای جدید، لطفا در شیت یکسان سازی برند، کد و نام کالا کپی شود"]
[null,null,null,{"$f":"COUNTIF('یکسان سازی برند'!C:C,'موجودی خام اولیه با برندمتفاوت'!C:C)","v":0},"کالای جدید، لطفا در شیت یکسان سازی برند، کد و نام کالا کپی شود"]
[null,null,null,{"$f":"COUNTIF('یکسان سازی برند'!C:C,'موجودی خام اولیه با برندمتفاوت'!C:C)","v":0},"کالای جدید، لطفا در شیت یکسان سازی برند، کد و نام کالا کپی شود"]
[null,null,null,{"$f":"COUNTIF('یکسان سازی برند'!C:C,'موجودی خام اولیه با برندمتفاوت'!C:C)","v":0},"کالای جدید، لطفا در شیت یکسان سازی برند، کد و نام کالا کپی شود"]
[null,null,null,{"$f":"COUNTIF('یکسان سازی برند'!C:C,'موجودی خام اولیه با برندمتفاوت'!C:C)","v":0},"کالای جدید، لطفا در شیت یکسان سازی برند، کد و نام کالا کپی شود"]
[null,null,null,{"$f":"COUNTIF('یکسان سازی برند'!C:C,'موجودی خام اولیه با برندمتفاوت'!C:C)","v":0},"کالای جدید، لطفا در شیت یکسان سازی برند، کد و نام کالا کپی شود"]
[null,null,null,{"$f":"COUNTIF('یکسان سازی برند'!C:C,'موجودی خام اولیه با برندمتفاوت'!C:C)","v":0},"کالای جدید، لطفا در شیت یکسان سازی برند، کد و نام کالا کپی شود"]
[null,null,null,{"$f":"COUNTIF('یکسان سازی برند'!C:C,'موجودی خام اولیه با برندمتفاوت'!C:C)","v":0},"کالای جدید، لطفا در شیت یکسان سازی برند، کد و نام کالا کپی شود"]
[null,null,null,{"$f":"COUNTIF('یکسان سازی برند'!C:C,'موجودی خام اولیه با برندمتفاوت'!C:C)","v":0},"کالای جدید، لطفا در شیت یکسان سازی برند، کد و نام کالا کپی شود"]
[null,null,null,{"$f":"COUNTIF('یکسان سازی برند'!C:C,'موجودی خام اولیه با برندمتفاوت'!C:C)","v":0},"کالای جدید، لطفا در شیت یکسان سازی برند، کد و نام کالا کپی شود"]
[null,null,null,{"$f":"COUNTIF('یکسان سازی برند'!C:C,'موجودی خام اولیه با برندمتفاوت'!C:C)","v":0},"کالای جدید، لطفا در شیت یکسان سازی برند، کد و نام کالا کپی شود"]
[null,null,null,{"$f":"COUNTIF('یکسان سازی برند'!C:C,'موجودی خام اولیه با برندمتفاوت'!C:C)","v":0},"کالای جدید، لطفا در شیت یکسان سازی برند، کد و نام کالا کپی شود"]
[null,null,null,{"$f":"COUNTIF('یکسان سازی برند'!C:C,'موجودی خام اولیه با برندمتفاوت'!C:C)","v":0},"کالای جدید، لطفا در شیت یکسان سازی برند، کد و نام کالا کپی شود"]
[null,null,null,{"$f":"COUNTIF('یکسان سازی برند'!C:C,'موجودی خام اولیه با برندمتفاوت'!C:C)","v":0},"کالای جدید، لطفا در شیت یکسان سازی برند، کد و نام کالا کپی شود"]
[null,null,null,{"$f":"COUNTIF('یکسان سازی برند'!C:C,'موجودی خام اولیه با برندمتفاوت'!C:C)","v":0},"کالای جدید، لطفا در شیت یکسان سازی برند، کد و نام کالا کپی شود"]
[null,null,null,{"$f":"COUNTIF('یکسان سازی برند'!C:C,'موجودی خام اولیه با برندمتفاوت'!C:C)","v":0},"کالای جدید، لطفا در شیت یکسان سازی برند، کد و نام کالا کپی شود"]
[null,null,null,{"$f":"COUNTIF('یکسان سازی برند'!C:C,'موجودی خام اولیه با برندمتفاوت'!C:C)","v":0},"کالای جدید، لطفا در شیت یکسان سازی برند، کد و نام کالا کپی شود"]
[null,null,null,{"$f":"COUNTIF('یکسان سازی برند'!C:C,'موجودی خام اولیه با برندمتفاوت'!C:C)","v":0},"کالای جدید، لطفا در شیت یکسان سازی برند، کد و نام کالا کپی شود"]
[null,null,null,{"$f":"COUNTIF('یکسان سازی برند'!C:C,'موجودی خام اولیه با برندمتفاوت'!C:C)","v":0},"کالای جدید، لطفا در شیت یکسان سازی برند، کد و نام کالا کپی شود"]
[null,null,null,{"$f":"COUNTIF('یکسان سازی برند'!C:C,'موجودی خام اولیه با برندمتفاوت'!C:C)","v":0},"کالای جدید، لطفا در شیت یکسان سازی برند، کد و نام کالا کپی شود"]
[null,null,null,{"$f":"COUNTIF('یکسان سازی برند'!C:C,'موجودی خام اولیه با برندمتفاوت'!C:C)","v":0},"کالای جدید، لطفا در شیت یکسان سازی برند، کد و نام کالا کپی شود"]
[null,null,null,{"$f":"COUNTIF('یکسان سازی برند'!C:C,'موجودی خام اولیه با برندمتفاوت'!C:C)","v":0},"کالای جدید، لطفا در شیت یکسان سازی برند، کد و نام کالا کپی شود"]
[null,null,null,{"$f":"COUNTIF('یکسان سازی برند'!C:C,'موجودی خام اولیه با برندمتفاوت'!C:C)","v":0},"کالای جدید، لطفا در شیت یکسان سازی برند، کد و نام کالا کپی شود"]
[null,null,null,{"$f":"COUNTIF('یکسان سازی برند'!C:C,'موجودی خام اولیه با برندمتفاوت'!C:C)","v":0},"کالای جدید، لطفا در شیت یکسان سازی برند، کد و نام کالا کپی شود"]
[null,null,null,{"$f":"COUNTIF('یکسان سازی برند'!C:C,'موجودی خام اولیه با برندمتفاوت'!C:C)","v":0},"کالای جدید، لطفا در شیت یکسان سازی برند، کد و نام کالا کپی شود"]
[null,null,null,{"$f":"COUNTIF('یکسان سازی برند'!C:C,'موجودی خام اولیه با برندمتفاوت'!C:C)","v":0},"کالای جدید، لطفا در شیت یکسان سازی برند، کد و نام کالا کپی شود"]
[null,null,null,{"$f":"COUNTIF('یکسان سازی برند'!C:C,'موجودی خام اولیه با برندمتفاوت'!C:C)","v":0},"کالای جدید، لطفا در شیت یکسان سازی برند، کد و نام کالا کپی شود"]
[null,null,null,{"$f":"COUNTIF('یکسان سازی برند'!C:C,'موجودی خام اولیه با برندمتفاوت'!C:C)","v":0},"کالای جدید، لطفا در شیت یکسان سازی برند، کد و نام کالا کپی شود"]
[null,null,null,{"$f":"COUNTIF('یکسان سازی برند'!C:C,'موجودی خام اولیه با برندمتفاوت'!C:C)","v":0},"کالای جدید، لطفا در شیت یکسان سازی برند، کد و نام کالا کپی شود"]
[null,null,null,{"$f":"COUNTIF('یکسان سازی برند'!C:C,'موجودی خام اولیه با برندمتفاوت'!C:C)","v":0},"کالای جدید، لطفا در شیت یکسان سازی برند، کد و نام کالا کپی شود"]
[null,null,null,{"$f":"COUNTIF('یکسان سازی برند'!C:C,'موجودی خام اولیه با برندمتفاوت'!C:C)","v":0},"کالای جدید، لطفا در شیت یکسان سازی برند، کد و نام کالا کپی شود"]
[null,null,null,{"$f":"COUNTIF('یکسان سازی برند'!C:C,'موجودی خام اولیه با برندمتفاوت'!C:C)","v":0},"کالای جدید، لطفا در شیت یکسان سازی برند، کد و نام کالا کپی شود"]
[null,null,null,{"$f":"COUNTIF('یکسان سازی برند'!C:C,'موجودی خام اولیه با برندمتفاوت'!C:C)","v":0},"کالای جدید، لطفا در شیت یکسان سازی برند، کد و نام کالا کپی شود"]
[null,null,null,{"$f":"COUNTIF('یکسان سازی برند'!C:C,'موجودی خام اولیه با برندمتفاوت'!C:C)","v":0},"کالای جدید، لطفا در شیت یکسان سازی برند، کد و نام کالا کپی شود"]
[null,null,null,{"$f":"COUNTIF('یکسان سازی برند'!C:C,'موجودی خام اولیه با برندمتفاوت'!C:C)","v":0},"کالای جدید، لطفا در شیت یکسان سازی برند، کد و نام کالا کپی شود"]
[null,null,null,{"$f":"COUNTIF('یکسان سازی برند'!C:C,'موجودی خام اولیه با برندمتفاوت'!C:C)","v":0},"کالای جدید، لطفا در شیت یکسان سازی برند، کد و نام کالا کپی شود"]
[null,null,null,{"$f":"COUNTIF('یکسان سازی برند'!C:C,'موجودی خام اولیه با برندمتفاوت'!C:C)","v":0},"کالای جدید، لطفا در شیت یکسان سازی برند، کد و نام کالا کپی شود"]
[null,null,null,{"$f":"COUNTIF('یکسان سازی برند'!C:C,'موجودی خام اولیه با برندمتفاوت'!C:C)","v":0},"کالای جدید، لطفا در شیت یکسان سازی برند، کد و نام کالا کپی شود"]
[null,null,null,{"$f":"COUNTIF('یکسان سازی برند'!C:C,'موجودی خام اولیه با برندمتفاوت'!C:C)","v":0},"کالای جدید، لطفا در شیت یکسان سازی برند، کد و نام کالا کپی شود"]
[null,null,null,{"$f":"COUNTIF('یکسان سازی برند'!C:C,'موجودی خام اولیه با برندمتفاوت'!C:C)","v":0},"کالای جدید، لطفا در شیت یکسان سازی برند، کد و نام کالا کپی شود"]
[null,null,null,{"$f":"COUNTIF('یکسان سازی برند'!C:C,'موجودی خام اولیه با برندمتفاوت'!C:C)","v":0},"کالای جدید، لطفا در شیت یکسان سازی برند، کد و نام کالا کپی شود"]
[null,null,null,{"$f":"COUNTIF('یکسان سازی برند'!C:C,'موجودی خام اولیه با برندمتفاوت'!C:C)","v":0},"کالای جدید، لطفا در شیت یکسان سازی برند، کد و نام کالا کپی شود"]
[null,null,null,{"$f":"COUNTIF('یکسان سازی برند'!C:C,'موجودی خام اولیه با برندمتفاوت'!C:C)","v":0},"کالای جدید، لطفا در شیت یکسان سازی برند، کد و نام کالا کپی شود"]
[null,null,null,{"$f":"COUNTIF('یکسان سازی برند'!C:C,'موجودی خام اولیه با برندمتفاوت'!C:C)","v":0},"کالای جدید، لطفا در شیت یکسان سازی برند، کد و نام کالا کپی شود"]
[null,null,null,{"$f":"COUNTIF('یکسان سازی برند'!C:C,'موجودی خام اولیه با برندمتفاوت'!C:C)","v":0},"کالای جدید، لطفا در شیت یکسان سازی برند، کد و نام کالا کپی شود"]
[null,null,null,{"$f":"COUNTIF('یکسان سازی برند'!C:C,'موجودی خام اولیه با برندمتفاوت'!C:C)","v":0},"کالای جدید، لطفا در شیت یکسان سازی برند، کد و نام کالا کپی شود"]
[null,null,null,{"$f":"COUNTIF('یکسان سازی برند'!C:C,'موجودی خام اولیه با برندمتفاوت'!C:C)","v":0},"کالای جدید، لطفا در شیت یکسان سازی برند، کد و نام کالا کپی شود"]
[null,null,null,{"$f":"COUNTIF('یکسان سازی برند'!C:C,'موجودی خام اولیه با برندمتفاوت'!C:C)","v":0},"کالای جدید، لطفا در شیت یکسان سازی برند، کد و نام کالا کپی شود"]
[null,null,null,{"$f":"COUNTIF('یکسان سازی برند'!C:C,'موجودی خام اولیه با برندمتفاوت'!C:C)","v":0},"کالای جدید، لطفا در شیت یکسان سازی برند، کد و نام کالا کپی شود"]
[null,null,null,{"$f":"COUNTIF('یکسان سازی برند'!C:C,'موجودی خام اولیه با برندمتفاوت'!C:C)","v":0},"کالای جدید، لطفا در شیت یکسان سازی برند، کد و نام کالا کپی شود"]
[null,null,null,{"$f":"COUNTIF('یکسان سازی برند'!C:C,'موجودی خام اولیه با برندمتفاوت'!C:C)","v":0},"کالای جدید، لطفا در شیت یکسان سازی برند، کد و نام کالا کپی شود"]
[null,null,null,{"$f":"COUNTIF('یکسان سازی برند'!C:C,'موجودی خام اولیه با برندمتفاوت'!C:C)","v":0},"کالای جدید، لطفا در شیت یکسان سازی برند، کد و نام کالا کپی شود"]
[null,null,null,{"$f":"COUNTIF('یکسان سازی برند'!C:C,'موجودی خام اولیه با برندمتفاوت'!C:C)","v":0},"کالای جدید، لطفا در شیت یکسان سازی برند، کد و نام کالا کپی شود"]
[null,null,null,{"$f":"COUNTIF('یکسان سازی برند'!C:C,'موجودی خام اولیه با برندمتفاوت'!C:C)","v":0},"کالای جدید، لطفا در شیت یکسان سازی برند، کد و نام کالا کپی شود"]
[null,null,null,{"$f":"COUNTIF('یکسان سازی برند'!C:C,'موجودی خام اولیه با برندمتفاوت'!C:C)","v":0},"کالای جدید، لطفا در شیت یکسان سازی برند، کد و نام کالا کپی شود"]
[null,null,null,{"$f":"COUNTIF('یکسان سازی برند'!C:C,'موجودی خام اولیه با برندمتفاوت'!C:C)","v":0},"کالای جدید، لطفا در شیت یکسان سازی برند، کد و نام کالا کپی شود"]
[null,null,null,{"$f":"COUNTIF('یکسان سازی برند'!C:C,'موجودی خام اولیه با برندمتفاوت'!C:C)","v":0},"کالای جدید، لطفا در شیت یکسان سازی برند، کد و نام کالا کپی شود"]
[null,null,null,{"$f":"COUNTIF('یکسان سازی برند'!C:C,'موجودی خام اولیه با برندمتفاوت'!C:C)","v":0},"کالای جدید، لطفا در شیت یکسان سازی برند، کد و نام کالا کپی شود"]
[null,null,null,{"$f":"COUNTIF('یکسان سازی برند'!C:C,'موجودی خام اولیه با برندمتفاوت'!C:C)","v":0},{"$f":"IF(D:D=0,\"کالای جدید، لطفا در شیت یکسان سازی برند، کد و نام کالا کپی شود\",\"\")","v":"کالای جدید، لطفا در شیت یکسان سازی برند، کد و نام کالا کپی شود"}]
[null,null,null,{"$f":"COUNTIF('یکسان سازی برند'!C:C,'موجودی خام اولیه با برندمتفاوت'!C:C)","v":0},"کالای جدید، لطفا در شیت یکسان سازی برند، کد و نام کالا کپی شود"]
[null,null,null,{"$f":"COUNTIF('یکسان سازی برند'!C:C,'موجودی خام اولیه با برندمتفاوت'!C:C)","v":0},"کالای جدید، لطفا در شیت یکسان سازی برند، کد و نام کالا کپی شود"]
[null,null,null,{"$f":"COUNTIF('یکسان سازی برند'!C:C,'موجودی خام اولیه با برندمتفاوت'!C:C)","v":0},"کالای جدید، لطفا در شیت یکسان سازی برند، کد و نام کالا کپی شود"]
[null,null,null,{"$f":"COUNTIF('یکسان سازی برند'!C:C,'موجودی خام اولیه با برندمتفاوت'!C:C)","v":0},"کالای جدید، لطفا در شیت یکسان سازی برند، کد و نام کالا کپی شود"]
[null,null,null,{"$f":"COUNTIF('یکسان سازی برند'!C:C,'موجودی خام اولیه با برندمتفاوت'!C:C)","v":0},"کالای جدید، لطفا در شیت یکسان سازی برند، کد و نام کالا کپی شود"]
[null,null,null,{"$f":"COUNTIF('یکسان سازی برند'!C:C,'موجودی خام اولیه با برندمتفاوت'!C:C)","v":0},"کالای جدید، لطفا در شیت یکسان سازی برند، کد و نام کالا کپی شود"]
[null,null,null,{"$f":"COUNTIF('یکسان سازی برند'!C:C,'موجودی خام اولیه با برندمتفاوت'!C:C)","v":0},"کالای جدید، لطفا در شیت یکسان سازی برند، کد و نام کالا کپی شود"]
[null,null,null,{"$f":"COUNTIF('یکسان سازی برند'!C:C,'موجودی خام اولیه با برندمتفاوت'!C:C)","v":0},"کالای جدید، لطفا در شیت یکسان سازی برند، کد و نام کالا کپی شود"]
[null,null,null,{"$f":"COUNTIF('یکسان سازی برند'!C:C,'موجودی خام اولیه با برندمتفاوت'!C:C)","v":0},"کالای جدید، لطفا در شیت یکسان سازی برند، کد و نام کالا کپی شود"]
[null,null,null,{"$f":"COUNTIF('یکسان سازی برند'!C:C,'موجودی خام اولیه با برندمتفاوت'!C:C)","v":0},"کالای جدید، لطفا در شیت یکسان سازی برند، کد و نام کالا کپی شود"]
[null,null,null,{"$f":"COUNTIF('یکسان سازی برند'!C:C,'موجودی خام اولیه با برندمتفاوت'!C:C)","v":0},"کالای جدید، لطفا در شیت یکسان سازی برند، کد و نام کالا کپی شود"]
[null,null,null,{"$f":"COUNTIF('یکسان سازی برند'!C:C,'موجودی خام اولیه با برندمتفاوت'!C:C)","v":0},"کالای جدید، لطفا در شیت یکسان سازی برند، کد و نام کالا کپی شود"]
[null,null,null,{"$f":"COUNTIF('یکسان سازی برند'!C:C,'موجودی خام اولیه با برندمتفاوت'!C:C)","v":0},"کالای جدید، لطفا در شیت یکسان سازی برند، کد و نام کالا کپی شود"]
[null,null,null,{"$f":"COUNTIF('یکسان سازی برند'!C:C,'موجودی خام اولیه با برندمتفاوت'!C:C)","v":0},"کالای جدید، لطفا در شیت یکسان سازی برند، کد و نام کالا کپی شود"]
[null,null,null,{"$f":"COUNTIF('یکسان سازی برند'!C:C,'موجودی خام اولیه با برندمتفاوت'!C:C)","v":0},"کالای جدید، لطفا در شیت یکسان سازی برند، کد و نام کالا کپی شود"]
[null,null,null,{"$f":"COUNTIF('یکسان سازی برند'!C:C,'موجودی خام اولیه با برندمتفاوت'!C:C)","v":0},"کالای جدید، لطفا در شیت یکسان سازی برند، کد و نام کالا کپی شود"]
[null,null,null,{"$f":"COUNTIF('یکسان سازی برند'!C:C,'موجودی خام اولیه با برندمتفاوت'!C:C)","v":0},"کالای جدید، لطفا در شیت یکسان سازی برند، کد و نام کالا کپی شود"]
[null,null,null,{"$f":"COUNTIF('یکسان سازی برند'!C:C,'موجودی خام اولیه با برندمتفاوت'!C:C)","v":0},"کالای جدید، لطفا در شیت یکسان سازی برند، کد و نام کالا کپی شود"]
[null,null,null,{"$f":"COUNTIF('یکسان سازی برند'!C:C,'موجودی خام اولیه با برندمتفاوت'!C:C)","v":0},"کالای جدید، لطفا در شیت یکسان سازی برند، کد و نام کالا کپی شود"]
[null,null,null,{"$f":"COUNTIF('یکسان سازی برند'!C:C,'موجودی خام اولیه با برندمتفاوت'!C:C)","v":0},"کالای جدید، لطفا در شیت یکسان سازی برند، کد و نام کالا کپی شود"]
[null,null,null,{"$f":"COUNTIF('یکسان سازی برند'!C:C,'موجودی خام اولیه با برندمتفاوت'!C:C)","v":0},"کالای جدید، لطفا در شیت یکسان سازی برند، کد و نام کالا کپی شود"]
[null,null,null,{"$f":"COUNTIF('یکسان سازی برند'!C:C,'موجودی خام اولیه با برندمتفاوت'!C:C)","v":0},"کالای جدید، لطفا در شیت یکسان سازی برند، کد و نام کالا کپی شود"]
[null,null,null,{"$f":"COUNTIF('یکسان سازی برند'!C:C,'موجودی خام اولیه با برندمتفاوت'!C:C)","v":0},"کالای جدید، لطفا در شیت یکسان سازی برند، کد و نام کالا کپی شود"]
[null,null,null,{"$f":"COUNTIF('یکسان سازی برند'!C:C,'موجودی خام اولیه با برندمتفاوت'!C:C)","v":0},"کالای جدید، لطفا در شیت یکسان سازی برند، کد و نام کالا کپی شود"]
[null,null,null,{"$f":"COUNTIF('یکسان سازی برند'!C:C,'موجودی خام اولیه با برندمتفاوت'!C:C)","v":0},"کالای جدید، لطفا در شیت یکسان سازی برند، کد و نام کالا کپی شود"]
[null,null,null,{"$f":"COUNTIF('یکسان سازی برند'!C:C,'موجودی خام اولیه با برندمتفاوت'!C:C)","v":0},"کالای جدید، لطفا در شیت یکسان سازی برند، کد و نام کالا کپی شود"]
[null,null,null,{"$f":"COUNTIF('یکسان سازی برند'!C:C,'موجودی خام اولیه با برندمتفاوت'!C:C)","v":0},"کالای جدید، لطفا در شیت یکسان سازی برند، کد و نام کالا کپی شود"]
[null,null,null,{"$f":"COUNTIF('یکسان سازی برند'!C:C,'موجودی خام اولیه با برندمتفاوت'!C:C)","v":0},"کالای جدید، لطفا در شیت یکسان سازی برند، کد و نام کالا کپی شود"]
[null,null,null,{"$f":"COUNTIF('یکسان سازی برند'!C:C,'موجودی خام اولیه با برندمتفاوت'!C:C)","v":0},"کالای جدید، لطفا در شیت یکسان سازی برند، کد و نام کالا کپی شود"]
[null,null,null,{"$f":"COUNTIF('یکسان سازی برند'!C:C,'موجودی خام اولیه با برندمتفاوت'!C:C)","v":0},"کالای جدید، لطفا در شیت یکسان سازی برند، کد و نام کالا کپی شود"]
[null,null,null,{"$f":"COUNTIF('یکسان سازی برند'!C:C,'موجودی خام اولیه با برندمتفاوت'!C:C)","v":0},"کالای جدید، لطفا در شیت یکسان سازی برند، کد و نام کالا کپی شود"]
[null,null,null,{"$f":"COUNTIF('یکسان سازی برند'!C:C,'موجودی خام اولیه با برندمتفاوت'!C:C)","v":0},"کالای جدید، لطفا در شیت یکسان سازی برند، کد و نام کالا کپی شود"]
[null,null,null,{"$f":"COUNTIF('یکسان سازی برند'!C:C,'موجودی خام اولیه با برندمتفاوت'!C:C)","v":0},"کالای جدید، لطفا در شیت یکسان سازی برند، کد و نام کالا کپی شود"]
[null,null,null,{"$f":"COUNTIF('یکسان سازی برند'!C:C,'موجودی خام اولیه با برندمتفاوت'!C:C)","v":0},"کالای جدید، لطفا در شیت یکسان سازی برند، کد و نام کالا کپی شود"]
[null,null,null,{"$f":"COUNTIF('یکسان سازی برند'!C:C,'موجودی خام اولیه با برندمتفاوت'!C:C)","v":0},"کالای جدید، لطفا در شیت یکسان سازی برند، کد و نام کالا کپی شود"]
[null,null,null,{"$f":"COUNTIF('یکسان سازی برند'!C:C,'موجودی خام اولیه با برندمتفاوت'!C:C)","v":0},"کالای جدید، لطفا در شیت یکسان سازی برند، کد و نام کالا کپی شود"]
[null,null,null,{"$f":"COUNTIF('یکسان سازی برند'!C:C,'موجودی خام اولیه با برندمتفاوت'!C:C)","v":0},"کالای جدید، لطفا در شیت یکسان سازی برند، کد و نام کالا کپی شود"]
[null,null,null,{"$f":"COUNTIF('یکسان سازی برند'!C:C,'موجودی خام اولیه با برندمتفاوت'!C:C)","v":0},"کالای جدید، لطفا در شیت یکسان سازی برند، کد و نام کالا کپی شود"]
[null,null,null,{"$f":"COUNTIF('یکسان سازی برند'!C:C,'موجودی خام اولیه با برندمتفاوت'!C:C)","v":0},"کالای جدید، لطفا در شیت یکسان سازی برند، کد و نام کالا کپی شود"]
[null,null,null,{"$f":"COUNTIF('یکسان سازی برند'!C:C,'موجودی خام اولیه با برندمتفاوت'!C:C)","v":0},"کالای جدید، لطفا در شیت یکسان سازی برند، کد و نام کالا کپی شود"]
[null,null,null,{"$f":"COUNTIF('یکسان سازی برند'!C:C,'موجودی خام اولیه با برندمتفاوت'!C:C)","v":0},"کالای جدید، لطفا در شیت یکسان سازی برند، کد و نام کالا کپی شود"]
[null,null,null,{"$f":"COUNTIF('یکسان سازی برند'!C:C,'موجودی خام اولیه با برندمتفاوت'!C:C)","v":0},"کالای جدید، لطفا در شیت یکسان سازی برند، کد و نام کالا کپی شود"]
[null,null,null,{"$f":"COUNTIF('یکسان سازی برند'!C:C,'موجودی خام اولیه با برندمتفاوت'!C:C)","v":0},"کالای جدید، لطفا در شیت یکسان سازی برند، کد و نام کالا کپی شود"]
[null,null,null,{"$f":"COUNTIF('یکسان سازی برند'!C:C,'موجودی خام اولیه با برندمتفاوت'!C:C)","v":0},"کالای جدید، لطفا در شیت یکسان سازی برند، کد و نام کالا کپی شود"]
[null,null,null,{"$f":"COUNTIF('یکسان سازی برند'!C:C,'موجودی خام اولیه با برندمتفاوت'!C:C)","v":0},"کالای جدید، لطفا در شیت یکسان سازی برند، کد و نام کالا کپی شود"]
[null,null,null,{"$f":"COUNTIF('یکسان سازی برند'!C:C,'موجودی خام اولیه با برندمتفاوت'!C:C)","v":0},"کالای جدید، لطفا در شیت یکسان سازی برند، کد و نام کالا کپی شود"]
[null,null,null,{"$f":"COUNTIF('یکسان سازی برند'!C:C,'موجودی خام اولیه با برندمتفاوت'!C:C)","v":0},"کالای جدید، لطفا در شیت یکسان سازی برند، کد و نام کالا کپی شود"]
[null,null,null,{"$f":"COUNTIF('یکسان سازی برند'!C:C,'موجودی خام اولیه با برندمتفاوت'!C:C)","v":0},"کالای جدید، لطفا در شیت یکسان سازی برند، کد و نام کالا کپی شود"]
[null,null,null,{"$f":"COUNTIF('یکسان سازی برند'!C:C,'موجودی خام اولیه با برندمتفاوت'!C:C)","v":0},"کالای جدید، لطفا در شیت یکسان سازی برند، کد و نام کالا کپی شود"]
[null,null,null,{"$f":"COUNTIF('یکسان سازی برند'!C:C,'موجودی خام اولیه با برندمتفاوت'!C:C)","v":0},"کالای جدید، لطفا در شیت یکسان سازی برند، کد و نام کالا کپی شود"]
[null,null,null,{"$f":"COUNTIF('یکسان سازی برند'!C:C,'موجودی خام اولیه با برندمتفاوت'!C:C)","v":0},"کالای جدید، لطفا در شیت یکسان سازی برند، کد و نام کالا کپی شود"]
[null,null,null,{"$f":"COUNTIF('یکسان سازی برند'!C:C,'موجودی خام اولیه با برندمتفاوت'!C:C)","v":0},"کالای جدید، لطفا در شیت یکسان سازی برند، کد و نام کالا کپی شود"]
[null,null,null,{"$f":"COUNTIF('یکسان سازی برند'!C:C,'موجودی خام اولیه با برندمتفاوت'!C:C)","v":0},"کالای جدید، لطفا در شیت یکسان سازی برند، کد و نام کالا کپی شود"]
[null,null,null,{"$f":"COUNTIF('یکسان سازی برند'!C:C,'موجودی خام اولیه با برندمتفاوت'!C:C)","v":0},"کالای جدید، لطفا در شیت یکسان سازی برند، کد و نام کالا کپی شود"]
[null,null,null,{"$f":"COUNTIF('یکسان سازی برند'!C:C,'موجودی خام اولیه با برندمتفاوت'!C:C)","v":0},"کالای جدید، لطفا در شیت یکسان سازی برند، کد و نام کالا کپی شود"]
[null,null,null,{"$f":"COUNTIF('یکسان سازی برند'!C:C,'موجودی خام اولیه با برندمتفاوت'!C:C)","v":0},"کالای جدید، لطفا در شیت یکسان سازی برند، کد و نام کالا کپی شود"]
[null,null,null,{"$f":"COUNTIF('یکسان سازی برند'!C:C,'موجودی خام اولیه با برندمتفاوت'!C:C)","v":0},"کالای جدید، لطفا در شیت یکسان سازی برند، کد و نام کالا کپی شود"]
[null,null,null,{"$f":"COUNTIF('یکسان سازی برند'!C:C,'موجودی خام اولیه با برندمتفاوت'!C:C)","v":0},"کالای جدید، لطفا در شیت یکسان سازی برند، کد و نام کالا کپی شود"]
[null,null,null,{"$f":"COUNTIF('یکسان سازی برند'!C:C,'موجودی خام اولیه با برندمتفاوت'!C:C)","v":0},"کالای جدید، لطفا در شیت یکسان سازی برند، کد و نام کالا کپی شود"]
[null,null,null,{"$f":"COUNTIF('یکسان سازی برند'!C:C,'موجودی خام اولیه با برندمتفاوت'!C:C)","v":0},"کالای جدید، لطفا در شیت یکسان سازی برند، کد و نام کالا کپی شود"]
[null,null,null,{"$f":"COUNTIF('یکسان سازی برند'!C:C,'موجودی خام اولیه با برندمتفاوت'!C:C)","v":0},"کالای جدید، لطفا در شیت یکسان سازی برند، کد و نام کالا کپی شود"]
[null,null,null,{"$f":"COUNTIF('یکسان سازی برند'!C:C,'موجودی خام اولیه با برندمتفاوت'!C:C)","v":0},"کالای جدید، لطفا در شیت یکسان سازی برند، کد و نام کالا کپی شود"]
[null,null,null,{"$f":"COUNTIF('یکسان سازی برند'!C:C,'موجودی خام اولیه با برندمتفاوت'!C:C)","v":0},"کالای جدید، لطفا در شیت یکسان سازی برند، کد و نام کالا کپی شود"]
[null,null,null,{"$f":"COUNTIF('یکسان سازی برند'!C:C,'موجودی خام اولیه با برندمتفاوت'!C:C)","v":0},{"$f":"IF(D:D=0,\"کالای جدید، لطفا در شیت یکسان سازی برند، کد و نام کالا کپی شود\",\"\")","v":"کالای جدید، لطفا در شیت یکسان سازی برند، کد و نام کالا کپی شود"}]
[null,null,null,{"$f":"COUNTIF('یکسان سازی برند'!C:C,'موجودی خام اولیه با برندمتفاوت'!C:C)","v":0},"کالای جدید، لطفا در شیت یکسان سازی برند، کد و نام کالا کپی شود"]
[null,null,null,{"$f":"COUNTIF('یکسان سازی برند'!C:C,'موجودی خام اولیه با برندمتفاوت'!C:C)","v":0},"کالای جدید، لطفا در شیت یکسان سازی برند، کد و نام کالا کپی شود"]
[null,null,null,{"$f":"COUNTIF('یکسان سازی برند'!C:C,'موجودی خام اولیه با برندمتفاوت'!C:C)","v":0},"کالای جدید، لطفا در شیت یکسان سازی برند، کد و نام کالا کپی شود"]
[null,null,null,{"$f":"COUNTIF('یکسان سازی برند'!C:C,'موجودی خام اولیه با برندمتفاوت'!C:C)","v":0},"کالای جدید، لطفا در شیت یکسان سازی برند، کد و نام کالا کپی شود"]
[null,null,null,{"$f":"COUNTIF('یکسان سازی برند'!C:C,'موجودی خام اولیه با برندمتفاوت'!C:C)","v":0},"کالای جدید، لطفا در شیت یکسان سازی برند، کد و نام کالا کپی شود"]
[null,null,null,{"$f":"COUNTIF('یکسان سازی برند'!C:C,'موجودی خام اولیه با برندمتفاوت'!C:C)","v":0},"کالای جدید، لطفا در شیت یکسان سازی برند، کد و نام کالا کپی شود"]
[null,null,null,{"$f":"COUNTIF('یکسان سازی برند'!C:C,'موجودی خام اولیه با برندمتفاوت'!C:C)","v":0},"کالای جدید، لطفا در شیت یکسان سازی برند، کد و نام کالا کپی شود"]
[null,null,null,{"$f":"COUNTIF('یکسان سازی برند'!C:C,'موجودی خام اولیه با برندمتفاوت'!C:C)","v":0},"کالای جدید، لطفا در شیت یکسان سازی برند، کد و نام کالا کپی شود"]
[null,null,null,{"$f":"COUNTIF('یکسان سازی برند'!C:C,'موجودی خام اولیه با برندمتفاوت'!C:C)","v":0},"کالای جدید، لطفا در شیت یکسان سازی برند، کد و نام کالا کپی شود"]
[null,null,null,{"$f":"COUNTIF('یکسان سازی برند'!C:C,'موجودی خام اولیه با برندمتفاوت'!C:C)","v":0},"کالای جدید، لطفا در شیت یکسان سازی برند، کد و نام کالا کپی شود"]
[null,null,null,{"$f":"COUNTIF('یکسان سازی برند'!C:C,'موجودی خام اولیه با برندمتفاوت'!C:C)","v":0},"کالای جدید، لطفا در شیت یکسان سازی برند، کد و نام کالا کپی شود"]
[null,null,null,{"$f":"COUNTIF('یکسان سازی برند'!C:C,'موجودی خام اولیه با برندمتفاوت'!C:C)","v":0},"کالای جدید، لطفا در شیت یکسان سازی برند، کد و نام کالا کپی شود"]
[null,null,null,{"$f":"COUNTIF('یکسان سازی برند'!C:C,'موجودی خام اولیه با برندمتفاوت'!C:C)","v":0},"کالای جدید، لطفا در شیت یکسان سازی برند، کد و نام کالا کپی شود"]
[null,null,null,{"$f":"COUNTIF('یکسان سازی برند'!C:C,'موجودی خام اولیه با برندمتفاوت'!C:C)","v":0},"کالای جدید، لطفا در شیت یکسان سازی برند، کد و نام کالا کپی شود"]
[null,null,null,{"$f":"COUNTIF('یکسان سازی برند'!C:C,'موجودی خام اولیه با برندمتفاوت'!C:C)","v":0},"کالای جدید، لطفا در شیت یکسان سازی برند، کد و نام کالا کپی شود"]
[null,null,null,{"$f":"COUNTIF('یکسان سازی برند'!C:C,'موجودی خام اولیه با برندمتفاوت'!C:C)","v":0},"کالای جدید، لطفا در شیت یکسان سازی برند، کد و نام کالا کپی شود"]
[null,null,null,{"$f":"COUNTIF('یکسان سازی برند'!C:C,'موجودی خام اولیه با برندمتفاوت'!C:C)","v":0},"کالای جدید، لطفا در شیت یکسان سازی برند، کد و نام کالا کپی شود"]
[null,null,null,{"$f":"COUNTIF('یکسان سازی برند'!C:C,'موجودی خام اولیه با برندمتفاوت'!C:C)","v":0},"کالای جدید، لطفا در شیت یکسان سازی برند، کد و نام کالا کپی شود"]
[null,null,null,{"$f":"COUNTIF('یکسان سازی برند'!C:C,'موجودی خام اولیه با برندمتفاوت'!C:C)","v":0},"کالای جدید، لطفا در شیت یکسان سازی برند، کد و نام کالا کپی شود"]
[null,null,null,{"$f":"COUNTIF('یکسان سازی برند'!C:C,'موجودی خام اولیه با برندمتفاوت'!C:C)","v":0},"کالای جدید، لطفا در شیت یکسان سازی برند، کد و نام کالا کپی شود"]
[null,null,null,{"$f":"COUNTIF('یکسان سازی برند'!C:C,'موجودی خام اولیه با برندمتفاوت'!C:C)","v":0},"کالای جدید، لطفا در شیت یکسان سازی برند، کد و نام کالا کپی شود"]
[null,null,null,{"$f":"COUNTIF('یکسان سازی برند'!C:C,'موجودی خام اولیه با برندمتفاوت'!C:C)","v":0},"کالای جدید، لطفا در شیت یکسان سازی برند، کد و نام کالا کپی شود"]
[null,null,null,{"$f":"COUNTIF('یکسان سازی برند'!C:C,'موجودی خام اولیه با برندمتفاوت'!C:C)","v":0},"کالای جدید، لطفا در شیت یکسان سازی برند، کد و نام کالا کپی شود"]
[null,null,null,{"$f":"COUNTIF('یکسان سازی برند'!C:C,'موجودی خام اولیه با برندمتفاوت'!C:C)","v":0},"کالای جدید، لطفا در شیت یکسان سازی برند، کد و نام کالا کپی شود"]
[null,null,null,{"$f":"COUNTIF('یکسان سازی برند'!C:C,'موجودی خام اولیه با برندمتفاوت'!C:C)","v":0},"کالای جدید، لطفا در شیت یکسان سازی برند، کد و نام کالا کپی شود"]
[null,null,null,{"$f":"COUNTIF('یکسان سازی برند'!C:C,'موجودی خام اولیه با برندمتفاوت'!C:C)","v":0},"کالای جدید، لطفا در شیت یکسان سازی برند، کد و نام کالا کپی شود"]
[null,null,null,{"$f":"COUNTIF('یکسان سازی برند'!C:C,'موجودی خام اولیه با برندمتفاوت'!C:C)","v":0},"کالای جدید، لطفا در شیت یکسان سازی برند، کد و نام کالا کپی شود"]
[null,null,null,{"$f":"COUNTIF('یکسان سازی برند'!C:C,'موجودی خام اولیه با برندمتفاوت'!C:C)","v":0},"کالای جدید، لطفا در شیت یکسان سازی برند، کد و نام کالا کپی شود"]
[null,null,null,{"$f":"COUNTIF('یکسان سازی برند'!C:C,'موجودی خام اولیه با برندمتفاوت'!C:C)","v":0},"کالای جدید، لطفا در شیت یکسان سازی برند، کد و نام کالا کپی شود"]
[null,null,null,{"$f":"COUNTIF('یکسان سازی برند'!C:C,'موجودی خام اولیه با برندمتفاوت'!C:C)","v":0},"کالای جدید، لطفا در شیت یکسان سازی برند، کد و نام کالا کپی شود"]
[null,null,null,{"$f":"COUNTIF('یکسان سازی برند'!C:C,'موجودی خام اولیه با برندمتفاوت'!C:C)","v":0},"کالای جدید، لطفا در شیت یکسان سازی برند، کد و نام کالا کپی شود"]
[null,null,null,{"$f":"COUNTIF('یکسان سازی برند'!C:C,'موجودی خام اولیه با برندمتفاوت'!C:C)","v":0},"کالای جدید، لطفا در شیت یکسان سازی برند، کد و نام کالا کپی شود"]
[null,null,null,{"$f":"COUNTIF('یکسان سازی برند'!C:C,'موجودی خام اولیه با برندمتفاوت'!C:C)","v":0},"کالای جدید، لطفا در شیت یکسان سازی برند، کد و نام کالا کپی شود"]
[null,null,null,{"$f":"COUNTIF('یکسان سازی برند'!C:C,'موجودی خام اولیه با برندمتفاوت'!C:C)","v":0},"کالای جدید، لطفا در شیت یکسان سازی برند، کد و نام کالا کپی شود"]
[null,null,null,{"$f":"COUNTIF('یکسان سازی برند'!C:C,'موجودی خام اولیه با برندمتفاوت'!C:C)","v":0},"کالای جدید، لطفا در شیت یکسان سازی برند، کد و نام کالا کپی شود"]
[null,null,null,{"$f":"COUNTIF('یکسان سازی برند'!C:C,'موجودی خام اولیه با برندمتفاوت'!C:C)","v":0},"کالای جدید، لطفا در شیت یکسان سازی برند، کد و نام کالا کپی شود"]
[null,null,null,{"$f":"COUNTIF('یکسان سازی برند'!C:C,'موجودی خام اولیه با برندمتفاوت'!C:C)","v":0},"کالای جدید، لطفا در شیت یکسان سازی برند، کد و نام کالا کپی شود"]
[null,null,null,{"$f":"COUNTIF('یکسان سازی برند'!C:C,'موجودی خام اولیه با برندمتفاوت'!C:C)","v":0},"کالای جدید، لطفا در شیت یکسان سازی برند، کد و نام کالا کپی شود"]
[null,null,null,{"$f":"COUNTIF('یکسان سازی برند'!C:C,'موجودی خام اولیه با برندمتفاوت'!C:C)","v":0},"کالای جدید، لطفا در شیت یکسان سازی برند، کد و نام کالا کپی شود"]
[null,null,null,{"$f":"COUNTIF('یکسان سازی برند'!C:C,'موجودی خام اولیه با برندمتفاوت'!C:C)","v":0},"کالای جدید، لطفا در شیت یکسان سازی برند، کد و نام کالا کپی شود"]
[null,null,null,{"$f":"COUNTIF('یکسان سازی برند'!C:C,'موجودی خام اولیه با برندمتفاوت'!C:C)","v":0},"کالای جدید، لطفا در شیت یکسان سازی برند، کد و نام کالا کپی شود"]
[null,null,null,{"$f":"COUNTIF('یکسان سازی برند'!C:C,'موجودی خام اولیه با برندمتفاوت'!C:C)","v":0},"کالای جدید، لطفا در شیت یکسان سازی برند، کد و نام کالا کپی شود"]
[null,null,null,{"$f":"COUNTIF('یکسان سازی برند'!C:C,'موجودی خام اولیه با برندمتفاوت'!C:C)","v":0},"کالای جدید، لطفا در شیت یکسان سازی برند، کد و نام کالا کپی شود"]
[null,null,null,{"$f":"COUNTIF('یکسان سازی برند'!C:C,'موجودی خام اولیه با برندمتفاوت'!C:C)","v":0},"کالای جدید، لطفا در شیت یکسان سازی برند، کد و نام کالا کپی شود"]
[null,null,null,{"$f":"COUNTIF('یکسان سازی برند'!C:C,'موجودی خام اولیه با برندمتفاوت'!C:C)","v":0},"کالای جدید، لطفا در شیت یکسان سازی برند، کد و نام کالا کپی شود"]
[null,null,null,{"$f":"COUNTIF('یکسان سازی برند'!C:C,'موجودی خام اولیه با برندمتفاوت'!C:C)","v":0},"کالای جدید، لطفا در شیت یکسان سازی برند، کد و نام کالا کپی شود"]
[null,null,null,{"$f":"COUNTIF('یکسان سازی برند'!C:C,'موجودی خام اولیه با برندمتفاوت'!C:C)","v":0},"کالای جدید، لطفا در شیت یکسان سازی برند، کد و نام کالا کپی شود"]
[null,null,null,{"$f":"COUNTIF('یکسان سازی برند'!C:C,'موجودی خام اولیه با برندمتفاوت'!C:C)","v":0},"کالای جدید، لطفا در شیت یکسان سازی برند، کد و نام کالا کپی شود"]
[null,null,null,{"$f":"COUNTIF('یکسان سازی برند'!C:C,'موجودی خام اولیه با برندمتفاوت'!C:C)","v":0},"کالای جدید، لطفا در شیت یکسان سازی برند، کد و نام کالا کپی شود"]
[null,null,null,{"$f":"COUNTIF('یکسان سازی برند'!C:C,'موجودی خام اولیه با برندمتفاوت'!C:C)","v":0},"کالای جدید، لطفا در شیت یکسان سازی برند، کد و نام کالا کپی شود"]
[null,null,null,{"$f":"COUNTIF('یکسان سازی برند'!C:C,'موجودی خام اولیه با برندمتفاوت'!C:C)","v":0},"کالای جدید، لطفا در شیت یکسان سازی برند، کد و نام کالا کپی شود"]
[null,null,null,{"$f":"COUNTIF('یکسان سازی برند'!C:C,'موجودی خام اولیه با برندمتفاوت'!C:C)","v":0},"کالای جدید، لطفا در شیت یکسان سازی برند، کد و نام کالا کپی شود"]
[null,null,null,{"$f":"COUNTIF('یکسان سازی برند'!C:C,'موجودی خام اولیه با برندمتفاوت'!C:C)","v":0},"کالای جدید، لطفا در شیت یکسان سازی برند، کد و نام کالا کپی شود"]
[null,null,null,{"$f":"COUNTIF('یکسان سازی برند'!C:C,'موجودی خام اولیه با برندمتفاوت'!C:C)","v":0},"کالای جدید، لطفا در شیت یکسان سازی برند، کد و نام کالا کپی شود"]
[null,null,null,{"$f":"COUNTIF('یکسان سازی برند'!C:C,'موجودی خام اولیه با برندمتفاوت'!C:C)","v":0},"کالای جدید، لطفا در شیت یکسان سازی برند، کد و نام کالا کپی شود"]
[null,null,null,{"$f":"COUNTIF('یکسان سازی برند'!C:C,'موجودی خام اولیه با برندمتفاوت'!C:C)","v":0},"کالای جدید، لطفا در شیت یکسان سازی برند، کد و نام کالا کپی شود"]
[null,null,null,{"$f":"COUNTIF('یکسان سازی برند'!C:C,'موجودی خام اولیه با برندمتفاوت'!C:C)","v":0},"کالای جدید، لطفا در شیت یکسان سازی برند، کد و نام کالا کپی شود"]
[null,null,null,{"$f":"COUNTIF('یکسان سازی برند'!C:C,'موجودی خام اولیه با برندمتفاوت'!C:C)","v":0},"کالای جدید، لطفا در شیت یکسان سازی برند، کد و نام کالا کپی شود"]
[null,null,null,{"$f":"COUNTIF('یکسان سازی برند'!C:C,'موجودی خام اولیه با برندمتفاوت'!C:C)","v":0},"کالای جدید، لطفا در شیت یکسان سازی برند، کد و نام کالا کپی شود"]
[null,null,null,{"$f":"COUNTIF('یکسان سازی برند'!C:C,'موجودی خام اولیه با برندمتفاوت'!C:C)","v":0},"کالای جدید، لطفا در شیت یکسان سازی برند، کد و نام کالا کپی شود"]
[null,null,null,{"$f":"COUNTIF('یکسان سازی برند'!C:C,'موجودی خام اولیه با برندمتفاوت'!C:C)","v":0},"کالای جدید، لطفا در شیت یکسان سازی برند، کد و نام کالا کپی شود"]
[null,null,null,{"$f":"COUNTIF('یکسان سازی برند'!C:C,'موجودی خام اولیه با برندمتفاوت'!C:C)","v":0},"کالای جدید، لطفا در شیت یکسان سازی برند، کد و نام کالا کپی شود"]
[null,null,null,{"$f":"COUNTIF('یکسان سازی برند'!C:C,'موجودی خام اولیه با برندمتفاوت'!C:C)","v":0},"کالای جدید، لطفا در شیت یکسان سازی برند، کد و نام کالا کپی شود"]
[null,null,null,{"$f":"COUNTIF('یکسان سازی برند'!C:C,'موجودی خام اولیه با برندمتفاوت'!C:C)","v":0},{"$f":"IF(D:D=0,\"کالای جدید، لطفا در شیت یکسان سازی برند، کد و نام کالا کپی شود\",\"\")","v":"کالای جدید، لطفا در شیت یکسان سازی برند، کد و نام کالا کپی شود"}]
[null,null,null,{"$f":"COUNTIF('یکسان سازی برند'!C:C,'موجودی خام اولیه با برندمتفاوت'!C:C)","v":0},"کالای جدید، لطفا در شیت یکسان سازی برند، کد و نام کالا کپی شود"]
[null,null,null,{"$f":"COUNTIF('یکسان سازی برند'!C:C,'موجودی خام اولیه با برندمتفاوت'!C:C)","v":0},"کالای جدید، لطفا در شیت یکسان سازی برند، کد و نام کالا کپی شود"]
[null,null,null,{"$f":"COUNTIF('یکسان سازی برند'!C:C,'موجودی خام اولیه با برندمتفاوت'!C:C)","v":0},"کالای جدید، لطفا در شیت یکسان سازی برند، کد و نام کالا کپی شود"]
[null,null,null,{"$f":"COUNTIF('یکسان سازی برند'!C:C,'موجودی خام اولیه با برندمتفاوت'!C:C)","v":0},"کالای جدید، لطفا در شیت یکسان سازی برند، کد و نام کالا کپی شود"]
[null,null,null,{"$f":"COUNTIF('یکسان سازی برند'!C:C,'موجودی خام اولیه با برندمتفاوت'!C:C)","v":0},"کالای جدید، لطفا در شیت یکسان سازی برند، کد و نام کالا کپی شود"]
[null,null,null,{"$f":"COUNTIF('یکسان سازی برند'!C:C,'موجودی خام اولیه با برندمتفاوت'!C:C)","v":0},"کالای جدید، لطفا در شیت یکسان سازی برند، کد و نام کالا کپی شود"]
[null,null,null,{"$f":"COUNTIF('یکسان سازی برند'!C:C,'موجودی خام اولیه با برندمتفاوت'!C:C)","v":0},"کالای جدید، لطفا در شیت یکسان سازی برند، کد و نام کالا کپی شود"]
[null,null,null,{"$f":"COUNTIF('یکسان سازی برند'!C:C,'موجودی خام اولیه با برندمتفاوت'!C:C)","v":0},"کالای جدید، لطفا در شیت یکسان سازی برند، کد و نام کالا کپی شود"]
[null,null,null,{"$f":"COUNTIF('یکسان سازی برند'!C:C,'موجودی خام اولیه با برندمتفاوت'!C:C)","v":0},"کالای جدید، لطفا در شیت یکسان سازی برند، کد و نام کالا کپی شود"]
[null,null,null,{"$f":"COUNTIF('یکسان سازی برند'!C:C,'موجودی خام اولیه با برندمتفاوت'!C:C)","v":0},"کالای جدید، لطفا در شیت یکسان سازی برند، کد و نام کالا کپی شود"]
[null,null,null,{"$f":"COUNTIF('یکسان سازی برند'!C:C,'موجودی خام اولیه با برندمتفاوت'!C:C)","v":0},"کالای جدید، لطفا در شیت یکسان سازی برند، کد و نام کالا کپی شود"]
[null,null,null,{"$f":"COUNTIF('یکسان سازی برند'!C:C,'موجودی خام اولیه با برندمتفاوت'!C:C)","v":0},"کالای جدید، لطفا در شیت یکسان سازی برند، کد و نام کالا کپی شود"]
[null,null,null,{"$f":"COUNTIF('یکسان سازی برند'!C:C,'موجودی خام اولیه با برندمتفاوت'!C:C)","v":0},"کالای جدید، لطفا در شیت یکسان سازی برند، کد و نام کالا کپی شود"]
[null,null,null,{"$f":"COUNTIF('یکسان سازی برند'!C:C,'موجودی خام اولیه با برندمتفاوت'!C:C)","v":0},"کالای جدید، لطفا در شیت یکسان سازی برند، کد و نام کالا کپی شود"]
[null,null,null,{"$f":"COUNTIF('یکسان سازی برند'!C:C,'موجودی خام اولیه با برندمتفاوت'!C:C)","v":0},"کالای جدید، لطفا در شیت یکسان سازی برند، کد و نام کالا کپی شود"]
[null,null,null,{"$f":"COUNTIF('یکسان سازی برند'!C:C,'موجودی خام اولیه با برندمتفاوت'!C:C)","v":0},"کالای جدید، لطفا در شیت یکسان سازی برند، کد و نام کالا کپی شود"]
[null,null,null,{"$f":"COUNTIF('یکسان سازی برند'!C:C,'موجودی خام اولیه با برندمتفاوت'!C:C)","v":0},"کالای جدید، لطفا در شیت یکسان سازی برند، کد و نام کالا کپی شود"]
[null,null,null,{"$f":"COUNTIF('یکسان سازی برند'!C:C,'موجودی خام اولیه با برندمتفاوت'!C:C)","v":0},"کالای جدید، لطفا در شیت یکسان سازی برند، کد و نام کالا کپی شود"]
[null,null,null,{"$f":"COUNTIF('یکسان سازی برند'!C:C,'موجودی خام اولیه با برندمتفاوت'!C:C)","v":0},"کالای جدید، لطفا در شیت یکسان سازی برند، کد و نام کالا کپی شود"]
[null,null,null,{"$f":"COUNTIF('یکسان سازی برند'!C:C,'موجودی خام اولیه با برندمتفاوت'!C:C)","v":0},"کالای جدید، لطفا در شیت یکسان سازی برند، کد و نام کالا کپی شود"]
[null,null,null,{"$f":"COUNTIF('یکسان سازی برند'!C:C,'موجودی خام اولیه با برندمتفاوت'!C:C)","v":0},"کالای جدید، لطفا در شیت یکسان سازی برند، کد و نام کالا کپی شود"]
[null,null,null,{"$f":"COUNTIF('یکسان سازی برند'!C:C,'موجودی خام اولیه با برندمتفاوت'!C:C)","v":0},"کالای جدید، لطفا در شیت یکسان سازی برند، کد و نام کالا کپی شود"]
[null,null,null,{"$f":"COUNTIF('یکسان سازی برند'!C:C,'موجودی خام اولیه با برندمتفاوت'!C:C)","v":0},"کالای جدید، لطفا در شیت یکسان سازی برند، کد و نام کالا کپی شود"]
[null,null,null,{"$f":"COUNTIF('یکسان سازی برند'!C:C,'موجودی خام اولیه با برندمتفاوت'!C:C)","v":0},"کالای جدید، لطفا در شیت یکسان سازی برند، کد و نام کالا کپی شود"]
[null,null,null,{"$f":"COUNTIF('یکسان سازی برند'!C:C,'موجودی خام اولیه با برندمتفاوت'!C:C)","v":0},"کالای جدید، لطفا در شیت یکسان سازی برند، کد و نام کالا کپی شود"]
[null,null,null,{"$f":"COUNTIF('یکسان سازی برند'!C:C,'موجودی خام اولیه با برندمتفاوت'!C:C)","v":0},"کالای جدید، لطفا در شیت یکسان سازی برند، کد و نام کالا کپی شود"]
[null,null,null,{"$f":"COUNTIF('یکسان سازی برند'!C:C,'موجودی خام اولیه با برندمتفاوت'!C:C)","v":0},"کالای جدید، لطفا در شیت یکسان سازی برند، کد و نام کالا کپی شود"]
[null,null,null,{"$f":"COUNTIF('یکسان سازی برند'!C:C,'موجودی خام اولیه با برندمتفاوت'!C:C)","v":0},"کالای جدید، لطفا در شیت یکسان سازی برند، کد و نام کالا کپی شود"]
[null,null,null,{"$f":"COUNTIF('یکسان سازی برند'!C:C,'موجودی خام اولیه با برندمتفاوت'!C:C)","v":0},"کالای جدید، لطفا در شیت یکسان سازی برند، کد و نام کالا کپی شود"]
[null,null,null,{"$f":"COUNTIF('یکسان سازی برند'!C:C,'موجودی خام اولیه با برندمتفاوت'!C:C)","v":0},"کالای جدید، لطفا در شیت یکسان سازی برند، کد و نام کالا کپی شود"]
[null,null,null,{"$f":"COUNTIF('یکسان سازی برند'!C:C,'موجودی خام اولیه با برندمتفاوت'!C:C)","v":0},"کالای جدید، لطفا در شیت یکسان سازی برند، کد و نام کالا کپی شود"]
[null,null,null,{"$f":"COUNTIF('یکسان سازی برند'!C:C,'موجودی خام اولیه با برندمتفاوت'!C:C)","v":0},"کالای جدید، لطفا در شیت یکسان سازی برند، کد و نام کالا کپی شود"]
[null,null,null,{"$f":"COUNTIF('یکسان سازی برند'!C:C,'موجودی خام اولیه با برندمتفاوت'!C:C)","v":0},"کالای جدید، لطفا در شیت یکسان سازی برند، کد و نام کالا کپی شود"]
[null,null,null,{"$f":"COUNTIF('یکسان سازی برند'!C:C,'موجودی خام اولیه با برندمتفاوت'!C:C)","v":0},"کالای جدید، لطفا در شیت یکسان سازی برند، کد و نام کالا کپی شود"]
[null,null,null,{"$f":"COUNTIF('یکسان سازی برند'!C:C,'موجودی خام اولیه با برندمتفاوت'!C:C)","v":0},"کالای جدید، لطفا در شیت یکسان سازی برند، کد و نام کالا کپی شود"]
[null,null,null,{"$f":"COUNTIF('یکسان سازی برند'!C:C,'موجودی خام اولیه با برندمتفاوت'!C:C)","v":0},"کالای جدید، لطفا در شیت یکسان سازی برند، کد و نام کالا کپی شود"]
[null,null,null,{"$f":"COUNTIF('یکسان سازی برند'!C:C,'موجودی خام اولیه با برندمتفاوت'!C:C)","v":0},"کالای جدید، لطفا در شیت یکسان سازی برند، کد و نام کالا کپی شود"]
[null,null,null,{"$f":"COUNTIF('یکسان سازی برند'!C:C,'موجودی خام اولیه با برندمتفاوت'!C:C)","v":0},"کالای جدید، لطفا در شیت یکسان سازی برند، کد و نام کالا کپی شود"]
[null,null,null,{"$f":"COUNTIF('یکسان سازی برند'!C:C,'موجودی خام اولیه با برندمتفاوت'!C:C)","v":0},"کالای جدید، لطفا در شیت یکسان سازی برند، کد و نام کالا کپی شود"]
[null,null,null,{"$f":"COUNTIF('یکسان سازی برند'!C:C,'موجودی خام اولیه با برندمتفاوت'!C:C)","v":0},"کالای جدید، لطفا در شیت یکسان سازی برند، کد و نام کالا کپی شود"]
[null,null,null,{"$f":"COUNTIF('یکسان سازی برند'!C:C,'موجودی خام اولیه با برندمتفاوت'!C:C)","v":0},"کالای جدید، لطفا در شیت یکسان سازی برند، کد و نام کالا کپی شود"]
[null,null,null,{"$f":"COUNTIF('یکسان سازی برند'!C:C,'موجودی خام اولیه با برندمتفاوت'!C:C)","v":0},"کالای جدید، لطفا در شیت یکسان سازی برند، کد و نام کالا کپی شود"]
[null,null,null,{"$f":"COUNTIF('یکسان سازی برند'!C:C,'موجودی خام اولیه با برندمتفاوت'!C:C)","v":0},"کالای جدید، لطفا در شیت یکسان سازی برند، کد و نام کالا کپی شود"]
[null,null,null,{"$f":"COUNTIF('یکسان سازی برند'!C:C,'موجودی خام اولیه با برندمتفاوت'!C:C)","v":0},"کالای جدید، لطفا در شیت یکسان سازی برند، کد و نام کالا کپی شود"]
[null,null,null,{"$f":"COUNTIF('یکسان سازی برند'!C:C,'موجودی خام اولیه با برندمتفاوت'!C:C)","v":0},"کالای جدید، لطفا در شیت یکسان سازی برند، کد و نام کالا کپی شود"]
[null,null,null,{"$f":"COUNTIF('یکسان سازی برند'!C:C,'موجودی خام اولیه با برندمتفاوت'!C:C)","v":0},"کالای جدید، لطفا در شیت یکسان سازی برند، کد و نام کالا کپی شود"]
[null,null,null,{"$f":"COUNTIF('یکسان سازی برند'!C:C,'موجودی خام اولیه با برندمتفاوت'!C:C)","v":0},"کالای جدید، لطفا در شیت یکسان سازی برند، کد و نام کالا کپی شود"]
[null,null,null,{"$f":"COUNTIF('یکسان سازی برند'!C:C,'موجودی خام اولیه با برندمتفاوت'!C:C)","v":0},"کالای جدید، لطفا در شیت یکسان سازی برند، کد و نام کالا کپی شود"]
[null,null,null,{"$f":"COUNTIF('یکسان سازی برند'!C:C,'موجودی خام اولیه با برندمتفاوت'!C:C)","v":0},"کالای جدید، لطفا در شیت یکسان سازی برند، کد و نام کالا کپی شود"]
[null,null,null,{"$f":"COUNTIF('یکسان سازی برند'!C:C,'موجودی خام اولیه با برندمتفاوت'!C:C)","v":0},"کالای جدید، لطفا در شیت یکسان سازی برند، کد و نام کالا کپی شود"]
[null,null,null,{"$f":"COUNTIF('یکسان سازی برند'!C:C,'موجودی خام اولیه با برندمتفاوت'!C:C)","v":0},"کالای جدید، لطفا در شیت یکسان سازی برند، کد و نام کالا کپی شود"]
[null,null,null,{"$f":"COUNTIF('یکسان سازی برند'!C:C,'موجودی خام اولیه با برندمتفاوت'!C:C)","v":0},"کالای جدید، لطفا در شیت یکسان سازی برند، کد و نام کالا کپی شود"]
[null,null,null,{"$f":"COUNTIF('یکسان سازی برند'!C:C,'موجودی خام اولیه با برندمتفاوت'!C:C)","v":0},"کالای جدید، لطفا در شیت یکسان سازی برند، کد و نام کالا کپی شود"]
[null,null,null,{"$f":"COUNTIF('یکسان سازی برند'!C:C,'موجودی خام اولیه با برندمتفاوت'!C:C)","v":0},"کالای جدید، لطفا در شیت یکسان سازی برند، کد و نام کالا کپی شود"]
[null,null,null,{"$f":"COUNTIF('یکسان سازی برند'!C:C,'موجودی خام اولیه با برندمتفاوت'!C:C)","v":0},"کالای جدید، لطفا در شیت یکسان سازی برند، کد و نام کالا کپی شود"]
[null,null,null,{"$f":"COUNTIF('یکسان سازی برند'!C:C,'موجودی خام اولیه با برندمتفاوت'!C:C)","v":0},"کالای جدید، لطفا در شیت یکسان سازی برند، کد و نام کالا کپی شود"]
[null,null,null,{"$f":"COUNTIF('یکسان سازی برند'!C:C,'موجودی خام اولیه با برندمتفاوت'!C:C)","v":0},"کالای جدید، لطفا در شیت یکسان سازی برند، کد و نام کالا کپی شود"]
[null,null,null,{"$f":"COUNTIF('یکسان سازی برند'!C:C,'موجودی خام اولیه با برندمتفاوت'!C:C)","v":0},"کالای جدید، لطفا در شیت یکسان سازی برند، کد و نام کالا کپی شود"]
[null,null,null,{"$f":"COUNTIF('یکسان سازی برند'!C:C,'موجودی خام اولیه با برندمتفاوت'!C:C)","v":0},"کالای جدید، لطفا در شیت یکسان سازی برند، کد و نام کالا کپی شود"]
[null,null,null,{"$f":"COUNTIF('یکسان سازی برند'!C:C,'موجودی خام اولیه با برندمتفاوت'!C:C)","v":0},"کالای جدید، لطفا در شیت یکسان سازی برند، کد و نام کالا کپی شود"]
[null,null,null,{"$f":"COUNTIF('یکسان سازی برند'!C:C,'موجودی خام اولیه با برندمتفاوت'!C:C)","v":0},"کالای جدید، لطفا در شیت یکسان سازی برند، کد و نام کالا کپی شود"]
[null,null,null,{"$f":"COUNTIF('یکسان سازی برند'!C:C,'موجودی خام اولیه با برندمتفاوت'!C:C)","v":0},"کالای جدید، لطفا در شیت یکسان سازی برند، کد و نام کالا کپی شود"]
[null,null,null,{"$f":"COUNTIF('یکسان سازی برند'!C:C,'موجودی خام اولیه با برندمتفاوت'!C:C)","v":0},"کالای جدید، لطفا در شیت یکسان سازی برند، کد و نام کالا کپی شود"]
[null,null,null,{"$f":"COUNTIF('یکسان سازی برند'!C:C,'موجودی خام اولیه با برندمتفاوت'!C:C)","v":0},{"$f":"IF(D:D=0,\"کالای جدید، لطفا در شیت یکسان سازی برند، کد و نام کالا کپی شود\",\"\")","v":"کالای جدید، لطفا در شیت یکسان سازی برند، کد و نام کالا کپی شود"}]
[null,null,null,{"$f":"COUNTIF('یکسان سازی برند'!C:C,'موجودی خام اولیه با برندمتفاوت'!C:C)","v":0},"کالای جدید، لطفا در شیت یکسان سازی برند، کد و نام کالا کپی شود"]
[null,null,null,{"$f":"COUNTIF('یکسان سازی برند'!C:C,'موجودی خام اولیه با برندمتفاوت'!C:C)","v":0},"کالای جدید، لطفا در شیت یکسان سازی برند، کد و نام کالا کپی شود"]
[null,null,null,{"$f":"COUNTIF('یکسان سازی برند'!C:C,'موجودی خام اولیه با برندمتفاوت'!C:C)","v":0},"کالای جدید، لطفا در شیت یکسان سازی برند، کد و نام کالا کپی شود"]
[null,null,null,{"$f":"COUNTIF('یکسان سازی برند'!C:C,'موجودی خام اولیه با برندمتفاوت'!C:C)","v":0},"کالای جدید، لطفا در شیت یکسان سازی برند، کد و نام کالا کپی شود"]
[null,null,null,{"$f":"COUNTIF('یکسان سازی برند'!C:C,'موجودی خام اولیه با برندمتفاوت'!C:C)","v":0},"کالای جدید، لطفا در شیت یکسان سازی برند، کد و نام کالا کپی شود"]
[null,null,null,{"$f":"COUNTIF('یکسان سازی برند'!C:C,'موجودی خام اولیه با برندمتفاوت'!C:C)","v":0},"کالای جدید، لطفا در شیت یکسان سازی برند، کد و نام کالا کپی شود"]
[null,null,null,{"$f":"COUNTIF('یکسان سازی برند'!C:C,'موجودی خام اولیه با برندمتفاوت'!C:C)","v":0},"کالای جدید، لطفا در شیت یکسان سازی برند، کد و نام کالا کپی شود"]
[null,null,null,{"$f":"COUNTIF('یکسان سازی برند'!C:C,'موجودی خام اولیه با برندمتفاوت'!C:C)","v":0},"کالای جدید، لطفا در شیت یکسان سازی برند، کد و نام کالا کپی شود"]
[null,null,null,{"$f":"COUNTIF('یکسان سازی برند'!C:C,'موجودی خام اولیه با برندمتفاوت'!C:C)","v":0},"کالای جدید، لطفا در شیت یکسان سازی برند، کد و نام کالا کپی شود"]
[null,null,null,{"$f":"COUNTIF('یکسان سازی برند'!C:C,'موجودی خام اولیه با برندمتفاوت'!C:C)","v":0},"کالای جدید، لطفا در شیت یکسان سازی برند، کد و نام کالا کپی شود"]
[null,null,null,{"$f":"COUNTIF('یکسان سازی برند'!C:C,'موجودی خام اولیه با برندمتفاوت'!C:C)","v":0},"کالای جدید، لطفا در شیت یکسان سازی برند، کد و نام کالا کپی شود"]
[null,null,null,{"$f":"COUNTIF('یکسان سازی برند'!C:C,'موجودی خام اولیه با برندمتفاوت'!C:C)","v":0},"کالای جدید، لطفا در شیت یکسان سازی برند، کد و نام کالا کپی شود"]
[null,null,null,{"$f":"COUNTIF('یکسان سازی برند'!C:C,'موجودی خام اولیه با برندمتفاوت'!C:C)","v":0},"کالای جدید، لطفا در شیت یکسان سازی برند، کد و نام کالا کپی شود"]
[null,null,null,{"$f":"COUNTIF('یکسان سازی برند'!C:C,'موجودی خام اولیه با برندمتفاوت'!C:C)","v":0},"کالای جدید، لطفا در شیت یکسان سازی برند، کد و نام کالا کپی شود"]
[null,null,null,{"$f":"COUNTIF('یکسان سازی برند'!C:C,'موجودی خام اولیه با برندمتفاوت'!C:C)","v":0},"کالای جدید، لطفا در شیت یکسان سازی برند، کد و نام کالا کپی شود"]
[null,null,null,{"$f":"COUNTIF('یکسان سازی برند'!C:C,'موجودی خام اولیه با برندمتفاوت'!C:C)","v":0},"کالای جدید، لطفا در شیت یکسان سازی برند، کد و نام کالا کپی شود"]
[null,null,null,{"$f":"COUNTIF('یکسان سازی برند'!C:C,'موجودی خام اولیه با برندمتفاوت'!C:C)","v":0},"کالای جدید، لطفا در شیت یکسان سازی برند، کد و نام کالا کپی شود"]
[null,null,null,{"$f":"COUNTIF('یکسان سازی برند'!C:C,'موجودی خام اولیه با برندمتفاوت'!C:C)","v":0},"کالای جدید، لطفا در شیت یکسان سازی برند، کد و نام کالا کپی شود"]
[null,null,null,{"$f":"COUNTIF('یکسان سازی برند'!C:C,'موجودی خام اولیه با برندمتفاوت'!C:C)","v":0},"کالای جدید، لطفا در شیت یکسان سازی برند، کد و نام کالا کپی شود"]
[null,null,null,{"$f":"COUNTIF('یکسان سازی برند'!C:C,'موجودی خام اولیه با برندمتفاوت'!C:C)","v":0},"کالای جدید، لطفا در شیت یکسان سازی برند، کد و نام کالا کپی شود"]
[null,null,null,{"$f":"COUNTIF('یکسان سازی برند'!C:C,'موجودی خام اولیه با برندمتفاوت'!C:C)","v":0},"کالای جدید، لطفا در شیت یکسان سازی برند، کد و نام کالا کپی شود"]
[null,null,null,{"$f":"COUNTIF('یکسان سازی برند'!C:C,'موجودی خام اولیه با برندمتفاوت'!C:C)","v":0},"کالای جدید، لطفا در شیت یکسان سازی برند، کد و نام کالا کپی شود"]
[null,null,null,{"$f":"COUNTIF('یکسان سازی برند'!C:C,'موجودی خام اولیه با برندمتفاوت'!C:C)","v":0},"کالای جدید، لطفا در شیت یکسان سازی برند، کد و نام کالا کپی شود"]
[null,null,null,{"$f":"COUNTIF('یکسان سازی برند'!C:C,'موجودی خام اولیه با برندمتفاوت'!C:C)","v":0},"کالای جدید، لطفا در شیت یکسان سازی برند، کد و نام کالا کپی شود"]
[null,null,null,{"$f":"COUNTIF('یکسان سازی برند'!C:C,'موجودی خام اولیه با برندمتفاوت'!C:C)","v":0},"کالای جدید، لطفا در شیت یکسان سازی برند، کد و نام کالا کپی شود"]
[null,null,null,{"$f":"COUNTIF('یکسان سازی برند'!C:C,'موجودی خام اولیه با برندمتفاوت'!C:C)","v":0},"کالای جدید، لطفا در شیت یکسان سازی برند، کد و نام کالا کپی شود"]
[null,null,null,{"$f":"COUNTIF('یکسان سازی برند'!C:C,'موجودی خام اولیه با برندمتفاوت'!C:C)","v":0},"کالای جدید، لطفا در شیت یکسان سازی برند، کد و نام کالا کپی شود"]
[null,null,null,{"$f":"COUNTIF('یکسان سازی برند'!C:C,'موجودی خام اولیه با برندمتفاوت'!C:C)","v":0},"کالای جدید، لطفا در شیت یکسان سازی برند، کد و نام کالا کپی شود"]
[null,null,null,{"$f":"COUNTIF('یکسان سازی برند'!C:C,'موجودی خام اولیه با برندمتفاوت'!C:C)","v":0},"کالای جدید، لطفا در شیت یکسان سازی برند، کد و نام کالا کپی شود"]
[null,null,null,{"$f":"COUNTIF('یکسان سازی برند'!C:C,'موجودی خام اولیه با برندمتفاوت'!C:C)","v":0},"کالای جدید، لطفا در شیت یکسان سازی برند، کد و نام کالا کپی شود"]
[null,null,null,{"$f":"COUNTIF('یکسان سازی برند'!C:C,'موجودی خام اولیه با برندمتفاوت'!C:C)","v":0},"کالای جدید، لطفا در شیت یکسان سازی برند، کد و نام کالا کپی شود"]
[null,null,null,{"$f":"COUNTIF('یکسان سازی برند'!C:C,'موجودی خام اولیه با برندمتفاوت'!C:C)","v":0},"کالای جدید، لطفا در شیت یکسان سازی برند، کد و نام کالا کپی شود"]
[null,null,null,{"$f":"COUNTIF('یکسان سازی برند'!C:C,'موجودی خام اولیه با برندمتفاوت'!C:C)","v":0},"کالای جدید، لطفا در شیت یکسان سازی برند، کد و نام کالا کپی شود"]
[null,null,null,{"$f":"COUNTIF('یکسان سازی برند'!C:C,'موجودی خام اولیه با برندمتفاوت'!C:C)","v":0},"کالای جدید، لطفا در شیت یکسان سازی برند، کد و نام کالا کپی شود"]
[null,null,null,{"$f":"COUNTIF('یکسان سازی برند'!C:C,'موجودی خام اولیه با برندمتفاوت'!C:C)","v":0},"کالای جدید، لطفا در شیت یکسان سازی برند، کد و نام کالا کپی شود"]
[null,null,null,{"$f":"COUNTIF('یکسان سازی برند'!C:C,'موجودی خام اولیه با برندمتفاوت'!C:C)","v":0},"کالای جدید، لطفا در شیت یکسان سازی برند، کد و نام کالا کپی شود"]
[null,null,null,{"$f":"COUNTIF('یکسان سازی برند'!C:C,'موجودی خام اولیه با برندمتفاوت'!C:C)","v":0},"کالای جدید، لطفا در شیت یکسان سازی برند، کد و نام کالا کپی شود"]
[null,null,null,{"$f":"COUNTIF('یکسان سازی برند'!C:C,'موجودی خام اولیه با برندمتفاوت'!C:C)","v":0},"کالای جدید، لطفا در شیت یکسان سازی برند، کد و نام کالا کپی شود"]
[null,null,null,{"$f":"COUNTIF('یکسان سازی برند'!C:C,'موجودی خام اولیه با برندمتفاوت'!C:C)","v":0},"کالای جدید، لطفا در شیت یکسان سازی برند، کد و نام کالا کپی شود"]
[null,null,null,{"$f":"COUNTIF('یکسان سازی برند'!C:C,'موجودی خام اولیه با برندمتفاوت'!C:C)","v":0},"کالای جدید، لطفا در شیت یکسان سازی برند، کد و نام کالا کپی شود"]
[null,null,null,{"$f":"COUNTIF('یکسان سازی برند'!C:C,'موجودی خام اولیه با برندمتفاوت'!C:C)","v":0},"کالای جدید، لطفا در شیت یکسان سازی برند، کد و نام کالا کپی شود"]
[null,null,null,{"$f":"COUNTIF('یکسان سازی برند'!C:C,'موجودی خام اولیه با برندمتفاوت'!C:C)","v":0},"کالای جدید، لطفا در شیت یکسان سازی برند، کد و نام کالا کپی شود"]
[null,null,null,{"$f":"COUNTIF('یکسان سازی برند'!C:C,'موجودی خام اولیه با برندمتفاوت'!C:C)","v":0},"کالای جدید، لطفا در شیت یکسان سازی برند، کد و نام کالا کپی شود"]
[null,null,null,{"$f":"COUNTIF('یکسان سازی برند'!C:C,'موجودی خام اولیه با برندمتفاوت'!C:C)","v":0},"کالای جدید، لطفا در شیت یکسان سازی برند، کد و نام کالا کپی شود"]
[null,null,null,{"$f":"COUNTIF('یکسان سازی برند'!C:C,'موجودی خام اولیه با برندمتفاوت'!C:C)","v":0},"کالای جدید، لطفا در شیت یکسان سازی برند، کد و نام کالا کپی شود"]
[null,null,null,{"$f":"COUNTIF('یکسان سازی برند'!C:C,'موجودی خام اولیه با برندمتفاوت'!C:C)","v":0},"کالای جدید، لطفا در شیت یکسان سازی برند، کد و نام کالا کپی شود"]
[null,null,null,{"$f":"COUNTIF('یکسان سازی برند'!C:C,'موجودی خام اولیه با برندمتفاوت'!C:C)","v":0},"کالای جدید، لطفا در شیت یکسان سازی برند، کد و نام کالا کپی شود"]
[null,null,null,{"$f":"COUNTIF('یکسان سازی برند'!C:C,'موجودی خام اولیه با برندمتفاوت'!C:C)","v":0},"کالای جدید، لطفا در شیت یکسان سازی برند، کد و نام کالا کپی شود"]
[null,null,null,{"$f":"COUNTIF('یکسان سازی برند'!C:C,'موجودی خام اولیه با برندمتفاوت'!C:C)","v":0},"کالای جدید، لطفا در شیت یکسان سازی برند، کد و نام کالا کپی شود"]
[null,null,null,{"$f":"COUNTIF('یکسان سازی برند'!C:C,'موجودی خام اولیه با برندمتفاوت'!C:C)","v":0},"کالای جدید، لطفا در شیت یکسان سازی برند، کد و نام کالا کپی شود"]
[null,null,null,{"$f":"COUNTIF('یکسان سازی برند'!C:C,'موجودی خام اولیه با برندمتفاوت'!C:C)","v":0},"کالای جدید، لطفا در شیت یکسان سازی برند، کد و نام کالا کپی شود"]
[null,null,null,{"$f":"COUNTIF('یکسان سازی برند'!C:C,'موجودی خام اولیه با برندمتفاوت'!C:C)","v":0},"کالای جدید، لطفا در شیت یکسان سازی برند، کد و نام کالا کپی شود"]
[null,null,null,{"$f":"COUNTIF('یکسان سازی برند'!C:C,'موجودی خام اولیه با برندمتفاوت'!C:C)","v":0},"کالای جدید، لطفا در شیت یکسان سازی برند، کد و نام کالا کپی شود"]
[null,null,null,{"$f":"COUNTIF('یکسان سازی برند'!C:C,'موجودی خام اولیه با برندمتفاوت'!C:C)","v":0},"کالای جدید، لطفا در شیت یکسان سازی برند، کد و نام کالا کپی شود"]
[null,null,null,{"$f":"COUNTIF('یکسان سازی برند'!C:C,'موجودی خام اولیه با برندمتفاوت'!C:C)","v":0},"کالای جدید، لطفا در شیت یکسان سازی برند، کد و نام کالا کپی شود"]
[null,null,null,{"$f":"COUNTIF('یکسان سازی برند'!C:C,'موجودی خام اولیه با برندمتفاوت'!C:C)","v":0},"کالای جدید، لطفا در شیت یکسان سازی برند، کد و نام کالا کپی شود"]
[null,null,null,{"$f":"COUNTIF('یکسان سازی برند'!C:C,'موجودی خام اولیه با برندمتفاوت'!C:C)","v":0},"کالای جدید، لطفا در شیت یکسان سازی برند، کد و نام کالا کپی شود"]
[null,null,null,{"$f":"COUNTIF('یکسان سازی برند'!C:C,'موجودی خام اولیه با برندمتفاوت'!C:C)","v":0},"کالای جدید، لطفا در شیت یکسان سازی برند، کد و نام کالا کپی شود"]
[null,null,null,{"$f":"COUNTIF('یکسان سازی برند'!C:C,'موجودی خام اولیه با برندمتفاوت'!C:C)","v":0},"کالای جدید، لطفا در شیت یکسان سازی برند، کد و نام کالا کپی شود"]
[null,null,null,{"$f":"COUNTIF('یکسان سازی برند'!C:C,'موجودی خام اولیه با برندمتفاوت'!C:C)","v":0},"کالای جدید، لطفا در شیت یکسان سازی برند، کد و نام کالا کپی شود"]
[null,null,null,{"$f":"COUNTIF('یکسان سازی برند'!C:C,'موجودی خام اولیه با برندمتفاوت'!C:C)","v":0},"کالای جدید، لطفا در شیت یکسان سازی برند، کد و نام کالا کپی شود"]
[null,null,null,{"$f":"COUNTIF('یکسان سازی برند'!C:C,'موجودی خام اولیه با برندمتفاوت'!C:C)","v":0},"کالای جدید، لطفا در شیت یکسان سازی برند، کد و نام کالا کپی شود"]
[null,null,null,{"$f":"COUNTIF('یکسان سازی برند'!C:C,'موجودی خام اولیه با برندمتفاوت'!C:C)","v":0},"کالای جدید، لطفا در شیت یکسان سازی برند، کد و نام کالا کپی شود"]
[null,null,null,{"$f":"COUNTIF('یکسان سازی برند'!C:C,'موجودی خام اولیه با برندمتفاوت'!C:C)","v":0},{"$f":"IF(D:D=0,\"کالای جدید، لطفا در شیت یکسان سازی برند، کد و نام کالا کپی شود\",\"\")","v":"کالای جدید، لطفا در شیت یکسان سازی برند، کد و نام کالا کپی شود"}]
[null,null,null,{"$f":"COUNTIF('یکسان سازی برند'!C:C,'موجودی خام اولیه با برندمتفاوت'!C:C)","v":0},"کالای جدید، لطفا در شیت یکسان سازی برند، کد و نام کالا کپی شود"]
[null,null,null,{"$f":"COUNTIF('یکسان سازی برند'!C:C,'موجودی خام اولیه با برندمتفاوت'!C:C)","v":0},"کالای جدید، لطفا در شیت یکسان سازی برند، کد و نام کالا کپی شود"]
[null,null,null,{"$f":"COUNTIF('یکسان سازی برند'!C:C,'موجودی خام اولیه با برندمتفاوت'!C:C)","v":0},"کالای جدید، لطفا در شیت یکسان سازی برند، کد و نام کالا کپی شود"]
[null,null,null,{"$f":"COUNTIF('یکسان سازی برند'!C:C,'موجودی خام اولیه با برندمتفاوت'!C:C)","v":0},"کالای جدید، لطفا در شیت یکسان سازی برند، کد و نام کالا کپی شود"]
[null,null,null,{"$f":"COUNTIF('یکسان سازی برند'!C:C,'موجودی خام اولیه با برندمتفاوت'!C:C)","v":0},"کالای جدید، لطفا در شیت یکسان سازی برند، کد و نام کالا کپی شود"]
[null,null,null,{"$f":"COUNTIF('یکسان سازی برند'!C:C,'موجودی خام اولیه با برندمتفاوت'!C:C)","v":0},"کالای جدید، لطفا در شیت یکسان سازی برند، کد و نام کالا کپی شود"]
[null,null,null,{"$f":"COUNTIF('یکسان سازی برند'!C:C,'موجودی خام اولیه با برندمتفاوت'!C:C)","v":0},"کالای جدید، لطفا در شیت یکسان سازی برند، کد و نام کالا کپی شود"]
[null,null,null,{"$f":"COUNTIF('یکسان سازی برند'!C:C,'موجودی خام اولیه با برندمتفاوت'!C:C)","v":0},"کالای جدید، لطفا در شیت یکسان سازی برند، کد و نام کالا کپی شود"]
[null,null,null,{"$f":"COUNTIF('یکسان سازی برند'!C:C,'موجودی خام اولیه با برندمتفاوت'!C:C)","v":0},"کالای جدید، لطفا در شیت یکسان سازی برند، کد و نام کالا کپی شود"]
[null,null,null,{"$f":"COUNTIF('یکسان سازی برند'!C:C,'موجودی خام اولیه با برندمتفاوت'!C:C)","v":0},"کالای جدید، لطفا در شیت یکسان سازی برند، کد و نام کالا کپی شود"]
[null,null,null,{"$f":"COUNTIF('یکسان سازی برند'!C:C,'موجودی خام اولیه با برندمتفاوت'!C:C)","v":0},"کالای جدید، لطفا در شیت یکسان سازی برند، کد و نام کالا کپی شود"]
[null,null,null,{"$f":"COUNTIF('یکسان سازی برند'!C:C,'موجودی خام اولیه با برندمتفاوت'!C:C)","v":0},"کالای جدید، لطفا در شیت یکسان سازی برند، کد و نام کالا کپی شود"]
[null,null,null,{"$f":"COUNTIF('یکسان سازی برند'!C:C,'موجودی خام اولیه با برندمتفاوت'!C:C)","v":0},"کالای جدید، لطفا در شیت یکسان سازی برند، کد و نام کالا کپی شود"]
[null,null,null,{"$f":"COUNTIF('یکسان سازی برند'!C:C,'موجودی خام اولیه با برندمتفاوت'!C:C)","v":0},"کالای جدید، لطفا در شیت یکسان سازی برند، کد و نام کالا کپی شود"]
[null,null,null,{"$f":"COUNTIF('یکسان سازی برند'!C:C,'موجودی خام اولیه با برندمتفاوت'!C:C)","v":0},"کالای جدید، لطفا در شیت یکسان سازی برند، کد و نام کالا کپی شود"]
[null,null,null,{"$f":"COUNTIF('یکسان سازی برند'!C:C,'موجودی خام اولیه با برندمتفاوت'!C:C)","v":0},"کالای جدید، لطفا در شیت یکسان سازی برند، کد و نام کالا کپی شود"]
[null,null,null,{"$f":"COUNTIF('یکسان سازی برند'!C:C,'موجودی خام اولیه با برندمتفاوت'!C:C)","v":0},"کالای جدید، لطفا در شیت یکسان سازی برند، کد و نام کالا کپی شود"]
[null,null,null,{"$f":"COUNTIF('یکسان سازی برند'!C:C,'موجودی خام اولیه با برندمتفاوت'!C:C)","v":0},"کالای جدید، لطفا در شیت یکسان سازی برند، کد و نام کالا کپی شود"]
[null,null,null,{"$f":"COUNTIF('یکسان سازی برند'!C:C,'موجودی خام اولیه با برندمتفاوت'!C:C)","v":0},"کالای جدید، لطفا در شیت یکسان سازی برند، کد و نام کالا کپی شود"]
[null,null,null,{"$f":"COUNTIF('یکسان سازی برند'!C:C,'موجودی خام اولیه با برندمتفاوت'!C:C)","v":0},"کالای جدید، لطفا در شیت یکسان سازی برند، کد و نام کالا کپی شود"]
[null,null,null,{"$f":"COUNTIF('یکسان سازی برند'!C:C,'موجودی خام اولیه با برندمتفاوت'!C:C)","v":0},"کالای جدید، لطفا در شیت یکسان سازی برند، کد و نام کالا کپی شود"]
[null,null,null,{"$f":"COUNTIF('یکسان سازی برند'!C:C,'موجودی خام اولیه با برندمتفاوت'!C:C)","v":0},"کالای جدید، لطفا در شیت یکسان سازی برند، کد و نام کالا کپی شود"]
[null,null,null,{"$f":"COUNTIF('یکسان سازی برند'!C:C,'موجودی خام اولیه با برندمتفاوت'!C:C)","v":0},"کالای جدید، لطفا در شیت یکسان سازی برند، کد و نام کالا کپی شود"]
[null,null,null,{"$f":"COUNTIF('یکسان سازی برند'!C:C,'موجودی خام اولیه با برندمتفاوت'!C:C)","v":0},"کالای جدید، لطفا در شیت یکسان سازی برند، کد و نام کالا کپی شود"]
[null,null,null,{"$f":"COUNTIF('یکسان سازی برند'!C:C,'موجودی خام اولیه با برندمتفاوت'!C:C)","v":0},"کالای جدید، لطفا در شیت یکسان سازی برند، کد و نام کالا کپی شود"]
[null,null,null,{"$f":"COUNTIF('یکسان سازی برند'!C:C,'موجودی خام اولیه با برندمتفاوت'!C:C)","v":0},"کالای جدید، لطفا در شیت یکسان سازی برند، کد و نام کالا کپی شود"]
[null,null,null,{"$f":"COUNTIF('یکسان سازی برند'!C:C,'موجودی خام اولیه با برندمتفاوت'!C:C)","v":0},"کالای جدید، لطفا در شیت یکسان سازی برند، کد و نام کالا کپی شود"]
[null,null,null,{"$f":"COUNTIF('یکسان سازی برند'!C:C,'موجودی خام اولیه با برندمتفاوت'!C:C)","v":0},"کالای جدید، لطفا در شیت یکسان سازی برند، کد و نام کالا کپی شود"]
[null,null,null,{"$f":"COUNTIF('یکسان سازی برند'!C:C,'موجودی خام اولیه با برندمتفاوت'!C:C)","v":0},"کالای جدید، لطفا در شیت یکسان سازی برند، کد و نام کالا کپی شود"]
[null,null,null,{"$f":"COUNTIF('یکسان سازی برند'!C:C,'موجودی خام اولیه با برندمتفاوت'!C:C)","v":0},"کالای جدید، لطفا در شیت یکسان سازی برند، کد و نام کالا کپی شود"]
[null,null,null,{"$f":"COUNTIF('یکسان سازی برند'!C:C,'موجودی خام اولیه با برندمتفاوت'!C:C)","v":0},"کالای جدید، لطفا در شیت یکسان سازی برند، کد و نام کالا کپی شود"]
[null,null,null,{"$f":"COUNTIF('یکسان سازی برند'!C:C,'موجودی خام اولیه با برندمتفاوت'!C:C)","v":0},"کالای جدید، لطفا در شیت یکسان سازی برند، کد و نام کالا کپی شود"]
[null,null,null,{"$f":"COUNTIF('یکسان سازی برند'!C:C,'موجودی خام اولیه با برندمتفاوت'!C:C)","v":0},"کالای جدید، لطفا در شیت یکسان سازی برند، کد و نام کالا کپی شود"]
[null,null,null,{"$f":"COUNTIF('یکسان سازی برند'!C:C,'موجودی خام اولیه با برندمتفاوت'!C:C)","v":0},"کالای جدید، لطفا در شیت یکسان سازی برند، کد و نام کالا کپی شود"]
[null,null,null,{"$f":"COUNTIF('یکسان سازی برند'!C:C,'موجودی خام اولیه با برندمتفاوت'!C:C)","v":0},"کالای جدید، لطفا در شیت یکسان سازی برند، کد و نام کالا کپی شود"]
[null,null,null,{"$f":"COUNTIF('یکسان سازی برند'!C:C,'موجودی خام اولیه با برندمتفاوت'!C:C)","v":0},"کالای جدید، لطفا در شیت یکسان سازی برند، کد و نام کالا کپی شود"]
[null,null,null,{"$f":"COUNTIF('یکسان سازی برند'!C:C,'موجودی خام اولیه با برندمتفاوت'!C:C)","v":0},"کالای جدید، لطفا در شیت یکسان سازی برند، کد و نام کالا کپی شود"]
[null,null,null,{"$f":"COUNTIF('یکسان سازی برند'!C:C,'موجودی خام اولیه با برندمتفاوت'!C:C)","v":0},"کالای جدید، لطفا در شیت یکسان سازی برند، کد و نام کالا کپی شود"]
[null,null,null,{"$f":"COUNTIF('یکسان سازی برند'!C:C,'موجودی خام اولیه با برندمتفاوت'!C:C)","v":0},"کالای جدید، لطفا در شیت یکسان سازی برند، کد و نام کالا کپی شود"]
[null,null,null,{"$f":"COUNTIF('یکسان سازی برند'!C:C,'موجودی خام اولیه با برندمتفاوت'!C:C)","v":0},"کالای جدید، لطفا در شیت یکسان سازی برند، کد و نام کالا کپی شود"]
[null,null,null,{"$f":"COUNTIF('یکسان سازی برند'!C:C,'موجودی خام اولیه با برندمتفاوت'!C:C)","v":0},"کالای جدید، لطفا در شیت یکسان سازی برند، کد و نام کالا کپی شود"]
[null,null,null,{"$f":"COUNTIF('یکسان سازی برند'!C:C,'موجودی خام اولیه با برندمتفاوت'!C:C)","v":0},"کالای جدید، لطفا در شیت یکسان سازی برند، کد و نام کالا کپی شود"]
[null,null,null,{"$f":"COUNTIF('یکسان سازی برند'!C:C,'موجودی خام اولیه با برندمتفاوت'!C:C)","v":0},"کالای جدید، لطفا در شیت یکسان سازی برند، کد و نام کالا کپی شود"]
[null,null,null,{"$f":"COUNTIF('یکسان سازی برند'!C:C,'موجودی خام اولیه با برندمتفاوت'!C:C)","v":0},"کالای جدید، لطفا در شیت یکسان سازی برند، کد و نام کالا کپی شود"]
[null,null,null,{"$f":"COUNTIF('یکسان سازی برند'!C:C,'موجودی خام اولیه با برندمتفاوت'!C:C)","v":0},"کالای جدید، لطفا در شیت یکسان سازی برند، کد و نام کالا کپی شود"]
[null,null,null,{"$f":"COUNTIF('یکسان سازی برند'!C:C,'موجودی خام اولیه با برندمتفاوت'!C:C)","v":0},"کالای جدید، لطفا در شیت یکسان سازی برند، کد و نام کالا کپی شود"]
[null,null,null,{"$f":"COUNTIF('یکسان سازی برند'!C:C,'موجودی خام اولیه با برندمتفاوت'!C:C)","v":0},"کالای جدید، لطفا در شیت یکسان سازی برند، کد و نام کالا کپی شود"]
[null,null,null,{"$f":"COUNTIF('یکسان سازی برند'!C:C,'موجودی خام اولیه با برندمتفاوت'!C:C)","v":0},"کالای جدید، لطفا در شیت یکسان سازی برند، کد و نام کالا کپی شود"]
[null,null,null,{"$f":"COUNTIF('یکسان سازی برند'!C:C,'موجودی خام اولیه با برندمتفاوت'!C:C)","v":0},"کالای جدید، لطفا در شیت یکسان سازی برند، کد و نام کالا کپی شود"]
[null,null,null,{"$f":"COUNTIF('یکسان سازی برند'!C:C,'موجودی خام اولیه با برندمتفاوت'!C:C)","v":0},"کالای جدید، لطفا در شیت یکسان سازی برند، کد و نام کالا کپی شود"]
[null,null,null,{"$f":"COUNTIF('یکسان سازی برند'!C:C,'موجودی خام اولیه با برندمتفاوت'!C:C)","v":0},"کالای جدید، لطفا در شیت یکسان سازی برند، کد و نام کالا کپی شود"]
[null,null,null,{"$f":"COUNTIF('یکسان سازی برند'!C:C,'موجودی خام اولیه با برندمتفاوت'!C:C)","v":0},"کالای جدید، لطفا در شیت یکسان سازی برند، کد و نام کالا کپی شود"]
[null,null,null,{"$f":"COUNTIF('یکسان سازی برند'!C:C,'موجودی خام اولیه با برندمتفاوت'!C:C)","v":0},"کالای جدید، لطفا در شیت یکسان سازی برند، کد و نام کالا کپی شود"]
[null,null,null,{"$f":"COUNTIF('یکسان سازی برند'!C:C,'موجودی خام اولیه با برندمتفاوت'!C:C)","v":0},"کالای جدید، لطفا در شیت یکسان سازی برند، کد و نام کالا کپی شود"]
[null,null,null,{"$f":"COUNTIF('یکسان سازی برند'!C:C,'موجودی خام اولیه با برندمتفاوت'!C:C)","v":0},"کالای جدید، لطفا در شیت یکسان سازی برند، کد و نام کالا کپی شود"]
[null,null,null,{"$f":"COUNTIF('یکسان سازی برند'!C:C,'موجودی خام اولیه با برندمتفاوت'!C:C)","v":0},"کالای جدید، لطفا در شیت یکسان سازی برند، کد و نام کالا کپی شود"]
[null,null,null,{"$f":"COUNTIF('یکسان سازی برند'!C:C,'موجودی خام اولیه با برندمتفاوت'!C:C)","v":0},"کالای جدید، لطفا در شیت یکسان سازی برند، کد و نام کالا کپی شود"]
[null,null,null,{"$f":"COUNTIF('یکسان سازی برند'!C:C,'موجودی خام اولیه با برندمتفاوت'!C:C)","v":0},"کالای جدید، لطفا در شیت یکسان سازی برند، کد و نام کالا کپی شود"]
[null,null,null,{"$f":"COUNTIF('یکسان سازی برند'!C:C,'موجودی خام اولیه با برندمتفاوت'!C:C)","v":0},"کالای جدید، لطفا در شیت یکسان سازی برند، کد و نام کالا کپی شود"]
[null,null,null,{"$f":"COUNTIF('یکسان سازی برند'!C:C,'موجودی خام اولیه با برندمتفاوت'!C:C)","v":0},"کالای جدید، لطفا در شیت یکسان سازی برند، کد و نام کالا کپی شود"]
[null,null,null,{"$f":"COUNTIF('یکسان سازی برند'!C:C,'موجودی خام اولیه با برندمتفاوت'!C:C)","v":0},"کالای جدید، لطفا در شیت یکسان سازی برند، کد و نام کالا کپی شود"]
[null,null,null,{"$f":"COUNTIF('یکسان سازی برند'!C:C,'موجودی خام اولیه با برندمتفاوت'!C:C)","v":0},"کالای جدید، لطفا در شیت یکسان سازی برند، کد و نام کالا کپی شود"]
[null,null,null,{"$f":"COUNTIF('یکسان سازی برند'!C:C,'موجودی خام اولیه با برندمتفاوت'!C:C)","v":0},"کالای جدید، لطفا در شیت یکسان سازی برند، کد و نام کالا کپی شود"]
[null,null,null,{"$f":"COUNTIF('یکسان سازی برند'!C:C,'موجودی خام اولیه با برندمتفاوت'!C:C)","v":0},{"$f":"IF(D:D=0,\"کالای جدید، لطفا در شیت یکسان سازی برند، کد و نام کالا کپی شود\",\"\")","v":"کالای جدید، لطفا در شیت یکسان سازی برند، کد و نام کالا کپی شود"}]
[null,null,null,{"$f":"COUNTIF('یکسان سازی برند'!C:C,'موجودی خام اولیه با برندمتفاوت'!C:C)","v":0},"کالای جدید، لطفا در شیت یکسان سازی برند، کد و نام کالا کپی شود"]
[null,null,null,{"$f":"COUNTIF('یکسان سازی برند'!C:C,'موجودی خام اولیه با برندمتفاوت'!C:C)","v":0},"کالای جدید، لطفا در شیت یکسان سازی برند، کد و نام کالا کپی شود"]
[null,null,null,{"$f":"COUNTIF('یکسان سازی برند'!C:C,'موجودی خام اولیه با برندمتفاوت'!C:C)","v":0},"کالای جدید، لطفا در شیت یکسان سازی برند، کد و نام کالا کپی شود"]
[null,null,null,{"$f":"COUNTIF('یکسان سازی برند'!C:C,'موجودی خام اولیه با برندمتفاوت'!C:C)","v":0},"کالای جدید، لطفا در شیت یکسان سازی برند، کد و نام کالا کپی شود"]
[null,null,null,{"$f":"COUNTIF('یکسان سازی برند'!C:C,'موجودی خام اولیه با برندمتفاوت'!C:C)","v":0},"کالای جدید، لطفا در شیت یکسان سازی برند، کد و نام کالا کپی شود"]
[null,null,null,{"$f":"COUNTIF('یکسان سازی برند'!C:C,'موجودی خام اولیه با برندمتفاوت'!C:C)","v":0},"کالای جدید، لطفا در شیت یکسان سازی برند، کد و نام کالا کپی شود"]
[null,null,null,{"$f":"COUNTIF('یکسان سازی برند'!C:C,'موجودی خام اولیه با برندمتفاوت'!C:C)","v":0},"کالای جدید، لطفا در شیت یکسان سازی برند، کد و نام کالا کپی شود"]
[null,null,null,{"$f":"COUNTIF('یکسان سازی برند'!C:C,'موجودی خام اولیه با برندمتفاوت'!C:C)","v":0},"کالای جدید، لطفا در شیت یکسان سازی برند، کد و نام کالا کپی شود"]
[null,null,null,{"$f":"COUNTIF('یکسان سازی برند'!C:C,'موجودی خام اولیه با برندمتفاوت'!C:C)","v":0},"کالای جدید، لطفا در شیت یکسان سازی برند، کد و نام کالا کپی شود"]
[null,null,null,{"$f":"COUNTIF('یکسان سازی برند'!C:C,'موجودی خام اولیه با برندمتفاوت'!C:C)","v":0},"کالای جدید، لطفا در شیت یکسان سازی برند، کد و نام کالا کپی شود"]
[null,null,null,{"$f":"COUNTIF('یکسان سازی برند'!C:C,'موجودی خام اولیه با برندمتفاوت'!C:C)","v":0},"کالای جدید، لطفا در شیت یکسان سازی برند، کد و نام کالا کپی شود"]
[null,null,null,{"$f":"COUNTIF('یکسان سازی برند'!C:C,'موجودی خام اولیه با برندمتفاوت'!C:C)","v":0},"کالای جدید، لطفا در شیت یکسان سازی برند، کد و نام کالا کپی شود"]
[null,null,null,{"$f":"COUNTIF('یکسان سازی برند'!C:C,'موجودی خام اولیه با برندمتفاوت'!C:C)","v":0},"کالای جدید، لطفا در شیت یکسان سازی برند، کد و نام کالا کپی شود"]
[null,null,null,{"$f":"COUNTIF('یکسان سازی برند'!C:C,'موجودی خام اولیه با برندمتفاوت'!C:C)","v":0},"کالای جدید، لطفا در شیت یکسان سازی برند، کد و نام کالا کپی شود"]
[null,null,null,{"$f":"COUNTIF('یکسان سازی برند'!C:C,'موجودی خام اولیه با برندمتفاوت'!C:C)","v":0},"کالای جدید، لطفا در شیت یکسان سازی برند، کد و نام کالا کپی شود"]
[null,null,null,{"$f":"COUNTIF('یکسان سازی برند'!C:C,'موجودی خام اولیه با برندمتفاوت'!C:C)","v":0},"کالای جدید، لطفا در شیت یکسان سازی برند، کد و نام کالا کپی شود"]
[null,null,null,{"$f":"COUNTIF('یکسان سازی برند'!C:C,'موجودی خام اولیه با برندمتفاوت'!C:C)","v":0},"کالای جدید، لطفا در شیت یکسان سازی برند، کد و نام کالا کپی شود"]
[null,null,null,{"$f":"COUNTIF('یکسان سازی برند'!C:C,'موجودی خام اولیه با برندمتفاوت'!C:C)","v":0},"کالای جدید، لطفا در شیت یکسان سازی برند، کد و نام کالا کپی شود"]
[null,null,null,{"$f":"COUNTIF('یکسان سازی برند'!C:C,'موجودی خام اولیه با برندمتفاوت'!C:C)","v":0},"کالای جدید، لطفا در شیت یکسان سازی برند، کد و نام کالا کپی شود"]
[null,null,null,{"$f":"COUNTIF('یکسان سازی برند'!C:C,'موجودی خام اولیه با برندمتفاوت'!C:C)","v":0},"کالای جدید، لطفا در شیت یکسان سازی برند، کد و نام کالا کپی شود"]
[null,null,null,{"$f":"COUNTIF('یکسان سازی برند'!C:C,'موجودی خام اولیه با برندمتفاوت'!C:C)","v":0},"کالای جدید، لطفا در شیت یکسان سازی برند، کد و نام کالا کپی شود"]
[null,null,null,{"$f":"COUNTIF('یکسان سازی برند'!C:C,'موجودی خام اولیه با برندمتفاوت'!C:C)","v":0},"کالای جدید، لطفا در شیت یکسان سازی برند، کد و نام کالا کپی شود"]
[null,null,null,{"$f":"COUNTIF('یکسان سازی برند'!C:C,'موجودی خام اولیه با برندمتفاوت'!C:C)","v":0},"کالای جدید، لطفا در شیت یکسان سازی برند، کد و نام کالا کپی شود"]
[null,null,null,{"$f":"COUNTIF('یکسان سازی برند'!C:C,'موجودی خام اولیه با برندمتفاوت'!C:C)","v":0},"کالای جدید، لطفا در شیت یکسان سازی برند، کد و نام کالا کپی شود"]
[null,null,null,{"$f":"COUNTIF('یکسان سازی برند'!C:C,'موجودی خام اولیه با برندمتفاوت'!C:C)","v":0},"کالای جدید، لطفا در شیت یکسان سازی برند، کد و نام کالا کپی شود"]
[null,null,null,{"$f":"COUNTIF('یکسان سازی برند'!C:C,'موجودی خام اولیه با برندمتفاوت'!C:C)","v":0},"کالای جدید، لطفا در شیت یکسان سازی برند، کد و نام کالا کپی شود"]
[null,null,null,{"$f":"COUNTIF('یکسان سازی برند'!C:C,'موجودی خام اولیه با برندمتفاوت'!C:C)","v":0},"کالای جدید، لطفا در شیت یکسان سازی برند، کد و نام کالا کپی شود"]
[null,null,null,{"$f":"COUNTIF('یکسان سازی برند'!C:C,'موجودی خام اولیه با برندمتفاوت'!C:C)","v":0},"کالای جدید، لطفا در شیت یکسان سازی برند، کد و نام کالا کپی شود"]
[null,null,null,{"$f":"COUNTIF('یکسان سازی برند'!C:C,'موجودی خام اولیه با برندمتفاوت'!C:C)","v":0},"کالای جدید، لطفا در شیت یکسان سازی برند، کد و نام کالا کپی شود"]
[null,null,null,{"$f":"COUNTIF('یکسان سازی برند'!C:C,'موجودی خام اولیه با برندمتفاوت'!C:C)","v":0},"کالای جدید، لطفا در شیت یکسان سازی برند، کد و نام کالا کپی شود"]
[null,null,null,{"$f":"COUNTIF('یکسان سازی برند'!C:C,'موجودی خام اولیه با برندمتفاوت'!C:C)","v":0},"کالای جدید، لطفا در شیت یکسان سازی برند، کد و نام کالا کپی شود"]
[null,null,null,{"$f":"COUNTIF('یکسان سازی برند'!C:C,'موجودی خام اولیه با برندمتفاوت'!C:C)","v":0},"کالای جدید، لطفا در شیت یکسان سازی برند، کد و نام کالا کپی شود"]
[null,null,null,{"$f":"COUNTIF('یکسان سازی برند'!C:C,'موجودی خام اولیه با برندمتفاوت'!C:C)","v":0},"کالای جدید، لطفا در شیت یکسان سازی برند، کد و نام کالا کپی شود"]
[null,null,null,{"$f":"COUNTIF('یکسان سازی برند'!C:C,'موجودی خام اولیه با برندمتفاوت'!C:C)","v":0},"کالای جدید، لطفا در شیت یکسان سازی برند، کد و نام کالا کپی شود"]
[null,null,null,{"$f":"COUNTIF('یکسان سازی برند'!C:C,'موجودی خام اولیه با برندمتفاوت'!C:C)","v":0},"کالای جدید، لطفا در شیت یکسان سازی برند، کد و نام کالا کپی شود"]
[null,null,null,{"$f":"COUNTIF('یکسان سازی برند'!C:C,'موجودی خام اولیه با برندمتفاوت'!C:C)","v":0},"کالای جدید، لطفا در شیت یکسان سازی برند، کد و نام کالا کپی شود"]
[null,null,null,{"$f":"COUNTIF('یکسان سازی برند'!C:C,'موجودی خام اولیه با برندمتفاوت'!C:C)","v":0},"کالای جدید، لطفا در شیت یکسان سازی برند، کد و نام کالا کپی شود"]
[null,null,null,{"$f":"COUNTIF('یکسان سازی برند'!C:C,'موجودی خام اولیه با برندمتفاوت'!C:C)","v":0},"کالای جدید، لطفا در شیت یکسان سازی برند، کد و نام کالا کپی شود"]
[null,null,null,{"$f":"COUNTIF('یکسان سازی برند'!C:C,'موجودی خام اولیه با برندمتفاوت'!C:C)","v":0},"کالای جدید، لطفا در شیت یکسان سازی برند، کد و نام کالا کپی شود"]
[null,null,null,{"$f":"COUNTIF('یکسان سازی برند'!C:C,'موجودی خام اولیه با برندمتفاوت'!C:C)","v":0},"کالای جدید، لطفا در شیت یکسان سازی برند، کد و نام کالا کپی شود"]
[null,null,null,{"$f":"COUNTIF('یکسان سازی برند'!C:C,'موجودی خام اولیه با برندمتفاوت'!C:C)","v":0},"کالای جدید، لطفا در شیت یکسان سازی برند، کد و نام کالا کپی شود"]
[null,null,null,{"$f":"COUNTIF('یکسان سازی برند'!C:C,'موجودی خام اولیه با برندمتفاوت'!C:C)","v":0},"کالای جدید، لطفا در شیت یکسان سازی برند، کد و نام کالا کپی شود"]
[null,null,null,{"$f":"COUNTIF('یکسان سازی برند'!C:C,'موجودی خام اولیه با برندمتفاوت'!C:C)","v":0},"کالای جدید، لطفا در شیت یکسان سازی برند، کد و نام کالا کپی شود"]
[null,null,null,{"$f":"COUNTIF('یکسان سازی برند'!C:C,'موجودی خام اولیه با برندمتفاوت'!C:C)","v":0},"کالای جدید، لطفا در شیت یکسان سازی برند، کد و نام کالا کپی شود"]
[null,null,null,{"$f":"COUNTIF('یکسان سازی برند'!C:C,'موجودی خام اولیه با برندمتفاوت'!C:C)","v":0},"کالای جدید، لطفا در شیت یکسان سازی برند، کد و نام کالا کپی شود"]
[null,null,null,{"$f":"COUNTIF('یکسان سازی برند'!C:C,'موجودی خام اولیه با برندمتفاوت'!C:C)","v":0},"کالای جدید، لطفا در شیت یکسان سازی برند، کد و نام کالا کپی شود"]
[null,null,null,{"$f":"COUNTIF('یکسان سازی برند'!C:C,'موجودی خام اولیه با برندمتفاوت'!C:C)","v":0},"کالای جدید، لطفا در شیت یکسان سازی برند، کد و نام کالا کپی شود"]
[null,null,null,{"$f":"COUNTIF('یکسان سازی برند'!C:C,'موجودی خام اولیه با برندمتفاوت'!C:C)","v":0},"کالای جدید، لطفا در شیت یکسان سازی برند، کد و نام کالا کپی شود"]
[null,null,null,{"$f":"COUNTIF('یکسان سازی برند'!C:C,'موجودی خام اولیه با برندمتفاوت'!C:C)","v":0},"کالای جدید، لطفا در شیت یکسان سازی برند، کد و نام کالا کپی شود"]
[null,null,null,{"$f":"COUNTIF('یکسان سازی برند'!C:C,'موجودی خام اولیه با برندمتفاوت'!C:C)","v":0},"کالای جدید، لطفا در شیت یکسان سازی برند، کد و نام کالا کپی شود"]
[null,null,null,{"$f":"COUNTIF('یکسان سازی برند'!C:C,'موجودی خام اولیه با برندمتفاوت'!C:C)","v":0},"کالای جدید، لطفا در شیت یکسان سازی برند، کد و نام کالا کپی شود"]
[null,null,null,{"$f":"COUNTIF('یکسان سازی برند'!C:C,'موجودی خام اولیه با برندمتفاوت'!C:C)","v":0},"کالای جدید، لطفا در شیت یکسان سازی برند، کد و نام کالا کپی شود"]
[null,null,null,{"$f":"COUNTIF('یکسان سازی برند'!C:C,'موجودی خام اولیه با برندمتفاوت'!C:C)","v":0},"کالای جدید، لطفا در شیت یکسان سازی برند، کد و نام کالا کپی شود"]
[null,null,null,{"$f":"COUNTIF('یکسان سازی برند'!C:C,'موجودی خام اولیه با برندمتفاوت'!C:C)","v":0},"کالای جدید، لطفا در شیت یکسان سازی برند، کد و نام کالا کپی شود"]
[null,null,null,{"$f":"COUNTIF('یکسان سازی برند'!C:C,'موجودی خام اولیه با برندمتفاوت'!C:C)","v":0},"کالای جدید، لطفا در شیت یکسان سازی برند، کد و نام کالا کپی شود"]
[null,null,null,{"$f":"COUNTIF('یکسان سازی برند'!C:C,'موجودی خام اولیه با برندمتفاوت'!C:C)","v":0},"کالای جدید، لطفا در شیت یکسان سازی برند، کد و نام کالا کپی شود"]
[null,null,null,{"$f":"COUNTIF('یکسان سازی برند'!C:C,'موجودی خام اولیه با برندمتفاوت'!C:C)","v":0},"کالای جدید، لطفا در شیت یکسان سازی برند، کد و نام کالا کپی شود"]
[null,null,null,{"$f":"COUNTIF('یکسان سازی برند'!C:C,'موجودی خام اولیه با برندمتفاوت'!C:C)","v":0},"کالای جدید، لطفا در شیت یکسان سازی برند، کد و نام کالا کپی شود"]
[null,null,null,{"$f":"COUNTIF('یکسان سازی برند'!C:C,'موجودی خام اولیه با برندمتفاوت'!C:C)","v":0},"کالای جدید، لطفا در شیت یکسان سازی برند، کد و نام کالا کپی شود"]
[null,null,null,{"$f":"COUNTIF('یکسان سازی برند'!C:C,'موجودی خام اولیه با برندمتفاوت'!C:C)","v":0},"کالای جدید، لطفا در شیت یکسان سازی برند، کد و نام کالا کپی شود"]
[null,null,null,{"$f":"COUNTIF('یکسان سازی برند'!C:C,'موجودی خام اولیه با برندمتفاوت'!C:C)","v":0},"کالای جدید، لطفا در شیت یکسان سازی برند، کد و نام کالا کپی شود"]
[null,null,null,{"$f":"COUNTIF('یکسان سازی برند'!C:C,'موجودی خام اولیه با برندمتفاوت'!C:C)","v":0},"کالای جدید، لطفا در شیت یکسان سازی برند، کد و نام کالا کپی شود"]
[null,null,null,{"$f":"COUNTIF('یکسان سازی برند'!C:C,'موجودی خام اولیه با برندمتفاوت'!C:C)","v":0},"کالای جدید، لطفا در شیت یکسان سازی برند، کد و نام کالا کپی شود"]
[null,null,null,{"$f":"COUNTIF('یکسان سازی برند'!C:C,'موجودی خام اولیه با برندمتفاوت'!C:C)","v":0},{"$f":"IF(D:D=0,\"کالای جدید، لطفا در شیت یکسان سازی برند، کد و نام کالا کپی شود\",\"\")","v":"کالای جدید، لطفا در شیت یکسان سازی برند، کد و نام کالا کپی شود"}]
[null,null,null,{"$f":"COUNTIF('یکسان سازی برند'!C:C,'موجودی خام اولیه با برندمتفاوت'!C:C)","v":0},"کالای جدید، لطفا در شیت یکسان سازی برند، کد و نام کالا کپی شود"]
[null,null,null,{"$f":"COUNTIF('یکسان سازی برند'!C:C,'موجودی خام اولیه با برندمتفاوت'!C:C)","v":0},"کالای جدید، لطفا در شیت یکسان سازی برند، کد و نام کالا کپی شود"]
[null,null,null,{"$f":"COUNTIF('یکسان سازی برند'!C:C,'موجودی خام اولیه با برندمتفاوت'!C:C)","v":0},"کالای جدید، لطفا در شیت یکسان سازی برند، کد و نام کالا کپی شود"]
[null,null,null,{"$f":"COUNTIF('یکسان سازی برند'!C:C,'موجودی خام اولیه با برندمتفاوت'!C:C)","v":0},"کالای جدید، لطفا در شیت یکسان سازی برند، کد و نام کالا کپی شود"]
[null,null,null,{"$f":"COUNTIF('یکسان سازی برند'!C:C,'موجودی خام اولیه با برندمتفاوت'!C:C)","v":0},"کالای جدید، لطفا در شیت یکسان سازی برند، کد و نام کالا کپی شود"]
[null,null,null,{"$f":"COUNTIF('یکسان سازی برند'!C:C,'موجودی خام اولیه با برندمتفاوت'!C:C)","v":0},"کالای جدید، لطفا در شیت یکسان سازی برند، کد و نام کالا کپی شود"]
[null,null,null,{"$f":"COUNTIF('یکسان سازی برند'!C:C,'موجودی خام اولیه با برندمتفاوت'!C:C)","v":0},"کالای جدید، لطفا در شیت یکسان سازی برند، کد و نام کالا کپی شود"]
[null,null,null,{"$f":"COUNTIF('یکسان سازی برند'!C:C,'موجودی خام اولیه با برندمتفاوت'!C:C)","v":0},"کالای جدید، لطفا در شیت یکسان سازی برند، کد و نام کالا کپی شود"]
[null,null,null,{"$f":"COUNTIF('یکسان سازی برند'!C:C,'موجودی خام اولیه با برندمتفاوت'!C:C)","v":0},"کالای جدید، لطفا در شیت یکسان سازی برند، کد و نام کالا کپی شود"]
[null,null,null,{"$f":"COUNTIF('یکسان سازی برند'!C:C,'موجودی خام اولیه با برندمتفاوت'!C:C)","v":0},"کالای جدید، لطفا در شیت یکسان سازی برند، کد و نام کالا کپی شود"]
[null,null,null,{"$f":"COUNTIF('یکسان سازی برند'!C:C,'موجودی خام اولیه با برندمتفاوت'!C:C)","v":0},"کالای جدید، لطفا در شیت یکسان سازی برند، کد و نام کالا کپی شود"]
[null,null,null,{"$f":"COUNTIF('یکسان سازی برند'!C:C,'موجودی خام اولیه با برندمتفاوت'!C:C)","v":0},"کالای جدید، لطفا در شیت یکسان سازی برند، کد و نام کالا کپی شود"]
[null,null,null,{"$f":"COUNTIF('یکسان سازی برند'!C:C,'موجودی خام اولیه با برندمتفاوت'!C:C)","v":0},"کالای جدید، لطفا در شیت یکسان سازی برند، کد و نام کالا کپی شود"]
[null,null,null,{"$f":"COUNTIF('یکسان سازی برند'!C:C,'موجودی خام اولیه با برندمتفاوت'!C:C)","v":0},"کالای جدید، لطفا در شیت یکسان سازی برند، کد و نام کالا کپی شود"]
[null,null,null,{"$f":"COUNTIF('یکسان سازی برند'!C:C,'موجودی خام اولیه با برندمتفاوت'!C:C)","v":0},"کالای جدید، لطفا در شیت یکسان سازی برند، کد و نام کالا کپی شود"]
[null,null,null,{"$f":"COUNTIF('یکسان سازی برند'!C:C,'موجودی خام اولیه با برندمتفاوت'!C:C)","v":0},"کالای جدید، لطفا در شیت یکسان سازی برند، کد و نام کالا کپی شود"]
[null,null,null,{"$f":"COUNTIF('یکسان سازی برند'!C:C,'موجودی خام اولیه با برندمتفاوت'!C:C)","v":0},"کالای جدید، لطفا در شیت یکسان سازی برند، کد و نام کالا کپی شود"]
[null,null,null,{"$f":"COUNTIF('یکسان سازی برند'!C:C,'موجودی خام اولیه با برندمتفاوت'!C:C)","v":0},"کالای جدید، لطفا در شیت یکسان سازی برند، کد و نام کالا کپی شود"]
[null,null,null,{"$f":"COUNTIF('یکسان سازی برند'!C:C,'موجودی خام اولیه با برندمتفاوت'!C:C)","v":0},"کالای جدید، لطفا در شیت یکسان سازی برند، کد و نام کالا کپی شود"]
[null,null,null,{"$f":"COUNTIF('یکسان سازی برند'!C:C,'موجودی خام اولیه با برندمتفاوت'!C:C)","v":0},"کالای جدید، لطفا در شیت یکسان سازی برند، کد و نام کالا کپی شود"]
[null,null,null,{"$f":"COUNTIF('یکسان سازی برند'!C:C,'موجودی خام اولیه با برندمتفاوت'!C:C)","v":0},"کالای جدید، لطفا در شیت یکسان سازی برند، کد و نام کالا کپی شود"]
[null,null,null,{"$f":"COUNTIF('یکسان سازی برند'!C:C,'موجودی خام اولیه با برندمتفاوت'!C:C)","v":0},"کالای جدید، لطفا در شیت یکسان سازی برند، کد و نام کالا کپی شود"]
[null,null,null,{"$f":"COUNTIF('یکسان سازی برند'!C:C,'موجودی خام اولیه با برندمتفاوت'!C:C)","v":0},"کالای جدید، لطفا در شیت یکسان سازی برند، کد و نام کالا کپی شود"]
[null,null,null,{"$f":"COUNTIF('یکسان سازی برند'!C:C,'موجودی خام اولیه با برندمتفاوت'!C:C)","v":0},"کالای جدید، لطفا در شیت یکسان سازی برند، کد و نام کالا کپی شود"]
[null,null,null,{"$f":"COUNTIF('یکسان سازی برند'!C:C,'موجودی خام اولیه با برندمتفاوت'!C:C)","v":0},"کالای جدید، لطفا در شیت یکسان سازی برند، کد و نام کالا کپی شود"]
[null,null,null,{"$f":"COUNTIF('یکسان سازی برند'!C:C,'موجودی خام اولیه با برندمتفاوت'!C:C)","v":0},"کالای جدید، لطفا در شیت یکسان سازی برند، کد و نام کالا کپی شود"]
[null,null,null,{"$f":"COUNTIF('یکسان سازی برند'!C:C,'موجودی خام اولیه با برندمتفاوت'!C:C)","v":0},"کالای جدید، لطفا در شیت یکسان سازی برند، کد و نام کالا کپی شود"]
[null,null,null,{"$f":"COUNTIF('یکسان سازی برند'!C:C,'موجودی خام اولیه با برندمتفاوت'!C:C)","v":0},"کالای جدید، لطفا در شیت یکسان سازی برند، کد و نام کالا کپی شود"]
[null,null,null,{"$f":"COUNTIF('یکسان سازی برند'!C:C,'موجودی خام اولیه با برندمتفاوت'!C:C)","v":0},"کالای جدید، لطفا در شیت یکسان سازی برند، کد و نام کالا کپی شود"]
[null,null,null,{"$f":"COUNTIF('یکسان سازی برند'!C:C,'موجودی خام اولیه با برندمتفاوت'!C:C)","v":0},"کالای جدید، لطفا در شیت یکسان سازی برند، کد و نام کالا کپی شود"]
[null,null,null,{"$f":"COUNTIF('یکسان سازی برند'!C:C,'موجودی خام اولیه با برندمتفاوت'!C:C)","v":0},"کالای جدید، لطفا در شیت یکسان سازی برند، کد و نام کالا کپی شود"]
[null,null,null,{"$f":"COUNTIF('یکسان سازی برند'!C:C,'موجودی خام اولیه با برندمتفاوت'!C:C)","v":0},"کالای جدید، لطفا در شیت یکسان سازی برند، کد و نام کالا کپی شود"]
[null,null,null,{"$f":"COUNTIF('یکسان سازی برند'!C:C,'موجودی خام اولیه با برندمتفاوت'!C:C)","v":0},"کالای جدید، لطفا در شیت یکسان سازی برند، کد و نام کالا کپی شود"]
[null,null,null,{"$f":"COUNTIF('یکسان سازی برند'!C:C,'موجودی خام اولیه با برندمتفاوت'!C:C)","v":0},"کالای جدید، لطفا در شیت یکسان سازی برند، کد و نام کالا کپی شود"]
[null,null,null,{"$f":"COUNTIF('یکسان سازی برند'!C:C,'موجودی خام اولیه با برندمتفاوت'!C:C)","v":0},"کالای جدید، لطفا در شیت یکسان سازی برند، کد و نام کالا کپی شود"]
[null,null,null,{"$f":"COUNTIF('یکسان سازی برند'!C:C,'موجودی خام اولیه با برندمتفاوت'!C:C)","v":0},"کالای جدید، لطفا در شیت یکسان سازی برند، کد و نام کالا کپی شود"]
[null,null,null,{"$f":"COUNTIF('یکسان سازی برند'!C:C,'موجودی خام اولیه با برندمتفاوت'!C:C)","v":0},"کالای جدید، لطفا در شیت یکسان سازی برند، کد و نام کالا کپی شود"]
[null,null,null,{"$f":"COUNTIF('یکسان سازی برند'!C:C,'موجودی خام اولیه با برندمتفاوت'!C:C)","v":0},"کالای جدید، لطفا در شیت یکسان سازی برند، کد و نام کالا کپی شود"]
[null,null,null,{"$f":"COUNTIF('یکسان سازی برند'!C:C,'موجودی خام اولیه با برندمتفاوت'!C:C)","v":0},"کالای جدید، لطفا در شیت یکسان سازی برند، کد و نام کالا کپی شود"]
[null,null,null,{"$f":"COUNTIF('یکسان سازی برند'!C:C,'موجودی خام اولیه با برندمتفاوت'!C:C)","v":0},"کالای جدید، لطفا در شیت یکسان سازی برند، کد و نام کالا کپی شود"]
[null,null,null,{"$f":"COUNTIF('یکسان سازی برند'!C:C,'موجودی خام اولیه با برندمتفاوت'!C:C)","v":0},"کالای جدید، لطفا در شیت یکسان سازی برند، کد و نام کالا کپی شود"]
[null,null,null,{"$f":"COUNTIF('یکسان سازی برند'!C:C,'موجودی خام اولیه با برندمتفاوت'!C:C)","v":0},"کالای جدید، لطفا در شیت یکسان سازی برند، کد و نام کالا کپی شود"]
[null,null,null,{"$f":"COUNTIF('یکسان سازی برند'!C:C,'موجودی خام اولیه با برندمتفاوت'!C:C)","v":0},"کالای جدید، لطفا در شیت یکسان سازی برند، کد و نام کالا کپی شود"]
[null,null,null,{"$f":"COUNTIF('یکسان سازی برند'!C:C,'موجودی خام اولیه با برندمتفاوت'!C:C)","v":0},"کالای جدید، لطفا در شیت یکسان سازی برند، کد و نام کالا کپی شود"]
[null,null,null,{"$f":"COUNTIF('یکسان سازی برند'!C:C,'موجودی خام اولیه با برندمتفاوت'!C:C)","v":0},"کالای جدید، لطفا در شیت یکسان سازی برند، کد و نام کالا کپی شود"]
[null,null,null,{"$f":"COUNTIF('یکسان سازی برند'!C:C,'موجودی خام اولیه با برندمتفاوت'!C:C)","v":0},"کالای جدید، لطفا در شیت یکسان سازی برند، کد و نام کالا کپی شود"]
[null,null,null,{"$f":"COUNTIF('یکسان سازی برند'!C:C,'موجودی خام اولیه با برندمتفاوت'!C:C)","v":0},"کالای جدید، لطفا در شیت یکسان سازی برند، کد و نام کالا کپی شود"]
[null,null,null,{"$f":"COUNTIF('یکسان سازی برند'!C:C,'موجودی خام اولیه با برندمتفاوت'!C:C)","v":0},"کالای جدید، لطفا در شیت یکسان سازی برند، کد و نام کالا کپی شود"]
[null,null,null,{"$f":"COUNTIF('یکسان سازی برند'!C:C,'موجودی خام اولیه با برندمتفاوت'!C:C)","v":0},"کالای جدید، لطفا در شیت یکسان سازی برند، کد و نام کالا کپی شود"]
[null,null,null,{"$f":"COUNTIF('یکسان سازی برند'!C:C,'موجودی خام اولیه با برندمتفاوت'!C:C)","v":0},"کالای جدید، لطفا در شیت یکسان سازی برند، کد و نام کالا کپی شود"]
[null,null,null,{"$f":"COUNTIF('یکسان سازی برند'!C:C,'موجودی خام اولیه با برندمتفاوت'!C:C)","v":0},"کالای جدید، لطفا در شیت یکسان سازی برند، کد و نام کالا کپی شود"]
[null,null,null,{"$f":"COUNTIF('یکسان سازی برند'!C:C,'موجودی خام اولیه با برندمتفاوت'!C:C)","v":0},"کالای جدید، لطفا در شیت یکسان سازی برند، کد و نام کالا کپی شود"]
[null,null,null,{"$f":"COUNTIF('یکسان سازی برند'!C:C,'موجودی خام اولیه با برندمتفاوت'!C:C)","v":0},"کالای جدید، لطفا در شیت یکسان سازی برند، کد و نام کالا کپی شود"]
[null,null,null,{"$f":"COUNTIF('یکسان سازی برند'!C:C,'موجودی خام اولیه با برندمتفاوت'!C:C)","v":0},"کالای جدید، لطفا در شیت یکسان سازی برند، کد و نام کالا کپی شود"]
[null,null,null,{"$f":"COUNTIF('یکسان سازی برند'!C:C,'موجودی خام اولیه با برندمتفاوت'!C:C)","v":0},"کالای جدید، لطفا در شیت یکسان سازی برند، کد و نام کالا کپی شود"]
[null,null,null,{"$f":"COUNTIF('یکسان سازی برند'!C:C,'موجودی خام اولیه با برندمتفاوت'!C:C)","v":0},"کالای جدید، لطفا در شیت یکسان سازی برند، کد و نام کالا کپی شود"]
[null,null,null,{"$f":"COUNTIF('یکسان سازی برند'!C:C,'موجودی خام اولیه با برندمتفاوت'!C:C)","v":0},"کالای جدید، لطفا در شیت یکسان سازی برند، کد و نام کالا کپی شود"]
[null,null,null,{"$f":"COUNTIF('یکسان سازی برند'!C:C,'موجودی خام اولیه با برندمتفاوت'!C:C)","v":0},"کالای جدید، لطفا در شیت یکسان سازی برند، کد و نام کالا کپی شود"]
[null,null,null,{"$f":"COUNTIF('یکسان سازی برند'!C:C,'موجودی خام اولیه با برندمتفاوت'!C:C)","v":0},"کالای جدید، لطفا در شیت یکسان سازی برند، کد و نام کالا کپی شود"]
[null,null,null,{"$f":"COUNTIF('یکسان سازی برند'!C:C,'موجودی خام اولیه با برندمتفاوت'!C:C)","v":0},"کالای جدید، لطفا در شیت یکسان سازی برند، کد و نام کالا کپی شود"]
[null,null,null,{"$f":"COUNTIF('یکسان سازی برند'!C:C,'موجودی خام اولیه با برندمتفاوت'!C:C)","v":0},"کالای جدید، لطفا در شیت یکسان سازی برند، کد و نام کالا کپی شود"]
[null,null,null,{"$f":"COUNTIF('یکسان سازی برند'!C:C,'موجودی خام اولیه با برندمتفاوت'!C:C)","v":0},"کالای جدید، لطفا در شیت یکسان سازی برند، کد و نام کالا کپی شود"]
[null,null,null,{"$f":"COUNTIF('یکسان سازی برند'!C:C,'موجودی خام اولیه با برندمتفاوت'!C:C)","v":0},"کالای جدید، لطفا در شیت یکسان سازی برند، کد و نام کالا کپی شود"]
[null,null,null,{"$f":"COUNTIF('یکسان سازی برند'!C:C,'موجودی خام اولیه با برندمتفاوت'!C:C)","v":0},{"$f":"IF(D:D=0,\"کالای جدید، لطفا در شیت یکسان سازی برند، کد و نام کالا کپی شود\",\"\")","v":"کالای جدید، لطفا در شیت یکسان سازی برند، کد و نام کالا کپی شود"}]
[null,null,null,{"$f":"COUNTIF('یکسان سازی برند'!C:C,'موجودی خام اولیه با برندمتفاوت'!C:C)","v":0},"کالای جدید، لطفا در شیت یکسان سازی برند، کد و نام کالا کپی شود"]
[null,null,null,{"$f":"COUNTIF('یکسان سازی برند'!C:C,'موجودی خام اولیه با برندمتفاوت'!C:C)","v":0},"کالای جدید، لطفا در شیت یکسان سازی برند، کد و نام کالا کپی شود"]
[null,null,null,{"$f":"COUNTIF('یکسان سازی برند'!C:C,'موجودی خام اولیه با برندمتفاوت'!C:C)","v":0},"کالای جدید، لطفا در شیت یکسان سازی برند، کد و نام کالا کپی شود"]
[null,null,null,{"$f":"COUNTIF('یکسان سازی برند'!C:C,'موجودی خام اولیه با برندمتفاوت'!C:C)","v":0},"کالای جدید، لطفا در شیت یکسان سازی برند، کد و نام کالا کپی شود"]
[null,null,null,{"$f":"COUNTIF('یکسان سازی برند'!C:C,'موجودی خام اولیه با برندمتفاوت'!C:C)","v":0},"کالای جدید، لطفا در شیت یکسان سازی برند، کد و نام کالا کپی شود"]
[null,null,null,{"$f":"COUNTIF('یکسان سازی برند'!C:C,'موجودی خام اولیه با برندمتفاوت'!C:C)","v":0},"کالای جدید، لطفا در شیت یکسان سازی برند، کد و نام کالا کپی شود"]
[null,null,null,{"$f":"COUNTIF('یکسان سازی برند'!C:C,'موجودی خام اولیه با برندمتفاوت'!C:C)","v":0},"کالای جدید، لطفا در شیت یکسان سازی برند، کد و نام کالا کپی شود"]
[null,null,null,{"$f":"COUNTIF('یکسان سازی برند'!C:C,'موجودی خام اولیه با برندمتفاوت'!C:C)","v":0},"کالای جدید، لطفا در شیت یکسان سازی برند، کد و نام کالا کپی شود"]
[null,null,null,{"$f":"COUNTIF('یکسان سازی برند'!C:C,'موجودی خام اولیه با برندمتفاوت'!C:C)","v":0},"کالای جدید، لطفا در شیت یکسان سازی برند، کد و نام کالا کپی شود"]
[null,null,null,{"$f":"COUNTIF('یکسان سازی برند'!C:C,'موجودی خام اولیه با برندمتفاوت'!C:C)","v":0},"کالای جدید، لطفا در شیت یکسان سازی برند، کد و نام کالا کپی شود"]
[null,null,null,{"$f":"COUNTIF('یکسان سازی برند'!C:C,'موجودی خام اولیه با برندمتفاوت'!C:C)","v":0},"کالای جدید، لطفا در شیت یکسان سازی برند، کد و نام کالا کپی شود"]
[null,null,null,{"$f":"COUNTIF('یکسان سازی برند'!C:C,'موجودی خام اولیه با برندمتفاوت'!C:C)","v":0},"کالای جدید، لطفا در شیت یکسان سازی برند، کد و نام کالا کپی شود"]
[null,null,null,{"$f":"COUNTIF('یکسان سازی برند'!C:C,'موجودی خام اولیه با برندمتفاوت'!C:C)","v":0},"کالای جدید، لطفا در شیت یکسان سازی برند، کد و نام کالا کپی شود"]
[null,null,null,{"$f":"COUNTIF('یکسان سازی برند'!C:C,'موجودی خام اولیه با برندمتفاوت'!C:C)","v":0},"کالای جدید، لطفا در شیت یکسان سازی برند، کد و نام کالا کپی شود"]
[null,null,null,{"$f":"COUNTIF('یکسان سازی برند'!C:C,'موجودی خام اولیه با برندمتفاوت'!C:C)","v":0},"کالای جدید، لطفا در شیت یکسان سازی برند، کد و نام کالا کپی شود"]
[null,null,null,{"$f":"COUNTIF('یکسان سازی برند'!C:C,'موجودی خام اولیه با برندمتفاوت'!C:C)","v":0},"کالای جدید، لطفا در شیت یکسان سازی برند، کد و نام کالا کپی شود"]
[null,null,null,{"$f":"COUNTIF('یکسان سازی برند'!C:C,'موجودی خام اولیه با برندمتفاوت'!C:C)","v":0},"کالای جدید، لطفا در شیت یکسان سازی برند، کد و نام کالا کپی شود"]
[null,null,null,{"$f":"COUNTIF('یکسان سازی برند'!C:C,'موجودی خام اولیه با برندمتفاوت'!C:C)","v":0},"کالای جدید، لطفا در شیت یکسان سازی برند، کد و نام کالا کپی شود"]
[null,null,null,{"$f":"COUNTIF('یکسان سازی برند'!C:C,'موجودی خام اولیه با برندمتفاوت'!C:C)","v":0},"کالای جدید، لطفا در شیت یکسان سازی برند، کد و نام کالا کپی شود"]
[null,null,null,{"$f":"COUNTIF('یکسان سازی برند'!C:C,'موجودی خام اولیه با برندمتفاوت'!C:C)","v":0},"کالای جدید، لطفا در شیت یکسان سازی برند، کد و نام کالا کپی شود"]
[null,null,null,{"$f":"COUNTIF('یکسان سازی برند'!C:C,'موجودی خام اولیه با برندمتفاوت'!C:C)","v":0},"کالای جدید، لطفا در شیت یکسان سازی برند، کد و نام کالا کپی شود"]
[null,null,null,{"$f":"COUNTIF('یکسان سازی برند'!C:C,'موجودی خام اولیه با برندمتفاوت'!C:C)","v":0},"کالای جدید، لطفا در شیت یکسان سازی برند، کد و نام کالا کپی شود"]
[null,null,null,{"$f":"COUNTIF('یکسان سازی برند'!C:C,'موجودی خام اولیه با برندمتفاوت'!C:C)","v":0},"کالای جدید، لطفا در شیت یکسان سازی برند، کد و نام کالا کپی شود"]
[null,null,null,{"$f":"COUNTIF('یکسان سازی برند'!C:C,'موجودی خام اولیه با برندمتفاوت'!C:C)","v":0},"کالای جدید، لطفا در شیت یکسان سازی برند، کد و نام کالا کپی شود"]
[null,null,null,{"$f":"COUNTIF('یکسان سازی برند'!C:C,'موجودی خام اولیه با برندمتفاوت'!C:C)","v":0},"کالای جدید، لطفا در شیت یکسان سازی برند، کد و نام کالا کپی شود"]
[null,null,null,{"$f":"COUNTIF('یکسان سازی برند'!C:C,'موجودی خام اولیه با برندمتفاوت'!C:C)","v":0},"کالای جدید، لطفا در شیت یکسان سازی برند، کد و نام کالا کپی شود"]
[null,null,null,{"$f":"COUNTIF('یکسان سازی برند'!C:C,'موجودی خام اولیه با برندمتفاوت'!C:C)","v":0},"کالای جدید، لطفا در شیت یکسان سازی برند، کد و نام کالا کپی شود"]
[null,null,null,{"$f":"COUNTIF('یکسان سازی برند'!C:C,'موجودی خام اولیه با برندمتفاوت'!C:C)","v":0},"کالای جدید، لطفا در شیت یکسان سازی برند، کد و نام کالا کپی شود"]
[null,null,null,{"$f":"COUNTIF('یکسان سازی برند'!C:C,'موجودی خام اولیه با برندمتفاوت'!C:C)","v":0},"کالای جدید، لطفا در شیت یکسان سازی برند، کد و نام کالا کپی شود"]
[null,null,null,{"$f":"COUNTIF('یکسان سازی برند'!C:C,'موجودی خام اولیه با برندمتفاوت'!C:C)","v":0},"کالای جدید، لطفا در شیت یکسان سازی برند، کد و نام کالا کپی شود"]
[null,null,null,{"$f":"COUNTIF('یکسان سازی برند'!C:C,'موجودی خام اولیه با برندمتفاوت'!C:C)","v":0},"کالای جدید، لطفا در شیت یکسان سازی برند، کد و نام کالا کپی شود"]
[null,null,null,{"$f":"COUNTIF('یکسان سازی برند'!C:C,'موجودی خام اولیه با برندمتفاوت'!C:C)","v":0},"کالای جدید، لطفا در شیت یکسان سازی برند، کد و نام کالا کپی شود"]
[null,null,null,{"$f":"COUNTIF('یکسان سازی برند'!C:C,'موجودی خام اولیه با برندمتفاوت'!C:C)","v":0},"کالای جدید، لطفا در شیت یکسان سازی برند، کد و نام کالا کپی شود"]
[null,null,null,{"$f":"COUNTIF('یکسان سازی برند'!C:C,'موجودی خام اولیه با برندمتفاوت'!C:C)","v":0},"کالای جدید، لطفا در شیت یکسان سازی برند، کد و نام کالا کپی شود"]
[null,null,null,{"$f":"COUNTIF('یکسان سازی برند'!C:C,'موجودی خام اولیه با برندمتفاوت'!C:C)","v":0},"کالای جدید، لطفا در شیت یکسان سازی برند، کد و نام کالا کپی شود"]
[null,null,null,{"$f":"COUNTIF('یکسان سازی برند'!C:C,'موجودی خام اولیه با برندمتفاوت'!C:C)","v":0},"کالای جدید، لطفا در شیت یکسان سازی برند، کد و نام کالا کپی شود"]
[null,null,null,{"$f":"COUNTIF('یکسان سازی برند'!C:C,'موجودی خام اولیه با برندمتفاوت'!C:C)","v":0},"کالای جدید، لطفا در شیت یکسان سازی برند، کد و نام کالا کپی شود"]
[null,null,null,{"$f":"COUNTIF('یکسان سازی برند'!C:C,'موجودی خام اولیه با برندمتفاوت'!C:C)","v":0},"کالای جدید، لطفا در شیت یکسان سازی برند، کد و نام کالا کپی شود"]
[null,null,null,{"$f":"COUNTIF('یکسان سازی برند'!C:C,'موجودی خام اولیه با برندمتفاوت'!C:C)","v":0},"کالای جدید، لطفا در شیت یکسان سازی برند، کد و نام کالا کپی شود"]
[null,null,null,{"$f":"COUNTIF('یکسان سازی برند'!C:C,'موجودی خام اولیه با برندمتفاوت'!C:C)","v":0},"کالای جدید، لطفا در شیت یکسان سازی برند، کد و نام کالا کپی شود"]
[null,null,null,{"$f":"COUNTIF('یکسان سازی برند'!C:C,'موجودی خام اولیه با برندمتفاوت'!C:C)","v":0},"کالای جدید، لطفا در شیت یکسان سازی برند، کد و نام کالا کپی شود"]
[null,null,null,{"$f":"COUNTIF('یکسان سازی برند'!C:C,'موجودی خام اولیه با برندمتفاوت'!C:C)","v":0},"کالای جدید، لطفا در شیت یکسان سازی برند، کد و نام کالا کپی شود"]
[null,null,null,{"$f":"COUNTIF('یکسان سازی برند'!C:C,'موجودی خام اولیه با برندمتفاوت'!C:C)","v":0},"کالای جدید، لطفا در شیت یکسان سازی برند، کد و نام کالا کپی شود"]
[null,null,null,{"$f":"COUNTIF('یکسان سازی برند'!C:C,'موجودی خام اولیه با برندمتفاوت'!C:C)","v":0},"کالای جدید، لطفا در شیت یکسان سازی برند، کد و نام کالا کپی شود"]
[null,null,null,{"$f":"COUNTIF('یکسان سازی برند'!C:C,'موجودی خام اولیه با برندمتفاوت'!C:C)","v":0},"کالای جدید، لطفا در شیت یکسان سازی برند، کد و نام کالا کپی شود"]
[null,null,null,{"$f":"COUNTIF('یکسان سازی برند'!C:C,'موجودی خام اولیه با برندمتفاوت'!C:C)","v":0},"کالای جدید، لطفا در شیت یکسان سازی برند، کد و نام کالا کپی شود"]
[null,null,null,{"$f":"COUNTIF('یکسان سازی برند'!C:C,'موجودی خام اولیه با برندمتفاوت'!C:C)","v":0},"کالای جدید، لطفا در شیت یکسان سازی برند، کد و نام کالا کپی شود"]
[null,null,null,{"$f":"COUNTIF('یکسان سازی برند'!C:C,'موجودی خام اولیه با برندمتفاوت'!C:C)","v":0},"کالای جدید، لطفا در شیت یکسان سازی برند، کد و نام کالا کپی شود"]
[null,null,null,{"$f":"COUNTIF('یکسان سازی برند'!C:C,'موجودی خام اولیه با برندمتفاوت'!C:C)","v":0},"کالای جدید، لطفا در شیت یکسان سازی برند، کد و نام کالا کپی شود"]
[null,null,null,{"$f":"COUNTIF('یکسان سازی برند'!C:C,'موجودی خام اولیه با برندمتفاوت'!C:C)","v":0},"کالای جدید، لطفا در شیت یکسان سازی برند، کد و نام کالا کپی شود"]
[null,null,null,{"$f":"COUNTIF('یکسان سازی برند'!C:C,'موجودی خام اولیه با برندمتفاوت'!C:C)","v":0},"کالای جدید، لطفا در شیت یکسان سازی برند، کد و نام کالا کپی شود"]
[null,null,null,{"$f":"COUNTIF('یکسان سازی برند'!C:C,'موجودی خام اولیه با برندمتفاوت'!C:C)","v":0},"کالای جدید، لطفا در شیت یکسان سازی برند، کد و نام کالا کپی شود"]
[null,null,null,{"$f":"COUNTIF('یکسان سازی برند'!C:C,'موجودی خام اولیه با برندمتفاوت'!C:C)","v":0},"کالای جدید، لطفا در شیت یکسان سازی برند، کد و نام کالا کپی شود"]
[null,null,null,{"$f":"COUNTIF('یکسان سازی برند'!C:C,'موجودی خام اولیه با برندمتفاوت'!C:C)","v":0},"کالای جدید، لطفا در شیت یکسان سازی برند، کد و نام کالا کپی شود"]
[null,null,null,{"$f":"COUNTIF('یکسان سازی برند'!C:C,'موجودی خام اولیه با برندمتفاوت'!C:C)","v":0},"کالای جدید، لطفا در شیت یکسان سازی برند، کد و نام کالا کپی شود"]
[null,null,null,{"$f":"COUNTIF('یکسان سازی برند'!C:C,'موجودی خام اولیه با برندمتفاوت'!C:C)","v":0},"کالای جدید، لطفا در شیت یکسان سازی برند، کد و نام کالا کپی شود"]
[null,null,null,{"$f":"COUNTIF('یکسان سازی برند'!C:C,'موجودی خام اولیه با برندمتفاوت'!C:C)","v":0},"کالای جدید، لطفا در شیت یکسان سازی برند، کد و نام کالا کپی شود"]
[null,null,null,{"$f":"COUNTIF('یکسان سازی برند'!C:C,'موجودی خام اولیه با برندمتفاوت'!C:C)","v":0},"کالای جدید، لطفا در شیت یکسان سازی برند، کد و نام کالا کپی شود"]
[null,null,null,{"$f":"COUNTIF('یکسان سازی برند'!C:C,'موجودی خام اولیه با برندمتفاوت'!C:C)","v":0},"کالای جدید، لطفا در شیت یکسان سازی برند، کد و نام کالا کپی شود"]
[null,null,null,{"$f":"COUNTIF('یکسان سازی برند'!C:C,'موجودی خام اولیه با برندمتفاوت'!C:C)","v":0},"کالای جدید، لطفا در شیت یکسان سازی برند، کد و نام کالا کپی شود"]
[null,null,null,{"$f":"COUNTIF('یکسان سازی برند'!C:C,'موجودی خام اولیه با برندمتفاوت'!C:C)","v":0},"کالای جدید، لطفا در شیت یکسان سازی برند، کد و نام کالا کپی شود"]
[null,null,null,{"$f":"COUNTIF('یکسان سازی برند'!C:C,'موجودی خام اولیه با برندمتفاوت'!C:C)","v":0},"کالای جدید، لطفا در شیت یکسان سازی برند، کد و نام کالا کپی شود"]
[null,null,null,{"$f":"COUNTIF('یکسان سازی برند'!C:C,'موجودی خام اولیه با برندمتفاوت'!C:C)","v":0},"کالای جدید، لطفا در شیت یکسان سازی برند، کد و نام کالا کپی شود"]
[null,null,null,{"$f":"COUNTIF('یکسان سازی برند'!C:C,'موجودی خام اولیه با برندمتفاوت'!C:C)","v":0},{"$f":"IF(D:D=0,\"کالای جدید، لطفا در شیت یکسان سازی برند، کد و نام کالا کپی شود\",\"\")","v":"کالای جدید، لطفا در شیت یکسان سازی برند، کد و نام کالا کپی شود"}]
[null,null,null,{"$f":"COUNTIF('یکسان سازی برند'!C:C,'موجودی خام اولیه با برندمتفاوت'!C:C)","v":0},"کالای جدید، لطفا در شیت یکسان سازی برند، کد و نام کالا کپی شود"]
[null,null,null,{"$f":"COUNTIF('یکسان سازی برند'!C:C,'موجودی خام اولیه با برندمتفاوت'!C:C)","v":0},"کالای جدید، لطفا در شیت یکسان سازی برند، کد و نام کالا کپی شود"]
[null,null,null,{"$f":"COUNTIF('یکسان سازی برند'!C:C,'موجودی خام اولیه با برندمتفاوت'!C:C)","v":0},"کالای جدید، لطفا در شیت یکسان سازی برند، کد و نام کالا کپی شود"]
[null,null,null,{"$f":"COUNTIF('یکسان سازی برند'!C:C,'موجودی خام اولیه با برندمتفاوت'!C:C)","v":0},"کالای جدید، لطفا در شیت یکسان سازی برند، کد و نام کالا کپی شود"]
[null,null,null,{"$f":"COUNTIF('یکسان سازی برند'!C:C,'موجودی خام اولیه با برندمتفاوت'!C:C)","v":0},"کالای جدید، لطفا در شیت یکسان سازی برند، کد و نام کالا کپی شود"]
[null,null,null,{"$f":"COUNTIF('یکسان سازی برند'!C:C,'موجودی خام اولیه با برندمتفاوت'!C:C)","v":0},"کالای جدید، لطفا در شیت یکسان سازی برند، کد و نام کالا کپی شود"]
[null,null,null,{"$f":"COUNTIF('یکسان سازی برند'!C:C,'موجودی خام اولیه با برندمتفاوت'!C:C)","v":0},"کالای جدید، لطفا در شیت یکسان سازی برند، کد و نام کالا کپی شود"]
[null,null,null,{"$f":"COUNTIF('یکسان سازی برند'!C:C,'موجودی خام اولیه با برندمتفاوت'!C:C)","v":0},"کالای جدید، لطفا در شیت یکسان سازی برند، کد و نام کالا کپی شود"]
[null,null,null,{"$f":"COUNTIF('یکسان سازی برند'!C:C,'موجودی خام اولیه با برندمتفاوت'!C:C)","v":0},"کالای جدید، لطفا در شیت یکسان سازی برند، کد و نام کالا کپی شود"]
[null,null,null,{"$f":"COUNTIF('یکسان سازی برند'!C:C,'موجودی خام اولیه با برندمتفاوت'!C:C)","v":0},"کالای جدید، لطفا در شیت یکسان سازی برند، کد و نام کالا کپی شود"]
[null,null,null,{"$f":"COUNTIF('یکسان سازی برند'!C:C,'موجودی خام اولیه با برندمتفاوت'!C:C)","v":0},"کالای جدید، لطفا در شیت یکسان سازی برند، کد و نام کالا کپی شود"]
[null,null,null,{"$f":"COUNTIF('یکسان سازی برند'!C:C,'موجودی خام اولیه با برندمتفاوت'!C:C)","v":0},"کالای جدید، لطفا در شیت یکسان سازی برند، کد و نام کالا کپی شود"]
[null,null,null,{"$f":"COUNTIF('یکسان سازی برند'!C:C,'موجودی خام اولیه با برندمتفاوت'!C:C)","v":0},"کالای جدید، لطفا در شیت یکسان سازی برند، کد و نام کالا کپی شود"]
[null,null,null,{"$f":"COUNTIF('یکسان سازی برند'!C:C,'موجودی خام اولیه با برندمتفاوت'!C:C)","v":0},"کالای جدید، لطفا در شیت یکسان سازی برند، کد و نام کالا کپی شود"]
[null,null,null,{"$f":"COUNTIF('یکسان سازی برند'!C:C,'موجودی خام اولیه با برندمتفاوت'!C:C)","v":0},"کالای جدید، لطفا در شیت یکسان سازی برند، کد و نام کالا کپی شود"]
[null,null,null,{"$f":"COUNTIF('یکسان سازی برند'!C:C,'موجودی خام اولیه با برندمتفاوت'!C:C)","v":0},"کالای جدید، لطفا در شیت یکسان سازی برند، کد و نام کالا کپی شود"]
[null,null,null,{"$f":"COUNTIF('یکسان سازی برند'!C:C,'موجودی خام اولیه با برندمتفاوت'!C:C)","v":0},"کالای جدید، لطفا در شیت یکسان سازی برند، کد و نام کالا کپی شود"]
[null,null,null,{"$f":"COUNTIF('یکسان سازی برند'!C:C,'موجودی خام اولیه با برندمتفاوت'!C:C)","v":0},"کالای جدید، لطفا در شیت یکسان سازی برند، کد و نام کالا کپی شود"]
[null,null,null,{"$f":"COUNTIF('یکسان سازی برند'!C:C,'موجودی خام اولیه با برندمتفاوت'!C:C)","v":0},"کالای جدید، لطفا در شیت یکسان سازی برند، کد و نام کالا کپی شود"]
[null,null,null,{"$f":"COUNTIF('یکسان سازی برند'!C:C,'موجودی خام اولیه با برندمتفاوت'!C:C)","v":0},"کالای جدید، لطفا در شیت یکسان سازی برند، کد و نام کالا کپی شود"]
[null,null,null,{"$f":"COUNTIF('یکسان سازی برند'!C:C,'موجودی خام اولیه با برندمتفاوت'!C:C)","v":0},"کالای جدید، لطفا در شیت یکسان سازی برند، کد و نام کالا کپی شود"]
[null,null,null,{"$f":"COUNTIF('یکسان سازی برند'!C:C,'موجودی خام اولیه با برندمتفاوت'!C:C)","v":0},"کالای جدید، لطفا در شیت یکسان سازی برند، کد و نام کالا کپی شود"]
[null,null,null,{"$f":"COUNTIF('یکسان سازی برند'!C:C,'موجودی خام اولیه با برندمتفاوت'!C:C)","v":0},"کالای جدید، لطفا در شیت یکسان سازی برند، کد و نام کالا کپی شود"]
[null,null,null,{"$f":"COUNTIF('یکسان سازی برند'!C:C,'موجودی خام اولیه با برندمتفاوت'!C:C)","v":0},"کالای جدید، لطفا در شیت یکسان سازی برند، کد و نام کالا کپی شود"]
[null,null,null,{"$f":"COUNTIF('یکسان سازی برند'!C:C,'موجودی خام اولیه با برندمتفاوت'!C:C)","v":0},"کالای جدید، لطفا در شیت یکسان سازی برند، کد و نام کالا کپی شود"]
[null,null,null,{"$f":"COUNTIF('یکسان سازی برند'!C:C,'موجودی خام اولیه با برندمتفاوت'!C:C)","v":0},"کالای جدید، لطفا در شیت یکسان سازی برند، کد و نام کالا کپی شود"]
[null,null,null,{"$f":"COUNTIF('یکسان سازی برند'!C:C,'موجودی خام اولیه با برندمتفاوت'!C:C)","v":0},"کالای جدید، لطفا در شیت یکسان سازی برند، کد و نام کالا کپی شود"]
[null,null,null,{"$f":"COUNTIF('یکسان سازی برند'!C:C,'موجودی خام اولیه با برندمتفاوت'!C:C)","v":0},"کالای جدید، لطفا در شیت یکسان سازی برند، کد و نام کالا کپی شود"]
[null,null,null,{"$f":"COUNTIF('یکسان سازی برند'!C:C,'موجودی خام اولیه با برندمتفاوت'!C:C)","v":0},"کالای جدید، لطفا در شیت یکسان سازی برند، کد و نام کالا کپی شود"]
[null,null,null,{"$f":"COUNTIF('یکسان سازی برند'!C:C,'موجودی خام اولیه با برندمتفاوت'!C:C)","v":0},"کالای جدید، لطفا در شیت یکسان سازی برند، کد و نام کالا کپی شود"]
[null,null,null,{"$f":"COUNTIF('یکسان سازی برند'!C:C,'موجودی خام اولیه با برندمتفاوت'!C:C)","v":0},"کالای جدید، لطفا در شیت یکسان سازی برند، کد و نام کالا کپی شود"]
[null,null,null,{"$f":"COUNTIF('یکسان سازی برند'!C:C,'موجودی خام اولیه با برندمتفاوت'!C:C)","v":0},"کالای جدید، لطفا در شیت یکسان سازی برند، کد و نام کالا کپی شود"]
[null,null,null,{"$f":"COUNTIF('یکسان سازی برند'!C:C,'موجودی خام اولیه با برندمتفاوت'!C:C)","v":0},"کالای جدید، لطفا در شیت یکسان سازی برند، کد و نام کالا کپی شود"]
[null,null,null,{"$f":"COUNTIF('یکسان سازی برند'!C:C,'موجودی خام اولیه با برندمتفاوت'!C:C)","v":0},"کالای جدید، لطفا در شیت یکسان سازی برند، کد و نام کالا کپی شود"]
[null,null,null,{"$f":"COUNTIF('یکسان سازی برند'!C:C,'موجودی خام اولیه با برندمتفاوت'!C:C)","v":0},"کالای جدید، لطفا در شیت یکسان سازی برند، کد و نام کالا کپی شود"]
[null,null,null,{"$f":"COUNTIF('یکسان سازی برند'!C:C,'موجودی خام اولیه با برندمتفاوت'!C:C)","v":0},"کالای جدید، لطفا در شیت یکسان سازی برند، کد و نام کالا کپی شود"]
[null,null,null,{"$f":"COUNTIF('یکسان سازی برند'!C:C,'موجودی خام اولیه با برندمتفاوت'!C:C)","v":0},"کالای جدید، لطفا در شیت یکسان سازی برند، کد و نام کالا کپی شود"]
[null,null,null,{"$f":"COUNTIF('یکسان سازی برند'!C:C,'موجودی خام اولیه با برندمتفاوت'!C:C)","v":0},"کالای جدید، لطفا در شیت یکسان سازی برند، کد و نام کالا کپی شود"]
[null,null,null,{"$f":"COUNTIF('یکسان سازی برند'!C:C,'موجودی خام اولیه با برندمتفاوت'!C:C)","v":0},"کالای جدید، لطفا در شیت یکسان سازی برند، کد و نام کالا کپی شود"]
[null,null,null,{"$f":"COUNTIF('یکسان سازی برند'!C:C,'موجودی خام اولیه با برندمتفاوت'!C:C)","v":0},"کالای جدید، لطفا در شیت یکسان سازی برند، کد و نام کالا کپی شود"]
[null,null,null,{"$f":"COUNTIF('یکسان سازی برند'!C:C,'موجودی خام اولیه با برندمتفاوت'!C:C)","v":0},"کالای جدید، لطفا در شیت یکسان سازی برند، کد و نام کالا کپی شود"]
[null,null,null,{"$f":"COUNTIF('یکسان سازی برند'!C:C,'موجودی خام اولیه با برندمتفاوت'!C:C)","v":0},"کالای جدید، لطفا در شیت یکسان سازی برند، کد و نام کالا کپی شود"]
[null,null,null,{"$f":"COUNTIF('یکسان سازی برند'!C:C,'موجودی خام اولیه با برندمتفاوت'!C:C)","v":0},"کالای جدید، لطفا در شیت یکسان سازی برند، کد و نام کالا کپی شود"]
[null,null,null,{"$f":"COUNTIF('یکسان سازی برند'!C:C,'موجودی خام اولیه با برندمتفاوت'!C:C)","v":0},"کالای جدید، لطفا در شیت یکسان سازی برند، کد و نام کالا کپی شود"]
[null,null,null,{"$f":"COUNTIF('یکسان سازی برند'!C:C,'موجودی خام اولیه با برندمتفاوت'!C:C)","v":0},"کالای جدید، لطفا در شیت یکسان سازی برند، کد و نام کالا کپی شود"]
[null,null,null,{"$f":"COUNTIF('یکسان سازی برند'!C:C,'موجودی خام اولیه با برندمتفاوت'!C:C)","v":0},"کالای جدید، لطفا در شیت یکسان سازی برند، کد و نام کالا کپی شود"]
[null,null,null,{"$f":"COUNTIF('یکسان سازی برند'!C:C,'موجودی خام اولیه با برندمتفاوت'!C:C)","v":0},"کالای جدید، لطفا در شیت یکسان سازی برند، کد و نام کالا کپی شود"]
[null,null,null,{"$f":"COUNTIF('یکسان سازی برند'!C:C,'موجودی خام اولیه با برندمتفاوت'!C:C)","v":0},"کالای جدید، لطفا در شیت یکسان سازی برند، کد و نام کالا کپی شود"]
[null,null,null,{"$f":"COUNTIF('یکسان سازی برند'!C:C,'موجودی خام اولیه با برندمتفاوت'!C:C)","v":0},"کالای جدید، لطفا در شیت یکسان سازی برند، کد و نام کالا کپی شود"]
[null,null,null,{"$f":"COUNTIF('یکسان سازی برند'!C:C,'موجودی خام اولیه با برندمتفاوت'!C:C)","v":0},"کالای جدید، لطفا در شیت یکسان سازی برند، کد و نام کالا کپی شود"]
[null,null,null,{"$f":"COUNTIF('یکسان سازی برند'!C:C,'موجودی خام اولیه با برندمتفاوت'!C:C)","v":0},"کالای جدید، لطفا در شیت یکسان سازی برند، کد و نام کالا کپی شود"]
[null,null,null,{"$f":"COUNTIF('یکسان سازی برند'!C:C,'موجودی خام اولیه با برندمتفاوت'!C:C)","v":0},"کالای جدید، لطفا در شیت یکسان سازی برند، کد و نام کالا کپی شود"]
[null,null,null,{"$f":"COUNTIF('یکسان سازی برند'!C:C,'موجودی خام اولیه با برندمتفاوت'!C:C)","v":0},"کالای جدید، لطفا در شیت یکسان سازی برند، کد و نام کالا کپی شود"]
[null,null,null,{"$f":"COUNTIF('یکسان سازی برند'!C:C,'موجودی خام اولیه با برندمتفاوت'!C:C)","v":0},"کالای جدید، لطفا در شیت یکسان سازی برند، کد و نام کالا کپی شود"]
[null,null,null,{"$f":"COUNTIF('یکسان سازی برند'!C:C,'موجودی خام اولیه با برندمتفاوت'!C:C)","v":0},"کالای جدید، لطفا در شیت یکسان سازی برند، کد و نام کالا کپی شود"]
[null,null,null,{"$f":"COUNTIF('یکسان سازی برند'!C:C,'موجودی خام اولیه با برندمتفاوت'!C:C)","v":0},"کالای جدید، لطفا در شیت یکسان سازی برند، کد و نام کالا کپی شود"]
[null,null,null,{"$f":"COUNTIF('یکسان سازی برند'!C:C,'موجودی خام اولیه با برندمتفاوت'!C:C)","v":0},"کالای جدید، لطفا در شیت یکسان سازی برند، کد و نام کالا کپی شود"]
[null,null,null,{"$f":"COUNTIF('یکسان سازی برند'!C:C,'موجودی خام اولیه با برندمتفاوت'!C:C)","v":0},"کالای جدید، لطفا در شیت یکسان سازی برند، کد و نام کالا کپی شود"]
[null,null,null,{"$f":"COUNTIF('یکسان سازی برند'!C:C,'موجودی خام اولیه با برندمتفاوت'!C:C)","v":0},"کالای جدید، لطفا در شیت یکسان سازی برند، کد و نام کالا کپی شود"]
[null,null,null,{"$f":"COUNTIF('یکسان سازی برند'!C:C,'موجودی خام اولیه با برندمتفاوت'!C:C)","v":0},"کالای جدید، لطفا در شیت یکسان سازی برند، کد و نام کالا کپی شود"]
[null,null,null,{"$f":"COUNTIF('یکسان سازی برند'!C:C,'موجودی خام اولیه با برندمتفاوت'!C:C)","v":0},"کالای جدید، لطفا در شیت یکسان سازی برند، کد و نام کالا کپی شود"]
[null,null,null,{"$f":"COUNTIF('یکسان سازی برند'!C:C,'موجودی خام اولیه با برندمتفاوت'!C:C)","v":0},"کالای جدید، لطفا در شیت یکسان سازی برند، کد و نام کالا کپی شود"]
[null,null,null,{"$f":"COUNTIF('یکسان سازی برند'!C:C,'موجودی خام اولیه با برندمتفاوت'!C:C)","v":0},"کالای جدید، لطفا در شیت یکسان سازی برند، کد و نام کالا کپی شود"]
[null,null,null,{"$f":"COUNTIF('یکسان سازی برند'!C:C,'موجودی خام اولیه با برندمتفاوت'!C:C)","v":0},{"$f":"IF(D:D=0,\"کالای جدید، لطفا در شیت یکسان سازی برند، کد و نام کالا کپی شود\",\"\")","v":"کالای جدید، لطفا در شیت یکسان سازی برند، کد و نام کالا کپی شود"}]
[null,null,null,{"$f":"COUNTIF('یکسان سازی برند'!C:C,'موجودی خام اولیه با برندمتفاوت'!C:C)","v":0},"کالای جدید، لطفا در شیت یکسان سازی برند، کد و نام کالا کپی شود"]
[null,null,null,{"$f":"COUNTIF('یکسان سازی برند'!C:C,'موجودی خام اولیه با برندمتفاوت'!C:C)","v":0},"کالای جدید، لطفا در شیت یکسان سازی برند، کد و نام کالا کپی شود"]
[null,null,null,{"$f":"COUNTIF('یکسان سازی برند'!C:C,'موجودی خام اولیه با برندمتفاوت'!C:C)","v":0},"کالای جدید، لطفا در شیت یکسان سازی برند، کد و نام کالا کپی شود"]
[null,null,null,null,"کالای جدید، لطفا در شیت یکسان سازی برند، کد و نام کالا کپی شود"]
[null,null,null,null,"کالای جدید، لطفا در شیت یکسان سازی برند، کد و نام کالا کپی شود"]
[null,null,null,null,"کالای جدید، لطفا در شیت یکسان سازی برند، کد و نام کالا کپی شود"]
[null,null,null,null,"کالای جدید، لطفا در شیت یکسان سازی برند، کد و نام کالا کپی شود"]
[null,null,null,null,"کالای جدید، لطفا در شیت یکسان سازی برند، کد و نام کالا کپی شود"]
[null,null,null,null,"کالای جدید، لطفا در شیت یکسان سازی برند، کد و نام کالا کپی شود"]
[null,null,null,null,"کالای جدید، لطفا در شیت یکسان سازی برند، کد و نام کالا کپی شود"]
[null,null,null,null,"کالای جدید، لطفا در شیت یکسان سازی برند، کد و نام کالا کپی شود"]
[null,null,null,null,"کالای جدید، لطفا در شیت یکسان سازی برند، کد و نام کالا کپی شود"]
[null,null,null,null,"کالای جدید، لطفا در شیت یکسان سازی برند، کد و نام کالا کپی شود"]